BEGIN:VCALENDAR
VERSION:2.0
PRODID:-//wp-events-plugin.com//7.2.3.1//EN
TZID:Europe/Rome
X-WR-TIMEZONE:Europe/Rome
BEGIN:VEVENT
UID:31871@lazioeventi.com
DTSTART;TZID=Europe/Rome;VALUE=DATE:20220804
DTEND;TZID=Europe/Rome;VALUE=DATE:20220905
DTSTAMP:20220803T082903Z
URL:https://lazioeventi.com/eventi/restate-a-manziana
SUMMARY:Restate a Manziana - Manziana - 4 Agosto 22 00:00
DESCRIPTION:Ricco il programma di questa estate a Manziana: musica\, cinema
 \, divertimento\, gastronomia e tanto altro.\n\nSi inizia con la Sagra de 
 li Lombrichi\, una pasta tipica.\n\nTanta musica e tanto cinema.\n\nPer il
  puro divertimento ci sarà anche il ManzianaFest con DJ\, vocalist\, perf
 ormance e schiuma party.\n\nL'estate si concluderà con i festeggiamenti i
 n onore a San Giovanni.\n\n[gallery link="file" ids="154911\,154909\,15490
 8"]
ATTACH;FMTTYPE=image/jpeg:https://lazioeventi.com/wp-content/uploads/2022/
 08/restate-a-manziana.jpg
CATEGORIES:Musica, Spettacoli e Danza nel Lazio,Sagre, Gastronomia e
 Tradizioni nel Lazio,Varie
LOCATION:Manziana\, Comune di Manziana\, Manziana\, Roma\, Lazio\, Italia
GEO:42.1301;12.1301
X-APPLE-STRUCTURED-LOCATION;VALUE=URI;X-ADDRESS=Comune di Manziana\, Manzia
 na\, Roma\, Lazio\, Italia;X-APPLE-RADIUS=100;X-TITLE=Manziana:geo:42.1301
 ,12.1301
END:VEVENT
BEGIN:VTIMEZONE
TZID:Europe/Rome
X-LIC-LOCATION:Europe/Rome
BEGIN:DAYLIGHT
DTSTART:20220327T030000
TZOFFSETFROM:+0100
TZOFFSETTO:+0200
TZNAME:CEST
END:DAYLIGHT
END:VTIMEZONE
END:VCALENDAR