BEGIN:VCALENDAR
VERSION:2.0
PRODID:-//wp-events-plugin.com//7.2.3.1//EN
TZID:Europe/Rome
X-WR-TIMEZONE:Europe/Rome
BEGIN:VEVENT
UID:29173@lazioeventi.com
DTSTART;TZID=Europe/Rome:20211127T153000
DTEND;TZID=Europe/Rome:20211128T220000
DTSTAMP:20211116T094827Z
URL:https://lazioeventi.com/eventi/retro-wine-festival-2021
SUMMARY:Retrò Wine Festival 2021 - Terracina - 27 Novembre 21 15:30
DESCRIPTION:Retrò Wine Festival 2021: due giorni completamente dedicati al
  vino naturale\, tra workshop\, musica e visite guidate nei sentieri di Te
 rracina.\n\nLa città di Terracina si prepara ad accogliere il Retrò Wine
  Festival 2021\, l’evento completamente dedicato al vino naturale che pu
 nta i riflettori sulla genuinità italiana.\n\nL’iniziativa avrà luogo 
 sabato 27 e domenica 28 novembre in una particolarissima chiesa del XIII s
 ecolo che sorge proprio al centro storico della città.\n\nQuello del 27 n
 ovembre sarà un weekend dedicato alla scoperta dei vini naturali provenie
 nti dal centro e dal sud Italia.\n\nIl festival si concretizza come occasi
 one perfetta per portare all’attenzione di tutti\, la qualità e la genu
 inità dei prodotti locali\, oltre\, naturalmente\, alla finalità di porr
 e in vetrina l’impegno di un settore che a causa della pandemia continua
  a vivere un momento di profonda difficoltà.\n\nIl Retrò Wine Festival 2
 021 non è un semplice evento ma una vera e propria esperienza da vivere e
  condividere con amici e familiari.\n\nI presenti\, potranno partecipare a
  degustazioni\, workshop formativi ed incontri divulgativi con ospiti di e
 ccezione come:\n\n 	SANDRO SANGIORGI (ASSOCIAZIONE CULTURALE PORTHOS RACCO
 NTA - www.porthos.it)\;\n 	GAE SACCOCCIO (www.naturadellecose.com).\n\n&nb
 sp\;\n\nInoltre\, nel corso dell’evento sarà possibile effettuare una v
 isita guidata nelle suggestive vie del centro storico\, in compagnia di EL
 IA LOCATELLI.\n\nNon perdere l’occasione di partecipare al tuo workshop\
 , sono disponibili soltanto 30 posti e nel biglietto del workshop è compr
 eso anche il biglietto d’ingresso alla degustazione.\n\nSaranno disponib
 ili due lezioni\, entrambe accompagnate da una degustazione guidata di vin
 i selezionati.\n\nIL SENSO ED IL SIGNIFICATO\n\nSabato 27 Novembre – a c
 ura di Sandro Sangiorgi – ore 15:30 -17:30.\n\nLA CAMPAGNA NEL BICCHIERE
 \n\nDomenica 28 Novembre – a cura di Gae Saccoccio – ore 15:30 – 17:
 30.\n\nCOSTO PER LEZIONE:\n\n1 lezione – 65 €\n\n2 Lezioni – 100 €
 \n\nCOSTO DEL BIGLIETTO SINGOLO DI INGRESSO\n\n15\,00 €\, da acquistare 
 online al seguente link: https://www.diyticket.it/events/Fiere/5757/retro-
 wine.\n\nVISITA GUIDATA CENTRO STORICO DI TERRACINA \n\n- Domenica 28 Nov
 embre | orario 11:30 – 12:30 | costo 8 €.\n\n&nbsp\;\n\nPer ulteriori 
 info: 3471789530.\n\nEvento Facebook: https://www.facebook.com/events/1146
 622445845175/\n\nPagina Facebook: https://www.facebook.com/retrofestivalit
 alia/\n\n&nbsp\;
ATTACH;FMTTYPE=image/jpeg:https://lazioeventi.com/wp-content/uploads/2021/
 11/Sponsors-Web-Orizzontale-min.jpg
CATEGORIES:Sagre, Gastronomia e Tradizioni nel Lazio
LOCATION:Terracina\, Comune\, Terracina\, Latina\, Lazio\, Italia
GEO:41.2912;13.2492
X-APPLE-STRUCTURED-LOCATION;VALUE=URI;X-ADDRESS=Comune\, Terracina\, Latina
 \, Lazio\, Italia;X-APPLE-RADIUS=100;X-TITLE=Terracina:geo:41.2912,13.2492
END:VEVENT
BEGIN:VTIMEZONE
TZID:Europe/Rome
X-LIC-LOCATION:Europe/Rome
BEGIN:STANDARD
DTSTART:20211031T020000
TZOFFSETFROM:+0200
TZOFFSETTO:+0100
TZNAME:CET
END:STANDARD
END:VTIMEZONE
END:VCALENDAR