BEGIN:VCALENDAR
VERSION:2.0
PRODID:-//wp-events-plugin.com//7.2.3.1//EN
TZID:Europe/Rome
X-WR-TIMEZONE:Europe/Rome
BEGIN:VEVENT
UID:43482@lazioeventi.com
DTSTART;TZID=Europe/Rome;VALUE=DATE:20251227
DTEND;TZID=Europe/Rome;VALUE=DATE:20260107
DTSTAMP:20251224T211132Z
URL:https://lazioeventi.com/eventi/retrospettiva-di-schiggino-gino-torquat
 i
SUMMARY:Retrospettiva di Schiggino - Gino Torquati - Viterbo - 27 Dicembre 
 25 00:00
DESCRIPTION:Una vita intensa tra mille esperienza\, scherzi e tanti amici. 
 \nSchiggino ha lasciato un segno permanente nella sua Viterbo. Come artist
 a naif ha deliziato fornai\, barbieri\, ristoratori e chiunque lo aiutasse
  con una delle sue creazioni. Tanti aneddoti legati al suo modo unico di i
 nterpretare tutto.  Spesso il protagonista dei racconti a lui dedicati son
 o la sua vespa o il gatto nella radio. Ovviamente lontano da Viterbo vinse
  premi ma di questo non si parla mai.\n\nA Natale 2025\, a Viterbo\, in vi
 a San Lorenzo\, 18 La Retrospettiva a lui dedicata. \n\nVernissage: Sabato
  27 dicembre 2025\, ore 19:00 in compagnia della sorella\, della cugina e 
 di 4 generazioni di Schiggini. \n\nDa un'idea di Paola Pallotta realizzata
  da Tuscia in Fiore.
ATTACH;FMTTYPE=image/jpeg:https://lazioeventi.com/wp-content/uploads/2025/
 12/ba551349-18e7-abb0-c1d0-38b8411b2a2f.jpg
CATEGORIES:Arte e Cultura nel Lazio
LOCATION:Viterbo\, Comune\, Viterbo\, Viterbo\, Lazio\, Italia
GEO:42.417;12.1051
X-APPLE-STRUCTURED-LOCATION;VALUE=URI;X-ADDRESS=Comune\, Viterbo\, Viterbo\
 , Lazio\, Italia;X-APPLE-RADIUS=100;X-TITLE=Viterbo:geo:42.417,12.1051
END:VEVENT
BEGIN:VTIMEZONE
TZID:Europe/Rome
X-LIC-LOCATION:Europe/Rome
BEGIN:STANDARD
DTSTART:20251026T020000
TZOFFSETFROM:+0200
TZOFFSETTO:+0100
TZNAME:CET
END:STANDARD
END:VTIMEZONE
END:VCALENDAR