BEGIN:VCALENDAR
VERSION:2.0
PRODID:-//wp-events-plugin.com//7.2.3.1//EN
TZID:Europe/Rome
X-WR-TIMEZONE:Europe/Rome
BEGIN:VEVENT
UID:26422@lazioeventi.com
DTSTART:20200516T073000Z
DTEND:20200614T183000Z
DTSTAMP:20200525T095437Z
URL:https://lazioeventi.com/eventi/riapre-il-roseto-comunale-primavera
SUMMARY:Riapre il Roseto Comunale - Roma - 16 Maggio 20 08:30
DESCRIPTION:Da sabato 12 a domenica 27 ottobre\, il Roseto di Roma Capitale
  riapre i cancelli in occasione della rifiorenza delle rose. Per due setti
 mane sarà possibile ammirare la fioritura autunnale delle varietà modern
 e e di alcune varietà antiche di una de
CATEGORIES:Varie
LOCATION:Roma\, Via Leopardi\, Roma\, Roma\, Lazio\, Italia
GEO:41.8942;12.5017
X-APPLE-STRUCTURED-LOCATION;VALUE=URI;X-ADDRESS=Via Leopardi\, Roma\, Roma\
 , Lazio\, Italia;X-APPLE-RADIUS=100;X-TITLE=Roma:geo:41.8942,12.5017
END:VEVENT
END:VCALENDAR