BEGIN:VCALENDAR
VERSION:2.0
PRODID:-//wp-events-plugin.com//7.2.3.1//EN
TZID:Europe/Rome
X-WR-TIMEZONE:Europe/Rome
BEGIN:VEVENT
UID:27093@lazioeventi.com
DTSTART;TZID=Europe/Rome:20200812T210000
DTEND;TZID=Europe/Rome:20200812T230000
DTSTAMP:20200721T161840Z
URL:https://lazioeventi.com/eventi/ridere-allitaliana-2020-08-12
SUMMARY:Ridere all'Italiana - Minturno - 12 Agosto 20 21:00
DESCRIPTION:Dal 22 Luglio a 12 Agosto 2020 si svolgerà presso il Cortile d
 ella Parrocchia di San Biagio a Marina di Minturno la seconda edizione del
 la rassegna cinematografica “Ridere all’Italiana”\, organizzata dall
 ’Associazione Culturale “Il Sogno di
ATTACH;FMTTYPE=image/jpeg:https://lazioeventi.com/wp-content/uploads/2020/
 07/ridere-italiana.jpg
CATEGORIES:Musica, Spettacoli e Danza nel Lazio
LOCATION:Minturno\, Comune\, Minturno\, Latina\, Lazio\, Italia
GEO:41.262274;13.746796000000018
X-APPLE-STRUCTURED-LOCATION;VALUE=URI;X-ADDRESS=Comune\, Minturno\, Latina\
 , Lazio\, Italia;X-APPLE-RADIUS=100;X-TITLE=Minturno:geo:41.262274,13.7467
 96000000018
END:VEVENT
BEGIN:VTIMEZONE
TZID:Europe/Rome
X-LIC-LOCATION:Europe/Rome
BEGIN:DAYLIGHT
DTSTART:20200329T030000
TZOFFSETFROM:+0100
TZOFFSETTO:+0200
TZNAME:CEST
END:DAYLIGHT
END:VTIMEZONE
END:VCALENDAR