BEGIN:VCALENDAR
VERSION:2.0
PRODID:-//wp-events-plugin.com//7.2.3.1//EN
TZID:Europe/Rome
X-WR-TIMEZONE:Europe/Rome
BEGIN:VEVENT
UID:34537@lazioeventi.com
DTSTART;TZID=Europe/Rome:20230326T173000
DTEND;TZID=Europe/Rome:20230326T190000
DTSTAMP:20230313T113223Z
URL:https://lazioeventi.com/eventi/rieti-opera-ensemble
SUMMARY:Rieti Opera Ensemble - Rieti - 26 Marzo 23 17:30
DESCRIPTION:Riparte la stagione lirica di Silvia Costanzi e della sua “Ri
 eti Opera Ensemble”\, gruppo nato lo scorso 15 settembre in occasione de
 l concerto-anteprima del concorso lirico internazionale “Mattia Battisti
 ni”. \n\nPrimo appuntamento del 2023 sarà un evento promosso dal “Lio
 ns Club Rieti Varrone” in favore delle vittime del tremendo terremoto ch
 e ha colpito recentemente la Siria e la Turchia\, che si terrà domenica 2
 6 marzo a partire dalle 17\,30 presso l’Auditorium Santa Scolastica di v
 ia Terenzio Varrone 57.\n\nL’ensemble si esibirà in arie e duetti dei p
 iù importanti autori della tradizione operistica italiana ed internaziona
 le. Dal ‘700 mozartiano fino a giungere al Verismo\, Costanzi ed il suo 
 gruppo porteranno in scena brani di Rossini\, Verdi\, Puccini e dei più g
 randi autori del melodramma italiano\, con lo scopo di ottenere il maggior
  contributo di solidarietà possibile dal concerto di beneficenza.\n\nDopo
  l’esordio stagionale\, Costanzi e la sua ensemble torneranno ad esibirs
 i presso il santuario francescano di Poggio Bustone\, bissando l’evento 
 natalizio tenutosi lo scorso dicembre nella chiesa di san Giacomo. Il 2 ap
 rile\, domenica delle Palme\, evento dedicato alla Pasqua con arie che ver
 rano accompagnate dalla lettura della Passione di Gesù secondo Giovanni d
 a parte di Padre Renzo Cocchi. Altro prestigioso evento del mese di aprile
 \, infine\, quello del 22 allorchè “Rieti Opera Ensemble” introdurrà
  – nell’ambito della rassegna “Rieti in scena” con la direzione ar
 tistica di Piero Fasciolo – la “Madama Butterfly” eseguita dai vinci
 tori del concorso internazionale “Mattia Battistini” in forma di conce
 rto sempre presso l’Auditorium Santa Scolastica.
ATTACH;FMTTYPE=image/jpeg:https://lazioeventi.com/wp-content/uploads/2023/
 03/Rieti-Opera-Ensemble.jpg
CATEGORIES:Musica, Spettacoli e Danza nel Lazio
LOCATION:Rieti\, Comune di Rieti\, Rieti\, Rieti\, Lazio\, Italia
GEO:42.403;12.8609
X-APPLE-STRUCTURED-LOCATION;VALUE=URI;X-ADDRESS=Comune di Rieti\, Rieti\, R
 ieti\, Lazio\, Italia;X-APPLE-RADIUS=100;X-TITLE=Rieti:geo:42.403,12.8609
END:VEVENT
BEGIN:VTIMEZONE
TZID:Europe/Rome
X-LIC-LOCATION:Europe/Rome
BEGIN:DAYLIGHT
DTSTART:20230326T030000
TZOFFSETFROM:+0100
TZOFFSETTO:+0200
TZNAME:CEST
END:DAYLIGHT
END:VTIMEZONE
END:VCALENDAR