BEGIN:VCALENDAR
VERSION:2.0
PRODID:-//wp-events-plugin.com//7.2.3.1//EN
TZID:Europe/Rome
X-WR-TIMEZONE:Europe/Rome
BEGIN:VEVENT
UID:32827@lazioeventi.com
DTSTART;TZID=Europe/Rome;VALUE=DATE:20221030
DTEND;TZID=Europe/Rome;VALUE=DATE:20221102
DTSTAMP:20221025T110621Z
URL:https://lazioeventi.com/eventi/rinnovare-la-promessa-di-matrimonio-dav
 anti-a-dracula
SUMMARY:Rinnovare la promessa di matrimonio davanti a Dracula? - Roma - 30 
 Ottobre 22 00:00
DESCRIPTION:Rinnovare la promessa di matrimonio davanti a Dracula? Al Caste
 llo di Lunghezza per Halloween anche l'amore è da paura!\n30 ottobre e 1 
 novembre 2022\n\nIl Conte Dracula è tornato con una missione curiosa e sp
 eciale.  \n\nAl Castello di Lunghezza\, in occasione del Fantastico Mondo
  del Fantastico versione Halloween\, il vampiro più celebre della lettera
 tura ha deciso di venire con la sua sposa\, la pallida compagna Vampirella
 \, per mostrare il suo lato buono e romantico ed invitare i genitori dei p
 iccoli visitatori a rinnovare la loro promessa d’amore per dare il buon 
 esempio ai figli. \nInsomma un “patto di sangue” per confermare che l
 ’amore è il sentimento più importante di tutti e con quello si può sc
 onfiggere qualsiasi paura.  \n\nSe volete rinnovare la vostra promessa e 
 divertirvi  in maschera per vivere in famiglia il vostro "momento special
 e" chiamate lo 06/ 2262880. \n\nDue giornate ricche di divertimento quelle
  che il 30 ottobre e l’1 novembre aspettano gli amanti del genere fanta 
 – horror\, perché al Castello la paura è un pretesto per stare insieme
  in allegria.  \n\nTra un esercito di streghe\, maghi\, fantasmi\, zombie
 s\, zucche animate\, si potrà partecipare al rito delle streghe\, assiste
 re agli esperimenti  del Dott. Frankenstein\, mentre i più audaci potran
 no visitare il villaggio fantasma. Jack O’ Lantern farà rivivere la leg
 genda di Halloween al campo delle zucche e il Cavaliere senza testa combat
 terà contro il mostro del castello\, ma non mancheranno principesse e sup
 ereroi pronti\, come sempre\, a far rivivere le storie de cuore che hanno 
 accompagnato i grandi e che entusiasmano e più piccini. \n\nE per un salu
 to speciale anche Babbo Natale sarà presente per il suo Nat-Halloween. \n
 \nInfo www.fantasticomondo.it
ATTACH;FMTTYPE=image/jpeg:https://lazioeventi.com/wp-content/uploads/2022/
 10/foto-halloween-3.jpg
CATEGORIES:Varie
LOCATION:Roma\, Via Leopardi\, Roma\, Roma\, Lazio\, Italia
GEO:41.8942;12.5017
X-APPLE-STRUCTURED-LOCATION;VALUE=URI;X-ADDRESS=Via Leopardi\, Roma\, Roma\
 , Lazio\, Italia;X-APPLE-RADIUS=100;X-TITLE=Roma:geo:41.8942,12.5017
END:VEVENT
BEGIN:VTIMEZONE
TZID:Europe/Rome
X-LIC-LOCATION:Europe/Rome
BEGIN:DAYLIGHT
DTSTART:20220327T030000
TZOFFSETFROM:+0100
TZOFFSETTO:+0200
TZNAME:CEST
END:DAYLIGHT
BEGIN:STANDARD
DTSTART:20221030T020000
TZOFFSETFROM:+0200
TZOFFSETTO:+0100
TZNAME:CET
END:STANDARD
END:VTIMEZONE
END:VCALENDAR