BEGIN:VCALENDAR
VERSION:2.0
PRODID:-//wp-events-plugin.com//7.2.3.1//EN
TZID:Europe/Rome
X-WR-TIMEZONE:Europe/Rome
BEGIN:VEVENT
UID:28134@lazioeventi.com
DTSTART;TZID=Europe/Rome:20210220T150000
DTEND;TZID=Europe/Rome:20210220T170000
DTSTAMP:20210215T120910Z
URL:https://lazioeventi.com/eventi/rioni-di-roma-x-rione-campitelli-dal-ca
 mpidoglio-a-piazza-campitelli
SUMMARY:Rioni di Roma: X Rione Campitelli dal Campidoglio a Piazza Campitel
 li - Roma - 20 Febbraio 21 15:00
DESCRIPTION:La citta di Roma tra le sue mille particolarità è divisa in 2
 2 Rioni che ricalcano le regiones augustee\, ognuno di essi ha meraviglie 
 uniche!\n\nOggi si visita il Rione Campitelli \n\nIn questa passeggiata p
 artiremo dalla base del Campidoglio in un luogo assai importante per gli a
 ntichi romani ricordato come Rupe Tarpea luogo infame dove gli antichi lan
 ciavano i nemici di Roma. Su questo luogo nacque la Chiesa di Santa Maria 
 della Consolazione al Foro Romano proprio per dare consolazione alle famig
 lie dei condannati dalla Rupe. Proseguiremo sull'affaccio più bello della
  città eterna dal Campidoglio e giungeremo passando dalla Piazza Margana 
 alla Chiesa che dà il nome al Rione S. Maria in Campitelli al Teatro Marc
 ello\, luogo intimo e silenzioso che in pochi conoscono!\n\nAppuntamento o
 re 15.00 in Piazza della Consolazione 84 fronte scalinata Chiesa S. Maria 
 della Consolazione: Cercare Bandiera viola Logo Roma Caput Tour\n\nDurata 
 Visita Guidata 2 ore circa (inizio dalla base del Campidoglio alla Rupe Ta
 rpea scoprendo una bellissima e poco conosciuta Chiesa di Santa Maria dell
 a Consolazione\, spostandoci poi verso il Campidoglio\, Piazza Margana e l
 a nascosta Chiesa di S. Maria in Campitelli nella zona del Teatro Marcello
 )\n\nSi richiede a tutti i partecipanti di munirsi di mascherina e possibi
 lmente guanti al momento del pagamento\nCosto Visita Guidata € 13.00 (ad
 ulti)‚ € 5.00 (bambini 5-13 anni)\, € 2.00 noleggio auricolari (Obbl
 igatori per tutti per il mantenimento delle distanze di sicurezza).\n\nPer
  evitare qualsiasi contatto sarà possibile anche saldare prima richiedend
 olo in fase di prenotazione\n\nPer semplicità si richiede il pagamento co
 n quota esatta.\n\nIl sistema di microfono/auricolari\, che sarà OBBLIGAT
 ORIO per tutte le visite guidate\, consente di seguire tutte le spiegazion
 i della guida anche a notevoli distanze\, in modo da applicare tutte le mi
 sure di sicurezza previste dal decreto con distanziamento sociale dei part
 ecipanti all'attività.\n\nAd ogni partecipante sarà fornito un radio tra
 smettitore sanificato\, un salviettino igienizzante sigillato\, e un auric
 olare sterile usa e getta (diversamente si potranno usare i propri auricol
 ari del cellulare)\nPrenotazione Obbligatoria scrivendo a info@romacaputou
 r.it o inviando un sms allo 0039 333 4854287 specificando Titolo della vis
 ita\, Nome\, Cognome\, Recapito telefonico\, numero di persone\, e-mail di
  riferimento.
ATTACH;FMTTYPE=image/jpeg:https://lazioeventi.com/wp-content/uploads/2021/
 02/00cogJ-550982484-1.jpg
CATEGORIES:Arte e Cultura nel Lazio
LOCATION:Roma\, Via Leopardi\, Roma\, Roma\, Lazio\, Italia
GEO:41.8942;12.5017
X-APPLE-STRUCTURED-LOCATION;VALUE=URI;X-ADDRESS=Via Leopardi\, Roma\, Roma\
 , Lazio\, Italia;X-APPLE-RADIUS=100;X-TITLE=Roma:geo:41.8942,12.5017
END:VEVENT
BEGIN:VTIMEZONE
TZID:Europe/Rome
X-LIC-LOCATION:Europe/Rome
BEGIN:STANDARD
DTSTART:20201025T020000
TZOFFSETFROM:+0200
TZOFFSETTO:+0100
TZNAME:CET
END:STANDARD
END:VTIMEZONE
END:VCALENDAR