BEGIN:VCALENDAR
VERSION:2.0
PRODID:-//wp-events-plugin.com//7.2.3.1//EN
TZID:Europe/Rome
X-WR-TIMEZONE:Europe/Rome
BEGIN:VEVENT
UID:34728@lazioeventi.com
DTSTART;TZID=Europe/Rome:20230324T110000
DTEND;TZID=Europe/Rome:20230326T170000
DTSTAMP:20230320T205255Z
URL:https://lazioeventi.com/eventi/risultati-degli-scavi-della-necropoli-d
 i-trocchi
SUMMARY:Risultati degli scavi della necropoli di Trocchi - Bomarzo - 24 Mar
 zo 23 11:00
DESCRIPTION:Venerdì 24 marzo alle 11 nella prestigiosa cornice di Palazzo 
 Orsini a Bomarzo\, nel Salone al Piano nobile\, saranno presentati i risul
 tati degli scavi della necropoli di Trocchi\, una vasta area di sepolture 
 con una lunga continuità d’uso che va dal IV sec. a.C. al VI sec. d.C. 
 \nLa forte valenza culturale dell’area è stata dichiarata con un provve
 dimento di tutela emesso dalla Soprintendenza a salvaguardia dell’import
 ante patrimonio archeologico che connota così fortemente questa parte di 
 territorio. \n\nSarà anche l’occasione per mostrare in anteprima i repe
 rti rinvenuti durante gli scavi con l’esposizione “Le Tombe di Trocchi
  a Bomarzo. Una necropoli rupestre nell’Etruria tiberina”. All'evento 
 saranno presenti Margherita Eichberg\, soprintendente Sabap-Vt-Em\, Marco 
 Perniconi\, Sindaco di Bomarzo e Alessandro Romoli\, Presidente della Prov
 incia di Viterbo e interverranno Beatrice Casocavallo\, funzionario archeo
 logo Sabap-Vt-Em\, Federica Cerroni\, funzionario architetto Sabap-Vt-Em e
  Francesca Letizia Rizzo\, Ispc-Cnr.\n\nA partire dalle 12\, sarà possibi
 le visitare l'esposizione. \n\nL’evento è stato organizzato e ideato da
 lla Soprintendenza con il Comune di Bomarzo e la collaborazione delle Asso
 ciazioni “Cultra” e “I Mostri di Bomarzo - Ets” e il sostegno dell
 a Provincia di Viterbo. \n\nL’esposizione rimarrà fruibile al pubblico 
 nelle giornate di sabato 25 e domenica 26 marzo\, per la 31^ edizione dell
 e “Giornate Fai di Primavera”\, a cura della Delegazione Fai di Viterb
 o che aprirà al pubblico la “Sala delle Paraste o Camera di Giulia Farn
 ese” e parte dell’imponente Palazzo Orsini.
ATTACH;FMTTYPE=image/jpeg:https://lazioeventi.com/wp-content/uploads/2023/
 03/necropoli-di-Trocchi.jpg
CATEGORIES:Arte e Cultura nel Lazio
LOCATION:Bomarzo\, Comune di Bomarzo\, Bomarzo\, Viterbo\, Lazio\, Italia
GEO:42.4912;12.2513
X-APPLE-STRUCTURED-LOCATION;VALUE=URI;X-ADDRESS=Comune di Bomarzo\, Bomarzo
 \, Viterbo\, Lazio\, Italia;X-APPLE-RADIUS=100;X-TITLE=Bomarzo:geo:42.4912
 ,12.2513
END:VEVENT
BEGIN:VTIMEZONE
TZID:Europe/Rome
X-LIC-LOCATION:Europe/Rome
BEGIN:STANDARD
DTSTART:20221030T020000
TZOFFSETFROM:+0200
TZOFFSETTO:+0100
TZNAME:CET
END:STANDARD
BEGIN:DAYLIGHT
DTSTART:20230326T030000
TZOFFSETFROM:+0100
TZOFFSETTO:+0200
TZNAME:CEST
END:DAYLIGHT
END:VTIMEZONE
END:VCALENDAR