BEGIN:VCALENDAR
VERSION:2.0
PRODID:-//wp-events-plugin.com//7.2.3.1//EN
TZID:Europe/Rome
X-WR-TIMEZONE:Europe/Rome
BEGIN:VEVENT
UID:33529@lazioeventi.com
DTSTART;TZID=Europe/Rome:20221223T190000
DTEND;TZID=Europe/Rome:20221223T210000
DTSTAMP:20221221T205205Z
URL:https://lazioeventi.com/eventi/roma-a-s-giuliano-martire-lantico-harmo
 nium-del-maestro-brizi
SUMMARY:Roma\, a S. Giuliano Martire l'antico Harmonium del Maestro Brizi -
  Roma - 23 Dicembre 22 19:00
DESCRIPTION:Venerdì 23 dicembre alle ore 19\,00 il fascino dell’ Orgue 
 à Célesta Mustel del 1897 del Maestro Claudio Brizi\, popolerà di note 
 antiche dall’eterno fascino la chiesa di San Giuliano Martire (via Cassi
 a 1036) con il suo Concerto di Natale.\n\nLo straordinario musicista\, esp
 erto conoscitore e collezionista di storici strumenti a tastiera\, proporr
 à un raffinato percorso nella musica per il Natale che da Bach\, Händel 
 e Domenico Scarlatti arriverà fino a Berlioz\, Franck e Liszt\, un susseg
 uirsi di pastorali\, musettes\, arie natalizie che troveranno nelle affasc
 inanti sonorità del suo strumento d’epoca la loro veste più suggestiva
 .\n\nSarà l’ultimo dei tre concerti in chiesa\, parte del progetto “L
 ’Accademia degli Sfaccendati al Teatro Patologico”\, progetto vincitor
 e del bando del Comune di Roma “Lo spettacolo dal vivo fuori dal centro 
 – Anno 2022”\, indetto grazie ai fondi e alle indicazioni del Minister
 o della Cultura – Direzione Generale Spettacolo dal Vivo\, che si distin
 gue per rarità degli strumenti\, bellezza dei programmi musicali e qualit
 à artistica e professionale degli interpreti.\n\nPer informazioni e preno
 tazioni: 3331375561 – 069398003
ATTACH;FMTTYPE=image/jpeg:https://lazioeventi.com/wp-content/uploads/2022/
 12/concerto_23_dicembre.jpg
CATEGORIES:Musica, Spettacoli e Danza nel Lazio
LOCATION:Roma\, Via Leopardi\, Roma\, Roma\, Lazio\, Italia
GEO:41.8942;12.5017
X-APPLE-STRUCTURED-LOCATION;VALUE=URI;X-ADDRESS=Via Leopardi\, Roma\, Roma\
 , Lazio\, Italia;X-APPLE-RADIUS=100;X-TITLE=Roma:geo:41.8942,12.5017
END:VEVENT
BEGIN:VTIMEZONE
TZID:Europe/Rome
X-LIC-LOCATION:Europe/Rome
BEGIN:STANDARD
DTSTART:20221030T020000
TZOFFSETFROM:+0200
TZOFFSETTO:+0100
TZNAME:CET
END:STANDARD
END:VTIMEZONE
END:VCALENDAR