BEGIN:VCALENDAR
VERSION:2.0
PRODID:-//wp-events-plugin.com//7.2.3.1//EN
TZID:Europe/Rome
X-WR-TIMEZONE:Europe/Rome
BEGIN:VEVENT
UID:40508@lazioeventi.com
DTSTART;TZID=Europe/Rome;VALUE=DATE:20260101
DTEND;TZID=Europe/Rome;VALUE=DATE:20260102
DTSTAMP:20251229T110931Z
URL:https://lazioeventi.com/eventi/roma-capodarte
SUMMARY:Roma Capodarte - Roma - 1 Gennaio 26 00:00
DESCRIPTION:Il 1° gennaio torna Capodarte con un ampio programma di inizia
 tive gratuite e rivolte a tutti. Tanti gli spazi culturali della città ap
 erti per l’occasione.\n\nUn ponte culturale\, artistico e civile sui val
 ori del ’46. Roma celebra l’inizio del nuovo anno con oltre 100 eventi
 \, per la quasi totalità gratuiti: una grande festa diffusa dedicata ai v
 alori e ai principi fondamentali che hanno ispirato la nostra Costituzione
  e alle Madri e ai Padri Costituenti\n\nÈ la celebrazione dell'80º anniv
 ersario dell'Assemblea Costituente (1946-2026) il tema centrale di ROMA CA
 PODARTE 2026. L’iniziativa\, promossa da Roma Capitale\, Assessorato all
 a Cultura e al Coordinamento delle iniziative riconducibili alla Giornata 
 della Memoria e con la collaborazione dell’Assessorato alle Attività Pr
 oduttive\, alle Pari Opportunità e all'Attrazione investimenti\, il 1° g
 ennaio torna ad animare la città con una maratona culturale diffusa con o
 ltre 100 eventi\, per la quasi totalità a ingresso gratuito\, in tutti i 
 quartieri. Questa quinta edizione intende onorare il percorso di libertà 
 che\, scaturito dalla lotta di liberazione dal nazi-fascismo\, ha posto le
  basi per la fondazione della nostra democrazia. Un'intensa riflessione ci
 vile e artistica che ripercorrerà le tappe di questo cammino partendo dal
  1946\, data cruciale che inaugurò i lavori dell'Assemblea e sancì l'acc
 esso delle donne alle urne per la prima volta nella storia nazionale. Prop
 rio per sottolineare il valore di questa eredità\, nel corso della giorna
 ta sono distribuite gratuitamente 10.000 copie della Costituzione Italiana
  durante gli eventi diffusi in tutti i 15 Municipi della città. La pubbli
 cazione è arricchita da un’introduzione a cura del Sindaco Roberto Gual
 tieri e dell’Assessore Massimiliano Smeriglio\, e da un’ulteriore pref
 azione scritta dal costituzionalista Cesare Pinelli.\n\nUn momento di prof
 onda e rinnovata consapevolezza sui principi fondamentali che sorreggono l
 a nostra democrazia e altresì un inizio d’anno gioioso e di grande spet
 tacolo. Roma Capodarte 2026\, infatti\, si prepara\, anche in questa edizi
 one\, a trasformare la città in un gigantesco palcoscenico: una festa cap
 illarmente diffusa\, che vede la partecipazione dei Municipi\, delle princ
 ipali istituzioni culturali capitoline\, associazioni del territorio\, ope
 ratrici e operatori culturali\, artiste e artisti.\n\nNel corso della gior
 nata è possibile visitare gratuitamente i Musei Civici e le mostre tempor
 anee in corso ospitate al loro interno e altri prestigiosi spazi espositiv
 i cittadini quali Palazzo Esposizioni Roma\, il Mattatoio e il MACRO.\n\nP
 er i Musei Civici fanno eccezione alla gratuità la mostra Cartier e il Mi
 to ai Musei Capitolini nelle sale di Palazzo Nuovo e poi ancora l’esposi
 zione IMPRESSIONISMO e oltre. Capolavori dal Detroit Institute of Arts \, 
 negli spazi espositivi del Museo dell’Ara Pacis\, che prevedono il bigli
 etto a tariffazione ridotta. Biglietti gratuiti\, ma con prenotazione obbl
 igatoria e preacquisto online\, sono previsti per la visita in realtà aum
 entata e virtuale Circo Maximo Experience\, per le visite al Bunker di Vil
 la Torlonia (alle ore 15 e alle 16)\, e per gli spettacoli a tema astronom
 ico al Planetario di Roma (alle ore 16\, alle 17 e alle 18).\n\nAperti con
  ingresso gratuito anche alcune aree archeologiche e siti monumentali dell
 a città\, quali l’area archeologica del Circo Massimo\, il Museo della 
 Forma Urbis presso il parco archeologico del Celio\, l’Area Sacra di Lar
 go Argentina e l’area archeologica della Villa di Massenzio.\nA tariffaz
 ione ordinaria\, invece\, l’ingresso all’area archeologica dei Fori Im
 periali.\n\nDa non perdere le visite guidate a cura della Sovrintendenza C
 apitolina ai Beni Culturali\, un’opportunità unica per conoscere da vic
 ino opere d’arte ed esposizioni e approfondire alcune tematiche grazie a
 l supporto di curatrici e curatori delle mostre stesse. Tra queste\, si se
 gnalano: ai Musei Capitolini le visite alla mostra La Grecia a Roma con Al
 essandra Avagliano (ore 12) e con Claudio Parisi Presicce (ore 17)\; al Mu
 seo dell’Ara Pacis le visite a IMPRESSIONISMO e oltre. Capolavori dal De
 troit Institute of Arts con Ilaria Miarelli Mariani (ore 16.30) e con Clau
 dio Zambianchi (ore 18.15). Ilaria Miarelli Mariani guiderà\, inoltre\, a
 lle ore 18 alla Galleria d’Arte Moderna di via Crispi\, anche la visita 
 all’esposizione Gam 100. Un secolo di galleria comunale 1925-2025. Al Mu
 seo di Roma a Palazzo Braschi alle ore 16.30 e alle 17.30 sarà Alberta Ca
 mpitelli a condurre le visite a Ville e giardini di Roma: una corona di de
 lizie. Alle ore 15\, presso la Dipendenza della Casina delle Civette in Vi
 lla Torlonia\, è inoltre prevista una visita guidata alla mostra Pysanka 
 - La bellezza fragile dell'arte ucraina con l’artista Ala Zarvanytska. I
 n alcuni Musei Civici (Museo di Scultura Antica Giovanni Barracco\, Galler
 ia d’Arte Moderna di via Crispi\, Museo della Scuola Roma a Villa Torlon
 ia\, Museo di Roma in Trastevere\, Museo Carlo Bilotti\, Museo della Repub
 blica Romana e della memoria garibaldina\, Museo delle Mura\, Museo di Cas
 al de Pazzi) i visitatori verranno accolti da guide esperte che forniranno
 \, in italiano\, brevi approfondimenti con pillole di storia dedicate allo
  specifico museo e alla sua collezione.\n\nIl programma completo\, suscett
 ibile di variazioni\, tutte le informazioni per il pubblico e le modalità
  di accesso sono disponibili su www.culture.roma.it/romacapodarte\, allo 0
 60608 (tutti i giorni dalle ore 9 alle 19) oppure sui profili social con #
 Romacapodarte2026
ATTACH;FMTTYPE=image/jpeg:https://lazioeventi.com/wp-content/uploads/2024/
 12/1050x545_mic_evento-2020_7.jpg
CATEGORIES:Musica, Spettacoli e Danza nel Lazio
LOCATION:Roma\, Via Leopardi\, Roma\, Roma\, Lazio\, Italia
GEO:41.8942;12.5017
X-APPLE-STRUCTURED-LOCATION;VALUE=URI;X-ADDRESS=Via Leopardi\, Roma\, Roma\
 , Lazio\, Italia;X-APPLE-RADIUS=100;X-TITLE=Roma:geo:41.8942,12.5017
END:VEVENT
BEGIN:VTIMEZONE
TZID:Europe/Rome
X-LIC-LOCATION:Europe/Rome
BEGIN:STANDARD
DTSTART:20251026T020000
TZOFFSETFROM:+0200
TZOFFSETTO:+0100
TZNAME:CET
END:STANDARD
END:VTIMEZONE
END:VCALENDAR