BEGIN:VCALENDAR
VERSION:2.0
PRODID:-//wp-events-plugin.com//7.2.3.1//EN
TZID:Europe/Rome
X-WR-TIMEZONE:Europe/Rome
BEGIN:VEVENT
UID:42231@lazioeventi.com
DTSTART;TZID=Europe/Rome;VALUE=DATE:20250814
DTEND;TZID=Europe/Rome;VALUE=DATE:20250818
DTSTAMP:20250807T145321Z
URL:https://lazioeventi.com/eventi/roma-ce-visite-guidate-anche-per-bambin
 i-dal-14-al-17-agosto-2025
SUMMARY:Roma c'è! Visite guidate (anche per bambini) dal 14 al 17 agosto 2
 025 - Roma - 14 Agosto 25 00:00
DESCRIPTION:L'Associazione culturale Roma e Lazio x te si avvale della co
 llaborazione di storici dell'arte e archeologi regolarmente iscritti nell'
 albo delle guide turistiche di Roma.\nLe visite per bambini e ragazzi sono
  gestite da guide che sono anche operatori didattici specializzati nel lav
 orare con queste fasce d'età.\n\n&nbsp\;\n\nGiovedì 14 agosto 2025\, h 2
 0.30\n\nI gladiatori del Colosseo\, lo sport e il gioco nell'antica Roma.\
 n\nGiovedì sotto le stelle con i vostri bambini.\nDivertente "visita gioc
 ata per bambini" con attività ludiche\, ricostruzioni e rielaborazione c
 ulturale per immedesimarsi nella vita dei gladiatori dall' allenamento nel
 le palestre agli incontri nell'arena.\nLa visita giocata si svolgerà: nel
 la valle del Colosseo\, nel Ludus Magnus (la palestra dei gladiatori) e ne
 i giardini della Domus Aurea. I giochi verranno effettuati in aree pedonal
 i e quindi sicure per i bambini.\nGuida/operatore didattico: Martina De Ge
 nnaro.\nContributo associativo: €10 a persona (adulti e bambini a partir
 e da 4 anni).\nPrenotazioni: sms/wa al 3383435907 o al 3478467394 o via ma
 il a romaelazioxte@gmail.com\nPer ulteriori info bit.ly/3hjnWe7\n\n&nbsp\
 ;\n\nGiovedì 14 agosto 2025\, h 21.00\nRoma\, città d’acqua e pietra.\
 nPasseggiata serale alla scoperta delle piazze e delle fontane più belle 
 di Roma da Piazza di Spagna a Piazza Navona passando per Fontana di Trevi\
 , il Pantheon e molto altro.\nGuida: Giordano Ghini.\nCosto: €13 nuovi i
 scritti\; €12 soci\; €11 disabili e loro accompagnatori\; €10 ragazz
 i (14-17)\; €5 bambini (6-13).\nPrenotazioni: sms/wa al 3383435907 o via
  mail a romaelazioxte@gmail.com\nPer ulteriori info bit.ly/31atMJt\n\n&nb
 sp\;\n\nSabato 16 agosto 2025\, h 18.30\nLa Nascita di Roma spiegata ai ba
 mbini\nDivertente visita "giocata" resa ancor più piacevole dalla narraz
 ione delle leggende e dei personaggi legati alla fondazione di Roma.\nGuid
 a/operatore didattico: Valeria.\nContributo associativo: €10 a persona (
 adulti e bambini a partire da 4 anni).\n\nPrenotazioni: sms/wa al 3383435
 907 oppure via mail a romaelazioxte@gmail.com\n\nPer ulteriori info bi
 t.ly/4brDqcq\n\n&nbsp\;\n\nSabato 16 agosto 2025\, h 20.30\nNotti Imperial
 i.\nViaggio nell'apertura esclusiva dei Fori Imperiali.\nVisita guidata co
 n apertura straordinaria ed esclusiva (max 25 partecipanti) dell'area ar
 cheologica dei Fori Imperiali\, con possibilità di usare la MIC Card.\nLa
  visita va prenotata e saldata in anticipo\, per sapere se abbiamo ancora 
 posti disponibili chiamare il 3383435907.\nNon perdere l'opportunità di s
 coprire i Fori Imperiali di notte. Prenota ora la tua visita guidata seral
 e e preparati a rimanere incantato dalla storia e dalla bellezza di Roma.\
 nGuida: Giordano Ghini.\nCosto: €15 nuovi iscritti\; €13 soci\; €11 
 disabili e loro accompagnatori\, bambini e ragazzi da 6 a 17 anni.\n+ Bigl
 ietti d'ingresso: 5€ residenti città Metropolitana Roma\, 8€ non res
 identi\, gratuito possessori Mic Card.\nPrenotazioni: sms/wa al 338343590
 7 o via mail a romaelazioxte@gmail.com\nPer ulteriori info bit.ly/4nZT
 gl1\n\n&nbsp\;\n\nDomenica 17 agosto 2025\, h 20.30\nIl Campidoglio sotto 
 le stelle: Riti\, Miti e Passione\, i Ludi Romani ed il culto degli Dei\n
 Visita guidata serale dedicata alla scoperta delle festività romane\, di 
 aneddoti e segreti del Colle più piccolo di Roma.\nGuida: Valeria Scuderi
 .\nCosto: €13 nuovi iscritti\; €12 soci\; €11 disabili e loro accomp
 agnatori\; €10 ragazzi (14-17)\; €5 bambini (6-13).\nPrenotazioni: sms
 /wa al 3383435907 o via mail a romaelazioxte@gmail.com\nPer ulteriori info
  bit.ly/4eBOyFh\n\n&nbsp\;\n\n\n***\nBIGLIETTERIA visite guidate:\nTutte
  le nostre visite sono condotte da storici dell'arte\, archeologi e archit
 etti regolarmente iscritti nell'albo delle guide turistiche di Roma.\nLa t
 ariffa include l'auricolare (vox) che permette di ascoltare le nostre guid
 e in assoluto confort\, perché permettono di distanziarci fino a 10 metri
 \, soffermarci a guardare un particolare\, o fare foto\, senza perdere una
  parola.\n\nVisite guidate programmazione per Adulti comprensive di vox:\n
 €13 intero\n\n€12 lettori di Lazio Eventi\, *NOTA BENE: per usufrui
 re della tariffa scontata specificare "letto su Lazio Eventi" \n\n€11 d
 isabili e loro accompagnatori\n\n€10 ragazzi (da 14 a 17 anni)\n\n€5 
 bambini (da 6 a 13 anni)\n\ngratis (bambini da 0 a 5 anni)\n\nVisite guida
 te programmazione per Bambini comprensive di vox:\n€10 a persona (sia ad
 ulti che bambini a partire da 4 anni).\n***Nota bene: ogni adulto può acc
 ompagnare fino a un massimo di 3 bambini. I bambini devono sempre essere a
 ccompagnati da un adulto per motivi di sicurezza.\n\nVISITE PRIVATE:\ntutt
 e le nostre visite possono essere prenotate anche privatamente\, e condott
 e oltre che in Italiano anche in lingua straniera.\nPer conoscere  le nos
 tre Tariffe goo.gl/Cs1uw1\n\nPRENOTAZIONI\n"consigliate entro il giorno c
 he precede la data dell'evento"\ncompilando il modulo prenotazioni CLICCAN
 DO SUL LINK: bit.ly/3x7jhDj  \no inviando una mail a romaelazioxte@gmai
 l.com\no scrivendo un SMS/WA (se si prenota nelle 24 ore che precedono l
 ’evento) al 3383435907.\nINDICANDO:\ndata e titolo della visita\, nome e
  cognome di chi effettua la prenotazione\, numero dei partecipanti (specif
 icando l'età di eventuali bambini)\, numero di cellulare e indirizzo mail
 .\n***La prenotazione è indispensabile per ricevere conferma che la visit
 a partirà\, e soprattutto per essere ricontattati in caso di variazioni.
ATTACH;FMTTYPE=image/jpeg:https://lazioeventi.com/wp-content/uploads/2025/
 08/bellezza-4.jpg
CATEGORIES:Arte e Cultura nel Lazio
LOCATION:Roma\, Via Leopardi\, Roma\, Roma\, Lazio\, Italia
GEO:41.8942;12.5017
X-APPLE-STRUCTURED-LOCATION;VALUE=URI;X-ADDRESS=Via Leopardi\, Roma\, Roma\
 , Lazio\, Italia;X-APPLE-RADIUS=100;X-TITLE=Roma:geo:41.8942,12.5017
END:VEVENT
BEGIN:VTIMEZONE
TZID:Europe/Rome
X-LIC-LOCATION:Europe/Rome
BEGIN:DAYLIGHT
DTSTART:20250330T030000
TZOFFSETFROM:+0100
TZOFFSETTO:+0200
TZNAME:CEST
END:DAYLIGHT
END:VTIMEZONE
END:VCALENDAR