BEGIN:VCALENDAR
VERSION:2.0
PRODID:-//wp-events-plugin.com//7.2.3.1//EN
TZID:Europe/Rome
X-WR-TIMEZONE:Europe/Rome
BEGIN:VEVENT
UID:42266@lazioeventi.com
DTSTART;TZID=Europe/Rome;VALUE=DATE:20250821
DTEND;TZID=Europe/Rome;VALUE=DATE:20250825
DTSTAMP:20250814T144441Z
URL:https://lazioeventi.com/eventi/roma-ce-visite-guidate-anche-per-bambin
 i-dal-21-al-24-agosto-2025
SUMMARY:Roma c'è! Visite guidate (anche per bambini) dal 21 al 24 agosto 2
 025 - Roma - 21 Agosto 25 00:00
DESCRIPTION:L'Associazione culturale Roma e Lazio x te si avvale della co
 llaborazione di storici dell'arte e archeologi regolarmente iscritti nell'
 albo delle guide turistiche di Roma.\nLe visite per bambini e ragazzi sono
  gestite da guide che sono anche operatori didattici specializzati nel lav
 orare con queste fasce d'età.\n\n&nbsp\;\n\nGiovedì 21 agosto 2025\, h 2
 0.30\n\nA spasso con gli Imperatori.\n\nGiovedì sotto le stelle con i vos
 tri bambini.\nDivertente "visita per bambini" dal Campidoglio alla Valle 
 del Colosseo\, attraversando i Fori Imperiali.\nGuida/operatore didattico:
  Andrea Veronica Peresano.\nContributo associativo: €10 a persona (sia a
 dulti che bambini a partire da 4 anni).\nPrenotazioni: sms/wa al 338343590
 7 oppure al 3426701353 o via mail a romaelazioxte@gmail.com\nPer ulteriori
  info bit.ly/3KNTMjP\n\n&nbsp\;\n\nGiovedì 21 agosto 2025\, h 21.00\nL
 ’Essenza di Roma\nPasseggiata storico-artistica al chiaro di luna nei lu
 oghi che seppero sedurre i viaggiatori del Grand Tour. I monumenti che gi
 à conosciamo avranno nuove storie da raccontare tra arte\, lusso e lusing
 he.\nGuide: Valeria Scuderi e Andrea Leoni.\nCosto: €13 nuovi iscritti\;
  €12 soci\; €11 disabili e loro accompagnatori\; €10 ragazzi (14-17)
 \; €5 bambini (6-13).\nPrenotazioni: sms/wa al 3383435907 o al 391412424
 6\n\nPer ulteriori info bit.ly/4cBJPSf\n\n&nbsp\;\n\nVenerdì 22 agosto 2
 025\, h 21.00\nNotti Imperiali.\nLuci su Traiano\, Optimus Princeps dell'I
 mpero Romano.\nPasseggiata archeologica al chiaro di luna nei luoghi legat
 i alla carismatica figura dell’imperatore Traiano per ripercorrere le ta
 ppe più importanti della sua vita e delle sue gesta politiche.\nGuide: Gi
 ordano Ghini e Andrea Leoni.\nCosto: €13 nuovi iscritti\; €12 soci\; 
 €11 disabili e loro accompagnatori\; €10 ragazzi (14-17)\; €5 bambin
 i (6-13).\nPrenotazioni: sms/wa al 3914124246 o al 3383435907 o via m
 ail a romaelazioxte@gmail.com\nPer ulteriori info bit.ly/3GzjhH5\n\n&nbs
 p\;\n\nSabato 23 agosto 2025\, h 17.00\nArcheologi per gioco nei sotterran
 ei di Santa Cecilia in Trastevere.\nVisita "giocata" per bambini per and
 are alla scoperta dei resti archeologici di una Domus Romana nascosta nei 
 sotterranei di Trastevere (15 bambini max + i loro accompagnatori).\nGuida
 /operatore didattico: Martina De Gennaro.\nContributo associativo: €10 a
  persona (sia adulti che bambini a partire da 4 anni) + biglietto d'ingre
 sso ai sotterranei: gratis bambini\, €4 adulti.\nPrenotazioni: sms/wa a
 l 3383435907 o al 3478467394 o via mail a romaelazioxte@gmail.com\nPer ult
 eriori info bit.ly/3SLpKBU\n\n&nbsp\;\n\nSabato 23 agosto 2025\, h 21.00\
 nIl Gianicolo al chiaro di luna.\nPasseggiata serale alla scoperta del col
 le del dio Giano\, che sovrasta Trastevere con il suono del suo Fontanone\
 , e offre una vista splendida sulla città\, rimandando la memoria ad un p
 assato di fasti papalini\, e all'eroica resistenza garibaldina della Repub
 blica romana del 1849.\nGuida: Valeria Scuderi.\nCosto: €13 nuovi iscrit
 ti\; €12 soci\; €11 disabili e loro accompagnatori\; €10 ragazzi (14
 -17)\; €5 bambini (6-13).\nPrenotazioni: sms/wa al 3383435907 o via mail
  a romaelazioxte@gmail.com\nPer ulteriori info bit.ly/3Kz1X3n\n\n&nbsp\;\
 n\nDomenica 24 agosto 2025\, h 18.30\nCaccia agli indizi: il mistero dell
 ’antico Egitto.\nDivertente "visita per bambini" con caccia agli indizi
 \, seguendo le orme degli antichi Egizi per le vie di Roma.\nGuida: Andrea
  Leoni.\nContributo associativo: €10 a persona (sia adulti che bambini a
  partire da 4 anni).\nPrenotazioni: sms/wa al 3383435907 o al 3914124246 o
  via mail a romaelazioxte@gmail.com\nPer ulteriori info bit.ly/4ea3V8h\n\
 n&nbsp\;\n\nDomenica 24 agosto 2025\, h 20.30\nSculture viventi e animali 
 di pietra.\nUn itinerario di scoperta e simbolismo passeggiando nel cuore 
 di Roma al chiaro di luna.\nGuida: Giordano Ghini.\nCosto: €13 nuovi isc
 ritti\; €12 soci\; €11 disabili e loro accompagnatori\; €10 ragazzi 
 (14-17)\; €5 bambini (6-13).\nPrenotazioni: sms/wa al 3383435907 o via m
 ail a romaelazioxte@gmail.com\nPer ulteriori info bit.ly/4mYjRhN\n\n&nbsp
 \;\n\n\n***\nBIGLIETTERIA visite guidate:\nTutte le nostre visite sono co
 ndotte da storici dell'arte\, archeologi e architetti regolarmente iscritt
 i nell'albo delle guide turistiche di Roma.\nLa tariffa include l'auricola
 re (vox) che permette di ascoltare le nostre guide in assoluto confort\, p
 erché permettono di distanziarci fino a 10 metri\, soffermarci a guardare
  un particolare\, o fare foto\, senza perdere una parola.\n\nVisite guidat
 e programmazione per Adulti comprensive di vox:\n€13 intero\n\n€12 let
 tori di Lazio Eventi\, *NOTA BENE: per usufruire della tariffa scontata
  specificare "letto su Lazio Eventi" \n\n€11 disabili e loro accompagna
 tori\n\n€10 ragazzi (da 14 a 17 anni)\n\n€5 bambini (da 6 a 13 anni)\
 n\ngratis (bambini da 0 a 5 anni)\n\nVisite guidate programmazione per Bam
 bini comprensive di vox:\n€10 a persona (sia adulti che bambini a partir
 e da 4 anni).\n***Nota bene: ogni adulto può accompagnare fino a un massi
 mo di 3 bambini. I bambini devono sempre essere accompagnati da un adulto 
 per motivi di sicurezza.\n\nVISITE PRIVATE:\ntutte le nostre visite posson
 o essere prenotate anche privatamente\, e condotte oltre che in Italiano a
 nche in lingua straniera.\nPer conoscere  le nostre Tariffe goo.gl/Cs1uw
 1\n\nPRENOTAZIONI\n"consigliate entro il giorno che precede la data dell'e
 vento"\ncompilando il modulo prenotazioni CLICCANDO SUL LINK: bit.ly/3x7j
 hDj  \no inviando una mail a romaelazioxte@gmail.com\no scrivendo un SMS
 /WA (se si prenota nelle 24 ore che precedono l’evento) al 3383435907.\n
 INDICANDO:\ndata e titolo della visita\, nome e cognome di chi effettua la
  prenotazione\, numero dei partecipanti (specificando l'età di eventuali 
 bambini)\, numero di cellulare e indirizzo mail.\n***La prenotazione è in
 dispensabile per ricevere conferma che la visita partirà\, e soprattutto 
 per essere ricontattati in caso di variazioni.
ATTACH;FMTTYPE=image/jpeg:https://lazioeventi.com/wp-content/uploads/2025/
 08/notte-colosseo-2.jpg
CATEGORIES:Arte e Cultura nel Lazio
LOCATION:Roma\, Via Leopardi\, Roma\, Roma\, Lazio\, Italia
GEO:41.8942;12.5017
X-APPLE-STRUCTURED-LOCATION;VALUE=URI;X-ADDRESS=Via Leopardi\, Roma\, Roma\
 , Lazio\, Italia;X-APPLE-RADIUS=100;X-TITLE=Roma:geo:41.8942,12.5017
END:VEVENT
BEGIN:VTIMEZONE
TZID:Europe/Rome
X-LIC-LOCATION:Europe/Rome
BEGIN:DAYLIGHT
DTSTART:20250330T030000
TZOFFSETFROM:+0100
TZOFFSETTO:+0200
TZNAME:CEST
END:DAYLIGHT
END:VTIMEZONE
END:VCALENDAR