BEGIN:VCALENDAR
VERSION:2.0
PRODID:-//wp-events-plugin.com//7.2.3.1//EN
TZID:Europe/Rome
X-WR-TIMEZONE:Europe/Rome
BEGIN:VEVENT
UID:39899@lazioeventi.com
DTSTART;TZID=Europe/Rome;VALUE=DATE:20240927
DTEND;TZID=Europe/Rome;VALUE=DATE:20240930
DTSTAMP:20240920T065223Z
URL:https://lazioeventi.com/eventi/roma-ce-visite-guidate-anche-per-bambin
 i-dal-27-al-29-settembre-2024
SUMMARY:Roma c'è! Visite guidate (anche per bambini) dal 27 al 29 settembr
 e 2024 - Roma - 27 Settembre 24 00:00
DESCRIPTION:L'Associazione culturale Roma e Lazio x te si avvale della co
 llaborazione di storici dell'arte e archeologi regolarmente iscritti nell'
 albo delle guide turistiche di Roma.\nLe visite per bambini e ragazzi sono
  gestite da guide che sono anche operatori didattici specializzati nel lav
 orare con queste fasce d'età.\nGli eventi si svolgeranno nel rispetto del
 la normativa Anti Covid vigente: uso mascherina\; green pass dove richiest
 o\; gruppi contingentati.\n\n&nbsp\;\n\n&nbsp\;\n\nVenerdì 27 settembre 2
 024\, h 18.00\n\nPalazzo Doria Pamphilj\, ossia dove l'arte tocca il cuore
 .\nVisita guidata con "apertura a numero chiuso con prenotazione obbligat
 oria" del Palazzo e della Galleria affacciati su Via del Corso.\nGuida: V
 aleria Scuderi.\nCosto: €30 nuovi iscritti\; €29 soci.\nPer sapere se 
 abbiamo ancora posti disponibili chiamare il 3383435907 o inviando una mai
 l a romaelazioxte@gmail.com\nPer ulteriori info bit.ly/3xwB9xA\n\n \n\nS
 abato 28 settembre 2024\, h 16.00\nIl Cimitero del Verano: amore\, morte e
  poesia.\nVisita guidata.\nGuida: Floriana Lombardi.\nCosto: €13 nuovi i
 scritti\; €12 soci\; €11 disabili e loro accompagnatori\; €10 ragazz
 i (14-17)\; €5 bambini (6-13).\nPrenotazioni: sms/wa al 3391284318\, o a
 l 3477671316\, o via mail a romaelazioxte@gmail.com\nPer ulteriori info b
 it.ly/495j0Vh\n\n&nbsp\;\n\nSabato 28 settembre 2024\, h 17.00\nCaccia al 
 Tesoro nei giardini incantati di Villa Torlonia e della Casina delle Civet
 te.\nDivertente "visita giocata per bambini" con caccia al tesoro\, segu
 endo la mappa del Pirata alla scoperta di Villa Torlonia.\nGuida/operatore
  didattico: Andrea Leoni.\nCosto: €10 a persona (sia adulti che bambini 
 a partire da 4 anni).\nPrenotazioni: sms/wa al 3391284318 o al 3914124246 
 o via mail a romaelazioxte@gmail.com\nPer ulteriori info bit.ly/3wn2Vvr\n
 \n&nbsp\;\n\nDomenica 29 settembre 2024\, h 11.00\nIl Parco degli Acquedot
 ti\, laddove l’Acqua Regna Sovrana.\nVisita guidata all'aria aperta\, sc
 oprendo la storia ed i segreti degli Acquedotti Romani.\nGuida: Floriana L
 ombardi.\nCosto: €13 nuovi iscritti\; €12 soci\; €11 disabili e loro
  accompagnatori\; €10 ragazzi (14-17)\; €5 bambini (6-13).\nPrenotazio
 ni: sms/wa al 3391284318\, o al 3477671316\, o via mail a romaelazioxte@gm
 ail.com\nPer ulteriori info bit.ly/49vZQrM\n\n&nbsp\;\n\nDomenica 29 sett
 embre 2024\, h 17.00\nLa Nascita di Roma.\nUna passeggiata suggestiva nei 
 luoghi che hanno segnato la nascita di Roma\, per conoscere storia e legge
 nde legate alla sua fondazione: l'Isola Tiberina\, il Foro Boario\, e il C
 irco Massimo su cui affacciano i colli del Palatino e dell'Aventino.\nGuid
 a: Valeria Scuderi.\nCosto: €13 nuovi iscritti\; €12 soci\; €11 disa
 bili e loro accompagnatori\; €10 ragazzi (14-17)\; €5 bambini (6-13).\
 nPrenotazioni: sms/wa al 3391284318 o al 3383435907 o via mail a romaelazi
 oxte@gmail.com\nPer ulteriori info bit.ly/3UPToHM\n\n&nbsp\;\n\nDomenica 
 29 settembre 2024\, h 17.00\nI gladiatori del Colosseo\, lo sport e il gio
 co nell'antica Roma.\nDivertente "visita giocata per bambini" con attivi
 tà ludiche\, ricostruzioni e rielaborazione culturale per immedesimarsi n
 ella vita dei gladiatori dall' allenamento nelle palestre agli incontri ne
 ll'arena.\nLa visita giocata si svolgerà: nella valle del Colosseo\, nel 
 Ludus Magnus (la palestra dei gladiatori) e nei giardini della Domus Aurea
 . I giochi verranno effettuati in aree pedonali e quindi sicure per i bamb
 ini.\nGuida/operatore didattico: Martina De Gennaro.\nCosto: €10 a perso
 na (adulti e bambini a partire da 4 anni).\nPrenotazioni: sms/wa al 339128
 4318 o al 3478467394 o via mail a romaelazioxte@gmail.com\nPer ulteriori i
 nfo bit.ly/3hjnWe7\n\n \n\n\n***\nBIGLIETTERIA visite guidate:\nTutte l
 e nostre visite sono condotte da storici dell'arte\, archeologi e architet
 ti regolarmente iscritti nell'albo delle guide turistiche di Roma.\nLa tar
 iffa include l'auricolare (vox) che permette di ascoltare le nostre guide 
 in assoluto confort\, perché permettono di distanziarci fino a 10 metri\,
  soffermarci a guardare un particolare\, o fare foto\, senza perdere una p
 arola.\n\nVisite guidate programmazione per Adulti comprensive di vox:\n
 €13 intero\n\n€12 lettori di Lazio Eventi\, *NOTA BENE: per usufrui
 re della tariffa scontata specificare "letto su Lazio Eventi" \n\n€11 d
 isabili e loro accompagnatori\n\n€10 ragazzi (da 14 a 17 anni)\n\n€5 
 bambini (da 6 a 13 anni)\n\ngratis (bambini da 0 a 5 anni)\n\nVisite guida
 te programmazione per Bambini comprensive di vox:\n€10 a persona (sia ad
 ulti che bambini a partire da 4 anni).\n***Nota bene: ogni adulto può acc
 ompagnare fino a un massimo di 3 bambini. I bambini devono sempre essere a
 ccompagnati da un adulto per motivi di sicurezza.\n\nVISITE PRIVATE:\ntutt
 e le nostre visite possono essere prenotate anche privatamente\, e condott
 e oltre che in Italiano anche in lingua straniera.\nPer conoscere  le nos
 tre Tariffe goo.gl/Cs1uw1\n\nPRENOTAZIONI\n"consigliate entro il giorno c
 he precede la data dell'evento"\ncompilando il modulo prenotazioni CLICCAN
 DO SUL LINK: bit.ly/3x7jhDj  \no inviando una mail a romaelazioxte@gmai
 l.com\no scrivendo un SMS/WA (se si prenota nelle 24 ore che precedono l
 ’evento) al 3383435907.\nINDICANDO:\ndata e titolo della visita\, nome e
  cognome di chi effettua la prenotazione\, numero dei partecipanti (specif
 icando l'età di eventuali bambini)\, numero di cellulare e indirizzo mail
 .\n***La prenotazione è indispensabile per ricevere conferma che la visit
 a partirà\, e soprattutto per essere ricontattati in caso di variazioni.
ATTACH;FMTTYPE=image/jpeg:https://lazioeventi.com/wp-content/uploads/2024/
 09/roma-in-primavera.jpg
CATEGORIES:Arte e Cultura nel Lazio
LOCATION:Roma\, Via Leopardi\, Roma\, Roma\, Lazio\, Italia
GEO:41.8942;12.5017
X-APPLE-STRUCTURED-LOCATION;VALUE=URI;X-ADDRESS=Via Leopardi\, Roma\, Roma\
 , Lazio\, Italia;X-APPLE-RADIUS=100;X-TITLE=Roma:geo:41.8942,12.5017
END:VEVENT
BEGIN:VTIMEZONE
TZID:Europe/Rome
X-LIC-LOCATION:Europe/Rome
BEGIN:DAYLIGHT
DTSTART:20240331T030000
TZOFFSETFROM:+0100
TZOFFSETTO:+0200
TZNAME:CEST
END:DAYLIGHT
END:VTIMEZONE
END:VCALENDAR