BEGIN:VCALENDAR
VERSION:2.0
PRODID:-//wp-events-plugin.com//7.2.3.1//EN
TZID:Europe/Rome
X-WR-TIMEZONE:Europe/Rome
BEGIN:VEVENT
UID:33331@lazioeventi.com
DTSTART;TZID=Europe/Rome;VALUE=DATE:20221207
DTEND;TZID=Europe/Rome;VALUE=DATE:20221212
DTSTAMP:20221201T172423Z
URL:https://lazioeventi.com/eventi/roma-ce-visite-guidate-anche-per-bambin
 i-dal-7-all11-dicembre-2022
SUMMARY:Roma c'è! visite guidate (anche per bambini) dal 7 all’11 dicemb
 re 2022 - Roma - 7 Dicembre 22 00:00
DESCRIPTION:L'Associazione culturale Roma e Lazio x te si avvale della co
 llaborazione di storici dell'arte e archeologi regolarmente iscritti nell'
 albo delle guide turistiche di Roma.\nLe visite per bambini e ragazzi sono
  gestite da guide che sono anche operatori didattici specializzati nel lav
 orare con queste fasce d'età.\nGli eventi si svolgeranno nel rispetto del
 la normativa Anti Covid vigente: uso mascherina\; green pass dove richiest
 o\; gruppi contingentati.\n\n&nbsp\;\n\n&nbsp\;\n\nMercoledì 7 dicembre 2
 022\, h 19.00\n\nVicoli e piazze nel cuore di Roma. Itinerario 5: da Piaz
 za dei Campitelli a Campo de' Fiori.\nPasseggiata guidata alla scoperta de
 i mille segreti dei rioni Campitelli e Regola.\nLa visita sarà condotta d
 a: Floriana Lombardi\, docente di teologia e guida turistica della città 
 di Roma.\n\nPer ulteriori info bit.ly/3JWeNa2\n\n&nbsp\;\n\nGiovedì 8 di
 cembre 2022\, h 11.00\nLa Leggenda del Natale narrata dalle Elfe di Babbo 
 Natale.\nPasseggiata giocata per bambini da 4 a 10 anni.\nAiutiamo Ninett
 a\, un Elfo di Babbo Natale pasticciona e distratta\, che ha dimenticato d
 ove ha parcheggiato la slitta con i regali\, lei in cambio del vostro aiut
 o vi svelerà alcuni segreti sulla magia del Natale. Dai vieni ad aiutarla
 \, vedrai che ti divertirai!\nLa visita sarà condotta da: Cristina De Fil
 ippis\, guida turistica abilitata esperta in attività culturali e di svag
 o per bambini.\n\nPer ulteriori info goo.gl/8pCz2R\n\n&nbsp\;\n\nGiovedì
  8 dicembre 2022\, h 11.00\nVicoli e piazze nel cuore di Roma. Itinerario
  12: da Largo di Torre Argentina a Piazza delle Coppelle.\nPasseggiata gui
 data tra i vicoli del rione Sant'Eustachio.\nLa visita sarà condotta da: 
 Floriana Lombardi\, docente di teologia e guida turistica della città di 
 Roma.\nPer ulteriori info bit.ly/3i6CbIy\n\n&nbsp\;\n\nGiovedì 8 dicembr
 e 2022\, h 15.30\nLe Oche del Campidoglio\, gli Dei dell'Olimpo e il Santo
  Bambino dell'Aracoeli.\nVisita "giocata" per bambini per scoprire il C
 olle Capitolino durante le festività natalizie fra storia e leggenda.\nLa
  visita "giocata" sarà condotta da: Simona Petrilli\, guida turistica abi
 litata\, e operatrice didattica esperta in attività culturali e di svago 
 per bambini.\nPer ulteriori info bit.ly/3AHy10d\n\n&nbsp\;\n\nGiovedì 8 
 dicembre 2022\, h 15.30\nVicoli e piazze nel cuore di Roma. Itinerario 13
 : da Sant'Andrea della Valle a Santa Maria in Vallicella.\nPasseggiata gui
 data tra i vicoli del rione Parione.\nLa visita sarà condotta da: Florian
 a Lombardi\, docente di teologia e guida turistica della città di Roma.\n
 Per ulteriori info bit.ly/3EYIW8u\n\n&nbsp\;\n\nVenerdì 9 dicembre 2022\
 , h 11.00\nVicoli e piazze nel cuore di Roma. Itinerario 1: dall'Arco di 
 Giano a Santa Anastasia.\nPasseggiata guidata dell'area archeologica del F
 oro Boario e Olitorio e della zona medievale legata alla Ripa Greca della 
 città.\nLa visita sarà condotta da: Floriana Lombardi\, docente di teolo
 gia e guida turistica della città di Roma.\nPer ulteriori info bit.ly/33
 lJjJS\n\n&nbsp\;\n\nVenerdì 9 dicembre 2022\, h 16.00\nVicoli e piazze ne
 l cuore di Roma. Itinerario 7: da Piazza del Quirinale a Piazza dei Santi
  Apostoli.\nPasseggiata guidata tra vie\, piazze\, scalinate e scorci noti
  e meno noti celati nelle vie e nelle piazze a sud del Quirinale\, per con
 oscere ed apprezzare le tante meraviglie architettoniche che hanno contrib
 uito a rendere Roma Eterna.\nLa visita sarà condotta da: Floriana Lombard
 i\, docente di teologia e guida turistica della città di Roma.\nPer ulter
 iori info goo.gl/xgcHnj\n\n&nbsp\;\n\nSabato 10 dicembre 2022\, h 16.00\n
 Gli Angeli di Castel Sant'Angelo.\nVisita guidata per bambini a numero c
 hiuso (massimo 20 partecipanti tra bambini e adulti)\nLa visita va prenota
 ta e saldata in anticipo.\nLa visita sarà condotta da: Simona Petrilli\, 
 guida turistica abilitata\, esperta in attività culturali e di svago per 
 bambini.\nPer ulteriori info bit.ly/3Gyjx6r\n\n&nbsp\;\n\nSabato 10 dicem
 bre 2022\, h 16.00\nIl Ghetto Ebraico.\nVisita guidata alla scoperta di un
 o dei quartieri più suggestivi della città.\nLa visita sarà condotta da
 : Floriana Lombardi\, docente di teologia e guida turistica della città d
 i Roma.\nPer ulteriori info goo.gl/RbWyRW\n\n&nbsp\;\n\nSabato 10 dicembr
 e 2022\, h 16.00\nLo Stadio di Domiziano\, i sotterranei di Piazza Navona 
 e del Teatro di Pompeo\nVisita guidata con "apertura esclusiva" a numero
  chiuso (max 20 partecipanti) degli scavi ipogei dello Stadio di Domiziano
 \, dei resti dell'Odeon e del Teatro di Pompeo.\nLa visita va prenotata e 
 saldata in anticipo.\nLa visita sarà condotta da: Marco Biordi\, storico 
 dell'arte in possesso dell'abilitazione di guida turistica della Provincia
  di Roma.\nPer ulteriori info goo.gl/8CEf6d\n\n&nbsp\;\n\nDomenica 11 dic
 embre 2022\, h 11.00\nCome funzionavano gli Acquedotti romani?\nA spasso p
 er Roma con i vostri bambini al Parco degli Acquedotti per scoprirne cos
 truzione e funzionamento.\nLa visita "giocata" sarà condotta da: Cristina
  De Filippis\, guida turistica abilitata\, esperta in attività culturali 
 e di svago per bambini.\n\nPer ulteriori info goo.gl/xqFZW9\n\n&nbsp\;\n\
 nDomenica 11 dicembre 2022\, h 11.00\nGli obelischi di Roma.\nVisita guida
 ta.\nI romani erano infatuati degli obelischi\, al punto che oggi gli obel
 ischi egizi che si trovano a Roma sono più numerosi di quelli rimasti in 
 Egitto\, talmente erano stregati dalla forza evocativa di questo monumento
  che ne scolpiranno loro stessi alcuni ad imitazione di quelli egizi.\nLa 
 visita guidata sarà condotta da: Floriana Lombardi\, docente di teologia 
 e guida turistica della città di Roma.\nPer ulteriori info goo.gl/f3deMN
 \n\n&nbsp\;\n\nDomenica 11 dicembre 2022\, h 11.00\nNOVITA’: i sotterra
 nei del Museo Barracco.\nVisita guidata a numero chiuso (max 20 partecipan
 ti) del museo e dei suoi sotterranei da poco rinnovati e riaperti al pubbl
 ico.\nLa visita sarà condotta da: Luisa Delle Fratte\, storica dell’art
 e in possesso dell’abilitazione di guida turistica della Provincia di Ro
 ma.\nPer ulteriori info bit.ly/3EWmX1H\n\n&nbsp\;\n\nDomenica 11 dicembre
  2022\, h 15.15\nLa Casa dei Cavalieri di Rodi al Foro di Augusto.\nVisita
  guidata con "apertura esclusiva e straordinaria su prenotazione” a nu
 mero chiuso (max 25 partecipanti)\nLa visita sarà condotta da: Stefania D
 e Majo\, archeologa in possesso dell'abilitazione di guida turistica della
  Provincia di Roma.\n\nPer ulteriori info goo.gl/yQn9nZ\n\n&nbsp\;\n\nDom
 enica 11 dicembre 2022\, h 15.30\nLa Nascita di Roma spiegata ai bambini\n
 Visita "giocata" per bambini nei luoghi che hanno segnato la nascita di 
 Roma\, resa ancor più piacevole dalla narrazione delle leggende e dei per
 sonaggi legati alla sua fondazione.\nLa visita "giocata" sarà condotta da
 : Simona Petrilli\, guida turistica abilitata\, e operatrice didattica esp
 erta in attività culturali e di svago per bambini.\n\nPer ulteriori info
  goo.gl/DPySPx\n\n&nbsp\;\n\n\n***\nBIGLIETTERIA visite guidate:\nTutte 
 le nostre visite sono condotte da storici dell'arte\, archeologi e archite
 tti regolarmente iscritti nell'albo delle guide turistiche di Roma.\nLa ta
 riffa include l'auricolare (vox) che permette di ascoltare le nostre guide
  in assoluto confort\, perché permettono di distanziarci fino a 10 metri\
 , soffermarci a guardare un particolare\, o fare foto\, senza perdere una 
 parola.\n\nVisite guidate programmazione per Adulti comprensive di vox:\n
 €13 intero\n\n€12 lettori di Lazio Eventi\, *NOTA BENE: per usufrui
 re della tariffa scontata specificare "letto su Lazio Eventi" \n\n€11 d
 isabili e loro accompagnatori\n\n€10 ragazzi (da 14 a 17 anni)\n\n€5 
 bambini (da 6 a 13 anni)\n\ngratis (bambini da 0 a 5 anni)\n\nVisite guida
 te programmazione per Bambini comprensive di vox:\n1 bambino (4-13 anni) +
  1 adulto: €15\n2 bambini (4-13 anni) + 1 adulto: €25\n3 bambini (4-13
  anni) + 1 adulto: €35\nAltri adulti: €12 a persona\n***Nota bene: ogn
 i adulto può accompagnare fino a un massimo di 3 bambini. I bambini devon
 o sempre essere accompagnati da un adulto per motivi di sicurezza.\n\nVISI
 TE PRIVATE:\ntutte le nostre visite possono essere prenotate anche privata
 mente\, e condotte oltre che in Italiano anche in lingua straniera.\nPer c
 onoscere  le nostre Tariffe goo.gl/Cs1uw1\n\nPRENOTAZIONI\n"consigliate 
 entro il giorno che precede la data dell'evento"\ncompilando il modulo pre
 notazioni CLICCANDO SUL LINK: bit.ly/3x7jhDj  \no inviando una mail a r
 omaelazioxte@gmail.com\no scrivendo un SMS/WA (se si prenota nelle 24 ore 
 che precedono l’evento) al 3383435907.\nINDICANDO:\ndata e titolo della 
 visita\, nome e cognome di chi effettua la prenotazione\, numero dei parte
 cipanti (specificando l'età di eventuali bambini)\, numero di cellulare e
  indirizzo mail.\n***La prenotazione è indispensabile per ricevere confer
 ma che la visita partirà\, e soprattutto per essere ricontattati in caso 
 di variazioni.
ATTACH;FMTTYPE=image/jpeg:https://lazioeventi.com/wp-content/uploads/2022/
 12/Ferragosto.jpg
CATEGORIES:Arte e Cultura nel Lazio
LOCATION:Roma\, Via Leopardi\, Roma\, Roma\, Lazio\, Italia
GEO:41.8942;12.5017
X-APPLE-STRUCTURED-LOCATION;VALUE=URI;X-ADDRESS=Via Leopardi\, Roma\, Roma\
 , Lazio\, Italia;X-APPLE-RADIUS=100;X-TITLE=Roma:geo:41.8942,12.5017
END:VEVENT
BEGIN:VTIMEZONE
TZID:Europe/Rome
X-LIC-LOCATION:Europe/Rome
BEGIN:STANDARD
DTSTART:20221030T020000
TZOFFSETFROM:+0200
TZOFFSETTO:+0100
TZNAME:CET
END:STANDARD
END:VTIMEZONE
END:VCALENDAR