BEGIN:VCALENDAR
VERSION:2.0
PRODID:-//wp-events-plugin.com//7.2.3.1//EN
TZID:Europe/Rome
X-WR-TIMEZONE:Europe/Rome
BEGIN:VEVENT
UID:44293@lazioeventi.com
DTSTART;TZID=Europe/Rome;VALUE=DATE:20260501
DTEND;TZID=Europe/Rome;VALUE=DATE:20260504
DTSTAMP:20260423T162353Z
URL:https://lazioeventi.com/eventi/roma-ce-visite-guidate-anche-per-bambin
 i-dall1-al-3-maggio-2026
SUMMARY:Roma c'è! Visite guidate (anche per bambini) dall’1 al 3 maggio 
 2026 - Roma - 1 Maggio 26 00:00
DESCRIPTION:L'Associazione culturale Roma e Lazio x te si avvale della co
 llaborazione di storici dell'arte e archeologi regolarmente iscritti nell'
 albo delle guide turistiche di Roma.\nLe visite per bambini e ragazzi sono
  gestite da guide che sono anche operatori didattici specializzati nel lav
 orare con queste fasce d'età.\n\n&nbsp\;\n\nVenerdì 1° maggio 2026\, h 
 11.00\n\nIl Porto di Traiano.\nVisita guidata dell'area archeologica di Po
 rtus.\nGuida: Valeria Scuderi.\nCosto: €21 nuovi iscritti\; €19 soci\;
  €18 insegnanti\, giornalisti\; €15 disabili\, ragazzi da 18 a 25 anni
 \; €10 ragazzi (11-17 anni)\; €5 bambini (6-10 anni)\; gratis bambini 
 (0-5 anni).\nPrenotazioni: sms/wa al 3383435907 o via mail a romaelazioxte
 @gmail.com\nPer ulteriori info CLICCA QUI\n\n \n\nSabato 2 maggio 2026\, 
 h 16.00\nLa Nascita di Roma spiegata ai bambini\nDivertente "visita per b
 ambini" resa ancor più piacevole dalla narrazione delle leggende e dei pe
 rsonaggi legati alla fondazione di Roma.\nGuida/operatore didattico: Andre
 a Leoni.\nContributo associativo: €10 a persona (adulti e bambini a part
 ire da 4 anni).\nPrenotazioni: sms/wa al 3383435907 oppure al 3914124246 o
  via mail a romaelazioxte@gmail.com\nPer ulteriori info CLICCA QUI\n\n \n
 \nSabato 2 maggio 2026\, h 16.30\nGita in battello sul Tevere con visita g
 uidata sulle bellezze di Roma.\nEvento da prenotare e saldare in anticipo.
 \nGuida: Valeria Scuderi\nCosto: per chi paga al momento della prenotazion
 e: €25 nuovi iscritti\; €23 soci.\nPer chi rimanda il pagamento al gio
 rno della gita: €30 nuovi iscritti\; €27 soci.\nRagazzi (da 14 a 17 an
 ni): €20 nuovi iscritti\; Soci €17.\nBambini (da 6 a 13 anni): €17 n
 uovi iscritti\; Soci €15.\nGratis (bambini da 0 a 5 anni).\nPrenotazioni
 : sms/wa al 3383435907 o via mail a romaelazioxte@gmail.com\nPer ulteriori
  info CLICCA QUI\n\n \n\nDomenica 3 maggio 2026\, h 11.00\nLe Terme di Ca
 racalla spiegate ai bambini.\nVisita "giocata" per bambini con biglietto
  d'ingresso gratuito la prima domenica del mese.\nGuida/operatore didattic
 o: Roxana Lupu.\nContributo associativo: €10 a persona (sia adulti che b
 ambini a partire da 4 anni).\nPrenotazioni: sms/wa al 3383435907 o via mai
 l a romaelazioxte@gmail.com\nPer ulteriori info CLICCA QUI\n\n \n\nDomeni
 ca 3 maggio 2026\, h 11.00\nMusei Capitolini\nVisita guidata contingentata
  con biglietto d'ingresso gratuito e saltafila la prima domenica del mes
 e (massimo 26 partecipanti).\nGuida: Giordano Ghini.\nCosto: €15 adulti\
 ; €13 ragazzi da 18 a 25 anni\, disabili\, insegnanti\, giornalisti\; 
 €10 ragazzi (da 11 a 17 anni)\; €5 bambini (da 6 a 10 anni)\; gratis b
 ambini da 0 a 5 anni.\nPrenotazioni: sms/wa al 3383435907 o via mail a rom
 aelazioxte@gmail.com\nPer ulteriori info CLICCA QUI\n\n \n\nDomenica 3 ma
 ggio 2026\, h 16.00\nA spasso con gli Imperatori.\nDivertente "visita per
  bambini" dal Campidoglio alla Valle del Colosseo\, attraversando i Fori I
 mperiali.\nGuida/operatore didattico: Andrea Leoni.\nContributo associativ
 o: €10 a persona (sia adulti che bambini a partire da 4 anni).\nPrenotaz
 ioni: sms/wa al 3383435907 oppure al 3914124246 o via mail a romaelazioxte
 @gmail.com\nPer ulteriori info CLICCA QUI\n\n \n\nDomenica 3 maggio 2026\
 , h 16.00\nVilla Adriana a Tivoli nei colori del tramonto\nVisita guidata 
 a solo €15 comprensivi di biglietto d'ingresso la prima domenica del mes
 e.\nGuida: Valeria Scuderi.\nCosto: €15 intero\; €13 disabili\, ragazz
 i da 18 a 25 anni\, insegnanti e giornalisti\; €11 ragazzi (11-17)\; €
 5 bambini (6-10)\; gratis (0-5).\n+ Biglietto d'ingresso gratuito la prima
  domenica del mese.\nPrenotazioni: sms/wa al 3383435907 o via mail a romae
 lazioxte@gmail.com\nPer ulteriori info CLICCA QUI\n\n \n\nDomenica 3 magg
 io 2026\, h 16.00\nLe Terme di Diocleziano e la riapertura dell'Aula Ottag
 ona\nDai bagni imperiali al genio di Michelangelo\, dall'esedra di Koch al
 la cupola "a ombrello": 1700 anni di Roma in un'unica visita\, a soli 15
 € comprensivi di biglietto d'ingresso la prima domenica del mese\nGuida:
  Marco Biordi.\nCosto: €15 intero\; €14 insegnanti\, giornalisti\, gui
 de turistiche\; €12 disabili\, ragazzi da 15 a 25 anni\; €10 ragazzi (
 11-14)\; €5 bambini (6-10)\; gratis (0-5) + Biglietto d'ingresso gratuit
 o la prima domenica del mese.\nPrenotazioni: sms/wa al 3383435907 o al 329
 6892418 o via mail a romaelazioxte@gmail.com\n*La visita è adatta anche p
 er bambini e ragazzi.\nPer ulteriori info CLICCA QUI\n\n&nbsp\;\n\n\n***\n
 BIGLIETTERIA visite guidate:\nTutte le nostre visite sono condotte da sto
 rici dell'arte\, archeologi e architetti regolarmente iscritti nell'albo d
 elle guide turistiche di Roma.\nLa tariffa include l'auricolare (vox) che 
 permette di ascoltare le nostre guide in assoluto confort\, perché permet
 tono di distanziarci fino a 10 metri\, soffermarci a guardare un particola
 re\, o fare foto\, senza perdere una parola.\n\nVisite guidate programmazi
 one per Adulti comprensive di vox:\n€15 intero\n\n€14 lettori di Lazio
  Eventi\, *NOTA BENE: per usufruire della tariffa scontata specificare 
 "letto su Lazio Eventi" \n\n€12 ragazzi da 18 a 25 anni\, insegnanti\, 
 giornalisti\n\n€11 disabili\n\n€10 ragazzi (da 11 a 17 anni)\n\n€5 b
 ambini (da 6 a 10 anni)\n\nGratis (bambini da 0 a 5 anni)\n\nVisite guidat
 e programmazione per Bambini comprensive di vox:\n€10 a persona (sia adu
 lti che bambini a partire da 4 anni).\n***Nota bene: ogni adulto può acco
 mpagnare fino a un massimo di 3 bambini. I bambini devono sempre essere ac
 compagnati da un adulto per motivi di sicurezza.\n\nVISITE PRIVATE:\ntutte
  le nostre visite possono essere prenotate anche privatamente\, e condotte
  oltre che in Italiano anche in lingua straniera.\nPer conoscere  le nost
 re Tariffe goo.gl/Cs1uw1\n\nPRENOTAZIONI\n"consigliate entro il giorno ch
 e precede la data dell'evento"\ncompilando il modulo prenotazioni CLICCAND
 O SUL LINK: bit.ly/3x7jhDj  \no inviando una mail a romaelazioxte@gmail
 .com\no scrivendo un SMS/WA (se si prenota nelle 24 ore che precedono l’
 evento) al 3383435907.\nINDICANDO:\ndata e titolo della visita\, nome e co
 gnome di chi effettua la prenotazione\, numero dei partecipanti (specifica
 ndo l'età di eventuali bambini)\, numero di cellulare e indirizzo mail.\n
 ***La prenotazione è indispensabile per ricevere conferma che la visita p
 artirà\, e soprattutto per essere ricontattati in caso di variazioni.
ATTACH;FMTTYPE=image/jpeg:https://lazioeventi.com/wp-content/uploads/2026/
 04/Colosseo-Tour-Primavera.jpg
CATEGORIES:Arte e Cultura nel Lazio
LOCATION:Roma\, Via Leopardi\, Roma\, Roma\, Lazio\, Italia
GEO:41.8942;12.5017
X-APPLE-STRUCTURED-LOCATION;VALUE=URI;X-ADDRESS=Via Leopardi\, Roma\, Roma\
 , Lazio\, Italia;X-APPLE-RADIUS=100;X-TITLE=Roma:geo:41.8942,12.5017
END:VEVENT
BEGIN:VTIMEZONE
TZID:Europe/Rome
X-LIC-LOCATION:Europe/Rome
BEGIN:DAYLIGHT
DTSTART:20260329T030000
TZOFFSETFROM:+0100
TZOFFSETTO:+0200
TZNAME:CEST
END:DAYLIGHT
END:VTIMEZONE
END:VCALENDAR