BEGIN:VCALENDAR
VERSION:2.0
PRODID:-//wp-events-plugin.com//7.2.3.1//EN
TZID:Europe/Rome
X-WR-TIMEZONE:Europe/Rome
BEGIN:VEVENT
UID:39042@lazioeventi.com
DTSTART;TZID=Europe/Rome;VALUE=DATE:20240501
DTEND;TZID=Europe/Rome;VALUE=DATE:20240506
DTSTAMP:20240426T141735Z
URL:https://lazioeventi.com/eventi/roma-ce-visite-guidate-anche-per-bambin
 i-dall1-al-5-maggio-2024
SUMMARY:Roma c'è! Visite guidate (anche per bambini) dall’1 al 5 maggio 
 2024 - Roma - 1 Maggio 24 00:00
DESCRIPTION:L'Associazione culturale Roma e Lazio x te si avvale della co
 llaborazione di storici dell'arte e archeologi regolarmente iscritti nell'
 albo delle guide turistiche di Roma.\nLe visite per bambini e ragazzi sono
  gestite da guide che sono anche operatori didattici specializzati nel lav
 orare con queste fasce d'età.\nGli eventi si svolgeranno nel rispetto del
 la normativa Anti Covid vigente: uso mascherina\; green pass dove richiest
 o\; gruppi contingentati.\n\n&nbsp\;\n\n&nbsp\;\n\nMercoledì 1° maggio 2
 024\, h 11.00\n\nCaccia al tesoro fra le piazze di Roma\nDivertente caccia
  agli indizi per famiglie con bambini\, alla ricerca della "Grande Bellez
 za" di Roma\, decifrando indizi e risolvendo enigmi lungo il percorso.\nLa
  caccia al tesoro e visita "giocata" sarà condotta da: Andrea Leoni\, ope
 ratore didattico specializzato nel lavorare con i bambini.\nPer ulteriori 
 info bit.ly/3SOFxyC\n\n&nbsp\;\n\nMercoledì 1° maggio 2024\, h 11.00\nI
 l Parco degli Acquedotti\, laddove l’Acqua Regna Sovrana.\nVisita guidat
 a all'aria aperta\, scoprendo la storia ed i segreti degli Acquedotti Roma
 ni.\nLa visita sarà condotta da: Floriana Lombardi\, docente di teologia 
 e guida turistica della città di Roma.\nPer ulteriori info bit.ly/49vZQr
 M\n\n&nbsp\;\n\nMercoledì 1° maggio 2024\, h 16.00\nI Fori Imperiali: pa
 sseggiando con gli Imperatori.\nPasseggiata archeologica dal Campidoglio a
 l Colosseo attraversando i Fori di Giulio Cesare\, Augusto\, Traiano\, Tra
 nsitorio e della Pace.\nLa visita guidata sarà condotta da: Martina De Ge
 nnaro\, storica dell'arte in possesso dell'abilitazione di guida turistica
  della Provincia di Roma.\n*La visita è adatta anche per bambini e ragazz
 i (da 6 a 17 anni).\nPer ulteriori info bit.ly/3SH92lU\n\n&nbsp\;\n\nSaba
 to 4 maggio 2024\, h 16.30\nArcheologi per gioco nei sotterranei di Traste
 vere alla scoperta dei resti di una domus romana.\nSorprendente ed affasc
 inante "visita giocata" per bambini alla scoperta di un luogo magico\, n
 ascosto nei sotterranei di Trastevere (max 15 bambini più i loro accompag
 natori).\nLa visita "giocata" sarà condotta da: Martina De Gennaro\, guid
 a turistica abilitata\, esperta in attività culturali e di svago per bamb
 ini.\nPer ulteriori info bit.ly/3SLpKBU\n\n&nbsp\;\n\nGIARDINO MOUTAN A V
 ITORCHIANO (VITERBO) - Domenica 5 maggio 2024\nQuota di partecipazione 55
  euro a persona compreso il biglietto d'ingresso al Centro Botanico.\nPer 
 prenotare inviare email o un messaggio whatsapp a Daniela Cirilli 3428847
 988\, danielaaltrieventiroma@gmail.com\nPer leggere la presentazione dell'
 evento bit.ly/4adYtOO\n\n&nbsp\;\n\nDomenica 5 maggio 2024\, h 11.00\nCac
 cia al Tesoro nei giardini incantati di Villa Torlonia e della Casina dell
 e Civette.\nVisita guidata con caccia al tesoro per bambini dai 4 ai 10 
 anni seguendo la mappa del Pirata alla scoperta di Villa Torlonia.\nLa vis
 ita sarà condotta da: Andrea Leoni\, operatore didattico e guida turistic
 a abilitata\, esperto in attività culturali e di svago per bambini.\nPer 
 ulteriori info bit.ly/3wn2Vvr\n\n&nbsp\;\n\nDomenica 5 maggio 2024\, h 11
 .30\nPalazzo Barberini.\nVisita guidata con apertura a numero chiuso a sol
 i €15 (€14 soci)\nL'evento è da prenotare e saldare in anticipo.\nPer
  controllare se abbiamo ancora biglietti disponibili scrivere a romaelazio
 xte@gmail.com o inviare un SMS al 3383435907.\nPer ulteriori info bit.ly/
 49vk7Of\n\n&nbsp\;\n\nDomenica 5 maggio 2024\, h 16.00\nI gladiatori del C
 olosseo\, lo sport e il gioco nell'antica Roma.\nDivertente "visita per b
 ambini" con attività ludiche\, ricostruzioni e rielaborazione culturale p
 er immedesimarsi nella vita di gladiatori e atleti dell'antica Roma dall'a
 llenamento nelle palestre agli incontri nell'arena ed alle gare nei circhi
 .\nLa visita "giocata" sarà condotta da: Martina De Gennaro\, operatrice 
 didattica esperta in attività culturali e di svago per bambini.\nPer ulte
 riori info bit.ly/3hjnWe7\n\n&nbsp\;\n\nDomenica 5 maggio 2024\, h 16.00\
 nL'isola Tiberina e i suoi sotterranei\nVisita guidata a numero chiuso (25
  max)\, con "apertura esclusiva e straordinaria" dei sotterranei della chi
 esa di San Bartolomeo\, eccezionalmente aperti solo per noi\, e dove potre
 mo visitare un'isola sotto l'isola ammirando i resti ipogei di una cripta 
 medievale voluta dall'imperatore Ottone III di Sassonia\, e quelli di epoc
 a repubblicana ed imperiale appartenuti al tempio di Esculapio\, dio della
  medicina. Risaliti in superficie completeremo la visita dell'isola\, scen
 dendo fino alle sue banchine per scoprire che non può esistere Roma senza
  la sua isola.\nLa visita sarà curata da: Floriana Lombardi\, storica del
 l'arte e docente di teologia.\nPer ulteriori info bit.ly/2rquy5v\n\n&nbsp
 \;\n\nDomenica 5 maggio 2024\, h 16.30\nVilla Adriana a Tivoli nei colori 
 del tramonto\nVisita guidata a solo €15 comprensivi di biglietto d'ingre
 sso la prima domenica del mese.\nLa visita sarà condotta da: Valeria Scud
 eri\, storica dell’arte in possesso dell’abilitazione di guida turisti
 ca della Provincia di Roma.\nPer ulteriori info bit.ly/449btDb\n\n&nbsp\;
 \n\n\n***\nBIGLIETTERIA visite guidate:\nTutte le nostre visite sono cond
 otte da storici dell'arte\, archeologi e architetti regolarmente iscritti 
 nell'albo delle guide turistiche di Roma.\nLa tariffa include l'auricolare
  (vox) che permette di ascoltare le nostre guide in assoluto confort\, per
 ché permettono di distanziarci fino a 10 metri\, soffermarci a guardare u
 n particolare\, o fare foto\, senza perdere una parola.\n\nVisite guidate 
 programmazione per Adulti comprensive di vox:\n€13 intero\n\n€12 letto
 ri di Lazio Eventi\, *NOTA BENE: per usufruire della tariffa scontata s
 pecificare "letto su Lazio Eventi" \n\n€11 disabili e loro accompagnato
 ri\n\n€10 ragazzi (da 14 a 17 anni)\n\n€5 bambini (da 6 a 13 anni)\n\
 ngratis (bambini da 0 a 5 anni)\n\nVisite guidate programmazione per Bambi
 ni comprensive di vox:\n1 bambino (4-13 anni) + 1 adulto: €15\n2 bambini
  (4-13 anni) + 1 adulto: €25\n3 bambini (4-13 anni) + 1 adulto: €35\nA
 ltri adulti: €12 a persona\n***Nota bene: ogni adulto può accompagnare 
 fino a un massimo di 3 bambini. I bambini devono sempre essere accompagnat
 i da un adulto per motivi di sicurezza.\n\nVISITE PRIVATE:\ntutte le nostr
 e visite possono essere prenotate anche privatamente\, e condotte oltre ch
 e in Italiano anche in lingua straniera.\nPer conoscere  le nostre Tariff
 e goo.gl/Cs1uw1\n\nPRENOTAZIONI\n"consigliate entro il giorno che precede
  la data dell'evento"\ncompilando il modulo prenotazioni CLICCANDO SUL LIN
 K: bit.ly/3x7jhDj  \no inviando una mail a romaelazioxte@gmail.com\no s
 crivendo un SMS/WA (se si prenota nelle 24 ore che precedono l’evento) a
 l 3383435907.\nINDICANDO:\ndata e titolo della visita\, nome e cognome di 
 chi effettua la prenotazione\, numero dei partecipanti (specificando l'et
 à di eventuali bambini)\, numero di cellulare e indirizzo mail.\n***La pr
 enotazione è indispensabile per ricevere conferma che la visita partirà\
 , e soprattutto per essere ricontattati in caso di variazioni.
ATTACH;FMTTYPE=image/jpeg:https://lazioeventi.com/wp-content/uploads/2024/
 04/Primavera.jpg
CATEGORIES:Arte e Cultura nel Lazio
LOCATION:Roma\, Via Leopardi\, Roma\, Roma\, Lazio\, Italia
GEO:41.8942;12.5017
X-APPLE-STRUCTURED-LOCATION;VALUE=URI;X-ADDRESS=Via Leopardi\, Roma\, Roma\
 , Lazio\, Italia;X-APPLE-RADIUS=100;X-TITLE=Roma:geo:41.8942,12.5017
END:VEVENT
BEGIN:VTIMEZONE
TZID:Europe/Rome
X-LIC-LOCATION:Europe/Rome
BEGIN:DAYLIGHT
DTSTART:20240331T030000
TZOFFSETFROM:+0100
TZOFFSETTO:+0200
TZNAME:CEST
END:DAYLIGHT
END:VTIMEZONE
END:VCALENDAR