BEGIN:VCALENDAR
VERSION:2.0
PRODID:-//wp-events-plugin.com//7.2.3.1//EN
TZID:Europe/Rome
X-WR-TIMEZONE:Europe/Rome
BEGIN:VEVENT
UID:43957@lazioeventi.com
DTSTART;TZID=Europe/Rome;VALUE=DATE:20260314
DTEND;TZID=Europe/Rome;VALUE=DATE:20260316
DTSTAMP:20260305T162740Z
URL:https://lazioeventi.com/eventi/roma-ce-visite-guidate-anche-per-bambin
 i-del-14-e-del-15-marzo-2026
SUMMARY:Roma c'è! Visite guidate (anche per bambini) del 14 e del 15 marzo
  2026 - Roma - 14 Marzo 26 00:00
DESCRIPTION:L'Associazione culturale Roma e Lazio x te si avvale della co
 llaborazione di storici dell'arte e archeologi regolarmente iscritti nell'
 albo delle guide turistiche di Roma.\nLe visite per bambini e ragazzi sono
  gestite da guide che sono anche operatori didattici specializzati nel lav
 orare con queste fasce d'età.\n\n&nbsp\;\n\nSabato 14 marzo 2026\, h 15.3
 0\n\nL'Isola Tiberina e i suoi sotterranei.\nVisita guidata a numero chius
 o (25 max)\, con "apertura esclusiva e straordinaria" dei sotterranei de
 lla chiesa di San Bartolomeo\, eccezionalmente aperti solo per noi\, e dov
 e potremo visitare un'isola sotto l'isola ammirando i resti ipogei di una 
 cripta medievale voluta dall'imperatore Ottone III di Sassonia\, e quelli 
 di epoca repubblicana ed imperiale appartenuti al tempio di Esculapio\, di
 o della medicina. Risaliti in superficie completeremo la visita dell'isola
 \, scendendo fino alle sue banchine per scoprire che non può esistere Rom
 a senza la sua isola.\nGuida: Clelia Di Pasquale.\nCosto: €18 nuovi iscr
 itti\; €16 soci\; €15 ragazzi da 18 a 25 anni\, insegnanti\, giornalis
 ti\; €14 disabili\; €13 ragazzi (11-17)\; €8 bambini (6-10)\; gratis
  (0-5).\nPrenotazioni: sms/wa al 3383435907 o via mail a romaelazioxte@gma
 il.com\nInfo: www.romaelazioperte.it\n\n&nbsp\;\n\nSabato 14 marzo 2026\,
  h 15.00\nArcheologi per gioco nei sotterranei della Basilica di San Paolo
 \nVisita “giocata” con caccia al tesoro "fotografica" per bambini.\nE
 tà consigliata: 4-10 anni (massimo 15 bambini + i loro accompagnatori).\n
 Compito dei piccoli archeologi sarà quello di cercare indizi e risolvere 
 tanti indovinelli all'insegna del "colore"\, perché la Basilica dedicata 
 all'apostolo Paolo nasconde al suo interno e nei suoi misteriosi sotterran
 ei un numero infinito di pietre preziose\, marmi dai mille colori\, mosaic
 i\, vetrate\, sculture e rilievi che voi dovrete a mano a mano scovare ins
 ieme all'aiuto di mamma e papà e fotografare per accedere agli indizi suc
 cessivi!\nGuida/operatore didattico: Andrea Leoni.\nContributo associativo
 : €10 a persona (sia adulti che bambini a partire da 4 anni) + bigliett
 o d'ingresso ai sotterranei: 1 euro a persona (sia bambini che adulti).\n
 Prenotazioni: sms/wa al 3383435907 o al 3914124246 o via mail a romaelazio
 xte@gmail.com\nInfo: www.romaelazioperte.it\n\n&nbsp\;\n\nDomenica 15 mar
 zo 2026\, h 10.30\nSculture viventi nel Rione Ludovisi.\nUn itinerario di 
 scoperta e simbolismo passeggiando nel cuore del Rione Ludovisi ricco di s
 egreti tutti da scoprire.\nGuida: Giordano Ghini.\nCosto: €15 nuovi iscr
 itti\; €13 soci\; €12 ragazzi da 18 a 25 anni\, insegnanti e giornalis
 ti\; €11 disabili\; €10 ragazzi (11-17)\; €5 bambini (6-10)\; gratis
  (0-5).\nPrenotazioni: sms/wa al 3383435907 o via mail a romaelazioxte@gma
 il.com\nInfo: www.romaelazioperte.it\n\n&nbsp\;\n\nDomenica 15 marzo 2026
 \, h 11.00\nTrova il Colosseo!\nIl lupetto Romoletto ci invita tutti quant
 i a partecipare ad una caccia al tesoro un po’ speciale...\nPerché\, ch
 i trova il Colosseo per primo\, vince!\nDivertente caccia al tesoro per b
 ambini con visita "giocata" per andare alla scoperta delle meraviglie e s
 egreti del colle del Celio\, fino a trovare il Colosseo!\nGuida/operatore 
 didattico: Andrea Veronica Peresano.\nContributo associativo: €10 a pers
 ona (sia adulti che bambini a partire da 3 anni).\nPrenotazioni: sms/wa al
  3383435907 o al 3426701353 o via mail a romaelazioxte@gmail.com\nInfo: w
 ww.romaelazioperte.it\n\n&nbsp\;\n\nDomenica 15 marzo 2026\, h 15.00\nLa N
 ascita di Roma spiegata ai bambini\nDivertente "visita per bambini" resa 
 ancor più piacevole dalla narrazione delle leggende e dei personaggi lega
 ti alla fondazione di Roma.\nGuida/operatore didattico: Andrea Veronica Pe
 resano.\nContributo associativo: €10 a persona (adulti e bambini a parti
 re da 4 anni).\nPrenotazioni: sms/wa al 3383435907 oppure al 3426701353 o 
 via mail a romaelazioxte@gmail.com\n\nInfo: www.romaelazioperte.it\n\n&nb
 sp\;\n\nDomenica 15 marzo 2026\, h 16.15\nPalazzo Doria Pamphilj\, ossia d
 ove l'arte tocca il cuore.\nVisita guidata con "apertura a numero chiuso 
 con prenotazione obbligatoria" del Palazzo e della Galleria affacciati su
  Via del Corso.\nGuida: Valeria Scuderi.\nCosto per la visita guidata: €
 15 a persona comprensivo di vox (auricolare)\n+ biglietto d'ingresso €17
  a persona.\nPer sapere se abbiamo ancora posti disponibili chiamare il 33
 83435907 o inviare una mail a romaelazioxte@gmail.com\nInfo: www.romaelaz
 ioperte.it\n\n&nbsp\;\n\n\n***\nBIGLIETTERIA visite guidate:\nTutte le no
 stre visite sono condotte da storici dell'arte\, archeologi e architetti r
 egolarmente iscritti nell'albo delle guide turistiche di Roma.\nLa tariffa
  include l'auricolare (vox) che permette di ascoltare le nostre guide in a
 ssoluto confort\, perché permettono di distanziarci fino a 10 metri\, sof
 fermarci a guardare un particolare\, o fare foto\, senza perdere una parol
 a.\n\nVisite guidate programmazione per Adulti comprensive di vox:\n€15 
 intero\n\n€14 lettori di Lazio Eventi\, *NOTA BENE: per usufruire del
 la tariffa scontata specificare "letto su Lazio Eventi" \n\n€12 ragazzi
  da 18 a 25 anni\, insegnanti\, giornalisti\n\n€11 disabili\n\n€10 rag
 azzi (da 11 a 17 anni)\n\n€5 bambini (da 6 a 10 anni)\n\nGratis (bambini
  da 0 a 5 anni)\n\nVisite guidate programmazione per Bambini comprensive d
 i vox:\n€10 a persona (sia adulti che bambini a partire da 4 anni).\n***
 Nota bene: ogni adulto può accompagnare fino a un massimo di 3 bambini. I
  bambini devono sempre essere accompagnati da un adulto per motivi di sicu
 rezza.\n\nVISITE PRIVATE:\ntutte le nostre visite possono essere prenotate
  anche privatamente\, e condotte oltre che in Italiano anche in lingua str
 aniera.\nPer conoscere  le nostre Tariffe goo.gl/Cs1uw1\n\nPRENOTAZIONI\
 n"consigliate entro il giorno che precede la data dell'evento"\ncompilando
  il modulo prenotazioni CLICCANDO SUL LINK: bit.ly/3x7jhDj  \no inviando
  una mail a romaelazioxte@gmail.com\no scrivendo un SMS/WA (se si prenota
  nelle 24 ore che precedono l’evento) al 3383435907.\nINDICANDO:\ndata e
  titolo della visita\, nome e cognome di chi effettua la prenotazione\, nu
 mero dei partecipanti (specificando l'età di eventuali bambini)\, numero 
 di cellulare e indirizzo mail.\n***La prenotazione è indispensabile per r
 icevere conferma che la visita partirà\, e soprattutto per essere riconta
 ttati in caso di variazioni.
ATTACH;FMTTYPE=image/jpeg:https://lazioeventi.com/wp-content/uploads/2026/
 03/Colosseo-interno.jpg
CATEGORIES:Arte e Cultura nel Lazio
LOCATION:Roma\, Via Leopardi\, Roma\, Roma\, Lazio\, Italia
GEO:41.8942;12.5017
X-APPLE-STRUCTURED-LOCATION;VALUE=URI;X-ADDRESS=Via Leopardi\, Roma\, Roma\
 , Lazio\, Italia;X-APPLE-RADIUS=100;X-TITLE=Roma:geo:41.8942,12.5017
END:VEVENT
BEGIN:VTIMEZONE
TZID:Europe/Rome
X-LIC-LOCATION:Europe/Rome
BEGIN:STANDARD
DTSTART:20251026T020000
TZOFFSETFROM:+0200
TZOFFSETTO:+0100
TZNAME:CET
END:STANDARD
END:VTIMEZONE
END:VCALENDAR