BEGIN:VCALENDAR
VERSION:2.0
PRODID:-//wp-events-plugin.com//7.2.3.1//EN
TZID:Europe/Rome
X-WR-TIMEZONE:Europe/Rome
BEGIN:VEVENT
UID:38714@lazioeventi.com
DTSTART;TZID=Europe/Rome;VALUE=DATE:20240316
DTEND;TZID=Europe/Rome;VALUE=DATE:20240318
DTSTAMP:20240307T144158Z
URL:https://lazioeventi.com/eventi/roma-ce-visite-guidate-anche-per-bambin
 i-del-16-e-17-marzo-2024
SUMMARY:Roma c'è! Visite guidate (anche per bambini) del 16 e 17 marzo 202
 4 - Roma - 16 Marzo 24 00:00
DESCRIPTION:L'Associazione culturale Roma e Lazio x te si avvale della co
 llaborazione di storici dell'arte e archeologi regolarmente iscritti nell'
 albo delle guide turistiche di Roma.\nLe visite per bambini e ragazzi sono
  gestite da guide che sono anche operatori didattici specializzati nel lav
 orare con queste fasce d'età.\nGli eventi si svolgeranno nel rispetto del
 la normativa Anti Covid vigente: uso mascherina\; green pass dove richiest
 o\; gruppi contingentati.\n\n&nbsp\;\n\n&nbsp\;\n\nSabato 16 marzo 2024\, 
 h 16.00\n\nArcheologi per gioco nei sotterranei di Trastevere alla scopert
 a di una Domus romana appartenuta a Santa Cecilia.\nSorprendente ed affasc
 inante visita "giocata" per bambini alla scoperta di un luogo magico\, n
 ascosto nei sotterranei di Trastevere (max 15 bambini più i loro accompag
 natori).\nLa visita "giocata" sarà condotta da: Martina De Gennaro\, guid
 a turistica abilitata\, esperta in attività culturali e di svago per bamb
 ini.\nPer ulteriori info bit.ly/3SLpKBU\n\n&nbsp\;\n\nSabato 16 marzo 202
 4\, h 16.00\nI Sotterranei di San Salvatore in Onda e meraviglie e segret
 i del Rione Regola.\n\nAprendo una botola nascosta nel pavimento medievale
  di una cripta ipogea\, scenderemo all'interno di affascinanti ambienti di
  epoca romana databili tra il I e III sec d.C. Risaliti in superficie pros
 eguiremo la nostra visita andando alla scoperta dei vicoli del Rione Regol
 a\, uno scrigno di sorprese per lo più misconosciuto a romani e turisti.\
 nLa visita sarà condotta da: Floriana Lombardi\, docente di teologia e gu
 ida turistica della città di Roma.\nPer ulteriori info bit.ly/3vKLuoj\n\
 n&nbsp\;\n\nDomenica 17 marzo 2024\, h 11.00\nA spasso con gli Imperatori.
 \nDivertente "visita per bambini" dal Campidoglio alla Valle del Colosseo
 \, attraversando i Fori Imperiali.\nLa visita "giocata" sarà condotta da:
  Martina De Gennaro\, operatrice didattica esperta in attività culturali 
 e di svago per bambini.\n\nPer ulteriori info bit.ly/48s2qh7\n\n&nbsp\;\n
 \nDomenica 17 marzo 2024\, h 11.00\nMeraviglie e segreti di Roma\nPasseggi
 ata guidata tra i vicoli e le piazze del Rione Parione\, da Sant'Andrea de
 lla Valle a Santa Maria in Vallicella.\nLa visita sarà condotta da: Flori
 ana Lombardi\, docente di teologia e guida turistica della città di Roma.
 \nPer ulteriori info bit.ly/3EYIW8u\n\n&nbsp\;\n\nDomenica 17 marzo 2024\
 , h 15.30\nI Sotterranei di San Martino ai Monti.\nVisita guidata della ch
 iesa e dei suoi suggestivi sotterranei che verranno aperti "esclusivamente
  e su prenotazione" per il nostro gruppo.\nLa visita sarà condotta da: Fl
 oriana Lombardi\, docente di teologia e guida ambientale.\nPer ulteriori i
 nfo bit.ly/42QeVSu\n\n&nbsp\;\n\nDomenica 17 marzo 2024\, h 15.45\nCaccia
  al Tesoro nei giardini incantati di Villa Torlonia e della Casina delle C
 ivette.\nVisita guidata con caccia al tesoro per bambini dai 4 ai 10 ann
 i seguendo la mappa del Pirata alla scoperta di Villa Torlonia.\nLa visita
  sarà condotta da: Andrea Leoni\, operatore didattico e guida turistica a
 bilitata\, esperto in attività culturali e di svago per bambini.\nPer ult
 eriori info bit.ly/3wn2Vvr\n\n&nbsp\;\n\n\n***\nBIGLIETTERIA visite guid
 ate:\nTutte le nostre visite sono condotte da storici dell'arte\, archeolo
 gi e architetti regolarmente iscritti nell'albo delle guide turistiche di 
 Roma.\nLa tariffa include l'auricolare (vox) che permette di ascoltare le 
 nostre guide in assoluto confort\, perché permettono di distanziarci fino
  a 10 metri\, soffermarci a guardare un particolare\, o fare foto\, senza 
 perdere una parola.\n\nVisite guidate programmazione per Adulti comprensiv
 e di vox:\n€13 intero\n\n€12 lettori di Lazio Eventi\, *NOTA BENE: 
 per usufruire della tariffa scontata specificare "letto su Lazio Eventi" 
 \n\n€11 disabili e loro accompagnatori\n\n€10 ragazzi (da 14 a 17 ann
 i)\n\n€5 bambini (da 6 a 13 anni)\n\ngratis (bambini da 0 a 5 anni)\n\nV
 isite guidate programmazione per Bambini comprensive di vox:\n1 bambino (4
 -13 anni) + 1 adulto: €15\n2 bambini (4-13 anni) + 1 adulto: €25\n3 ba
 mbini (4-13 anni) + 1 adulto: €35\nAltri adulti: €12 a persona\n***Not
 a bene: ogni adulto può accompagnare fino a un massimo di 3 bambini. I ba
 mbini devono sempre essere accompagnati da un adulto per motivi di sicurez
 za.\n\nVISITE PRIVATE:\ntutte le nostre visite possono essere prenotate an
 che privatamente\, e condotte oltre che in Italiano anche in lingua strani
 era.\nPer conoscere  le nostre Tariffe goo.gl/Cs1uw1\n\nPRENOTAZIONI\n"c
 onsigliate entro il giorno che precede la data dell'evento"\ncompilando il
  modulo prenotazioni CLICCANDO SUL LINK: bit.ly/3x7jhDj  \no inviando un
 a mail a romaelazioxte@gmail.com\no scrivendo un SMS/WA (se si prenota ne
 lle 24 ore che precedono l’evento) al 3383435907.\nINDICANDO:\ndata e ti
 tolo della visita\, nome e cognome di chi effettua la prenotazione\, numer
 o dei partecipanti (specificando l'età di eventuali bambini)\, numero di 
 cellulare e indirizzo mail.\n***La prenotazione è indispensabile per rice
 vere conferma che la visita partirà\, e soprattutto per essere ricontatta
 ti in caso di variazioni.
ATTACH;FMTTYPE=image/jpeg:https://lazioeventi.com/wp-content/uploads/2024/
 03/azzalee.jpg
CATEGORIES:Arte e Cultura nel Lazio
LOCATION:Roma\, Via Leopardi\, Roma\, Roma\, Lazio\, Italia
GEO:41.8942;12.5017
X-APPLE-STRUCTURED-LOCATION;VALUE=URI;X-ADDRESS=Via Leopardi\, Roma\, Roma\
 , Lazio\, Italia;X-APPLE-RADIUS=100;X-TITLE=Roma:geo:41.8942,12.5017
END:VEVENT
BEGIN:VTIMEZONE
TZID:Europe/Rome
X-LIC-LOCATION:Europe/Rome
BEGIN:STANDARD
DTSTART:20231029T020000
TZOFFSETFROM:+0200
TZOFFSETTO:+0100
TZNAME:CET
END:STANDARD
END:VTIMEZONE
END:VCALENDAR