BEGIN:VCALENDAR
VERSION:2.0
PRODID:-//wp-events-plugin.com//7.2.3.1//EN
TZID:Europe/Rome
X-WR-TIMEZONE:Europe/Rome
BEGIN:VEVENT
UID:36952@lazioeventi.com
DTSTART;TZID=Europe/Rome:20230916T000000
DTEND;TZID=Europe/Rome:20230917T000000
DTSTAMP:20230907T113705Z
URL:https://lazioeventi.com/eventi/roma-ce-visite-guidate-anche-per-bambin
 i-del-16-e-17-settembre-2023
SUMMARY:Roma c'è! Visite guidate (anche per bambini) del 16 e 17 settembre
  2023 - Roma - 16 Settembre 23 00:00
DESCRIPTION:L'Associazione culturale Roma e Lazio x te si avvale della co
 llaborazione di storici dell'arte e archeologi regolarmente iscritti nell'
 albo delle guide turistiche di Roma.\nLe visite per bambini e ragazzi sono
  gestite da guide che sono anche operatori didattici specializzati nel lav
 orare con queste fasce d'età.\nGli eventi si svolgeranno nel rispetto del
 la normativa Anti Covid vigente: uso mascherina\; green pass dove richiest
 o\; gruppi contingentati.\n\n&nbsp\;\n\n&nbsp\;\n\nSabato 16 settembre 202
 3\, h 16.45\n\nGli Angeli di Castel Sant'Angelo.\nVisita guidata per bamb
 ini a numero chiuso (massimo 20 partecipanti tra bambini e adulti)\nLa vi
 sita va prenotata e saldata in anticipo.\nLa visita sarà condotta da: Mar
 tina De Gennaro\, guida turistica abilitata\, esperta in attività cultura
 li e di svago per bambini.\nPer ulteriori info bit.ly/3Gyjx6r\n\n&nbsp\;\
 n\nSabato 16 settembre 2023\, h 17.00\nLa Nascita di Roma.\nPasseggiata ar
 cheologica dall'Isola Tiberina al Circo Massimo passando per il Foro Boari
 o e Olitorio.\nLa visita sarà condotta da: Marco Biordi\, storico dell'ar
 te in possesso dell'abilitazione di guida turistica della Provincia di Rom
 a.\nPer ulteriori info goo.gl/rcZgpb\n\n&nbsp\;\n\nDomenica 17 settembre 
 2023\, h 17.00\nCome funzionavano gli Acquedotti romani?\nA spasso per Rom
 a con i vostri bambini al Parco degli Acquedotti per scoprirne costruzio
 ne e funzionamento.\nLa visita "giocata" sarà condotta da: Cristina De Fi
 lippis\, guida turistica abilitata\, esperta in attività culturali e di s
 vago per bambini.\nPer ulteriori info goo.gl/xqFZW9\n\n&nbsp\;\n\nDomenic
 a 17 settembre 2023\, h 17.00\nRoma insolita e segreta: viaggio nel Libert
 y\nItinerario guidato alla scoperta dell’Art Nouveau dalle bizzarrie del
  quartiere Coppedè alla splendida tenuta di Villa Torlonia\, muovendo tra
  i viali alberati e gli eleganti villini del quartiere Trieste.\nLa visita
  guidata sarà condotta da: Alessia Di Giacomo storica dell'arte in posses
 so dell'abilitazione di guida turistica.\nPer ulteriori info bit.ly/46OCn
 RM\n\n&nbsp\;\n\nDomenica 17 settembre 2023\, h 17.00\nGita in battello co
 n visita guidata sulle bellezze di Roma.\nStoria dell'Urbe attraverso il s
 uo "Fiume".\nDa prenotare e saldare in anticipo: per garantire lo svolgim
 ento dell'evento occorre prenotare e saldare in anticipo la quota di parte
 cipazione che include il biglietto per la navigazione del Tevere\, la visi
 ta guidata e gli auricolari.\nLa visita sarà condotta da: Floriana Lomba
 rdi\, docente di teologia e guida ambientale.\n\nPer ulteriori info goo.g
 l/uNV16J\n\n&nbsp\;\n\n\n***\nBIGLIETTERIA visite guidate:\nTutte le nost
 re visite sono condotte da storici dell'arte\, archeologi e architetti reg
 olarmente iscritti nell'albo delle guide turistiche di Roma.\nLa tariffa i
 nclude l'auricolare (vox) che permette di ascoltare le nostre guide in ass
 oluto confort\, perché permettono di distanziarci fino a 10 metri\, soffe
 rmarci a guardare un particolare\, o fare foto\, senza perdere una parola.
 \n\nVisite guidate programmazione per Adulti comprensive di vox:\n€13 in
 tero\n\n€12 lettori di Lazio Eventi\, *NOTA BENE: per usufruire della
  tariffa scontata specificare "letto su Lazio Eventi" \n\n€11 disabili 
 e loro accompagnatori\n\n€10 ragazzi (da 14 a 17 anni)\n\n€5 bambini 
 (da 6 a 13 anni)\n\ngratis (bambini da 0 a 5 anni)\n\nVisite guidate progr
 ammazione per Bambini comprensive di vox:\n1 bambino (4-13 anni) + 1 adult
 o: €15\n2 bambini (4-13 anni) + 1 adulto: €25\n3 bambini (4-13 anni) +
  1 adulto: €35\nAltri adulti: €12 a persona\n***Nota bene: ogni adulto
  può accompagnare fino a un massimo di 3 bambini. I bambini devono sempre
  essere accompagnati da un adulto per motivi di sicurezza.\n\nVISITE PRIVA
 TE:\ntutte le nostre visite possono essere prenotate anche privatamente\, 
 e condotte oltre che in Italiano anche in lingua straniera.\nPer conoscere
   le nostre Tariffe goo.gl/Cs1uw1\n\nPRENOTAZIONI\n"consigliate entro il
  giorno che precede la data dell'evento"\ncompilando il modulo prenotazion
 i CLICCANDO SUL LINK: bit.ly/3x7jhDj  \no inviando una mail a romaelazi
 oxte@gmail.com\no scrivendo un SMS/WA (se si prenota nelle 24 ore che prec
 edono l’evento) al 3383435907.\nINDICANDO:\ndata e titolo della visita\,
  nome e cognome di chi effettua la prenotazione\, numero dei partecipanti 
 (specificando l'età di eventuali bambini)\, numero di cellulare e indiriz
 zo mail.\n***La prenotazione è indispensabile per ricevere conferma che l
 a visita partirà\, e soprattutto per essere ricontattati in caso di varia
 zioni.
ATTACH;FMTTYPE=image/jpeg:https://lazioeventi.com/wp-content/uploads/2023/
 09/ANGELO.jpg
CATEGORIES:Arte e Cultura nel Lazio
LOCATION:Roma\, Via Leopardi\, Roma\, Roma\, Lazio\, Italia
GEO:41.8942;12.5017
X-APPLE-STRUCTURED-LOCATION;VALUE=URI;X-ADDRESS=Via Leopardi\, Roma\, Roma\
 , Lazio\, Italia;X-APPLE-RADIUS=100;X-TITLE=Roma:geo:41.8942,12.5017
END:VEVENT
BEGIN:VTIMEZONE
TZID:Europe/Rome
X-LIC-LOCATION:Europe/Rome
BEGIN:DAYLIGHT
DTSTART:20230326T030000
TZOFFSETFROM:+0100
TZOFFSETTO:+0200
TZNAME:CEST
END:DAYLIGHT
END:VTIMEZONE
END:VCALENDAR