BEGIN:VCALENDAR
VERSION:2.0
PRODID:-//wp-events-plugin.com//7.2.3.1//EN
TZID:Europe/Rome
X-WR-TIMEZONE:Europe/Rome
BEGIN:VEVENT
UID:43532@lazioeventi.com
DTSTART;TZID=Europe/Rome;VALUE=DATE:20260117
DTEND;TZID=Europe/Rome;VALUE=DATE:20260119
DTSTAMP:20260112T220046Z
URL:https://lazioeventi.com/eventi/roma-ce-visite-guidate-anche-per-bambin
 i-del-17-e-18-gennaio-2026
SUMMARY:Roma c'è! Visite guidate (anche per bambini) del 17 e 18 gennaio 2
 026 - Roma - 17 Gennaio 26 00:00
DESCRIPTION:L'Associazione culturale Roma e Lazio x te si avvale della co
 llaborazione di storici dell'arte e archeologi regolarmente iscritti nell'
 albo delle guide turistiche di Roma.\nLe visite per bambini e ragazzi sono
  gestite da guide che sono anche operatori didattici specializzati nel lav
 orare con queste fasce d'età.\n\n&nbsp\;\n\nSabato 17 gennaio 2026\, h 15
 .00\n\nArcheologi per gioco nei sotterranei della Basilica di San Paolo\nV
 isita “giocata” con caccia al tesoro "fotografica" per bambini.\nEtà
  consigliata: 4-10 anni (massimo 15 bambini + i loro accompagnatori).\nCom
 pito dei piccoli archeologi sarà quello di cercare indizi e risolvere tan
 ti indovinelli all'insegna del "colore"\, perché la Basilica dedicata all
 'apostolo Paolo nasconde al suo interno e nei suoi misteriosi sotterranei 
 un numero infinito di pietre preziose\, marmi dai mille colori\, mosaici\,
  vetrate\, sculture e rilievi che voi dovrete a mano a mano scovare insiem
 e all'aiuto di mamma e papà e fotografare per accedere agli indizi succes
 sivi!\nGuida/operatore didattico: Andrea Leoni.\nContributo associativo: 
 €10 a persona (sia adulti che bambini a partire da 4 anni) + biglietto 
 d'ingresso ai sotterranei: 1 euro a persona (sia bambini che adulti).\nPr
 enotazioni: sms/wa al 3383435907 o al 3914124246 o via mail a romaelazioxt
 e@gmail.com\nInfo: www.romaelazioperte.it\n\n&nbsp\;\n\nSabato 17 gennaio
  2026\, h 15.30\nL’Abbazia delle Tre Fontane: spiritualità\, tradizione
 \, arte medievale e la cioccolata dei Frati Trappisti.\nUna passeggiata ne
 l cuore medievale della campagna romana per scoprire le sorgenti delle Acq
 ue Salvie e il laboratorio di birra e cioccolato dei Frati Trappisti.\nGui
 da: Clelia Di Pasquale.\nCosto: €15 nuovi iscritti\; €13 soci\; €12 
 ragazzi da 18 a 25 anni\, insegnanti\, giornalisti\; €11 disabili\; €1
 0 ragazzi (11-17)\; €5 bambini (6-10)\; gratis bambini (0-5).\nPrenotazi
 oni: sms/wa al 3383435907 o via mail a romaelazioxte@gmail.com\n*La visita
  è adatta anche per bambini e ragazzi.\nInfo: www.romaelazioperte.it\n\n
 &nbsp\;\n\nDomenica 18 gennaio 2026\, h 11.00\nCaccia al tesoro nei giardi
 ni segreti di Villa Borghese\nDivertente "visita giocata per bambini" a c
 accia di indizi per scoprire storia e segreti dei giardini di villa Borghe
 se\, dove nascosti nel verde vivono animali fantastici e divinità mitolog
 iche che noi scoveremo seguendo la mappa del tesoro.\nGuida/operatore dida
 ttico: Andrea Veronica Peresano.\nContributo associativo: €10 a persona 
 (sia adulti che bambini a partire da 4 anni).\nPrenotazioni: sms/wa al 338
 3435907 oppure al 3426701353 o via mail a romaelazioxte@gmail.com\nInfo: 
 www.romaelazioperte.it\n\n&nbsp\;\n\nDomenica 18 gennaio 2026\, h 11.00\nI
  segreti della Via Appia: la “Regina Viarum”.\nVisita guidata per scop
 rire storia e segreti della via più interessante e meglio conservata dell
 'antichità.\nGuide: Giordano Ghini e Andrea Leoni.\nCosto: €15 nuovi is
 critti\; €13 soci\; €12 ragazzi da 18 a 25 anni\, insegnanti e giornal
 isti\; €11 disabili\; €10 ragazzi (11-17)\; €5 bambini (6-10)\; grat
 is (0-5) + €1 a persona piccola offerta per la Chiesa.\nPrenotazioni: s
 ms/wa al 3383435907 o al 3914124246 o via mail a romaelazioxte@gmail.com\n
 Info: www.romaelazioperte.it\n\n&nbsp\;\n\nDomenica 18 gennaio 2026\, h 1
 5.00\nA spasso con gli Imperatori.\nDivertente "visita per bambini" dal C
 ampidoglio alla Valle del Colosseo\, attraversando i Fori Imperiali.\nGuid
 a/operatore didattico: Andrea Leoni.\nContributo associativo: €10 a pers
 ona (sia adulti che bambini a partire da 4 anni).\nPrenotazioni: sms/wa al
  3383435907 oppure al 3914124246 o via mail a romaelazioxte@gmail.com\n\nI
 nfo: www.romaelazioperte.it\n\n&nbsp\;\n\nDomenica 18 gennaio 2026\, h 15
 .30\nSotterranei di San Martino ai Monti.\nVisita guidata della chiesa e d
 ei suoi suggestivi sotterranei che verranno aperti "esclusivamente e su pr
 enotazione" per il nostro gruppo.\nCosto: €15 nuovi iscritti\; €13 soc
 i\; €12 ragazzi da 18 a 25 anni\, insegnanti e giornalisti\; €11 disab
 ili\; €10 ragazzi (11-17)\; €5 bambini (6-10)\; gratis (0-5) + biglie
 tto d'ingresso ai sotterranei: €4 a persona (gratuito 0-10 anni).\nPren
 otazioni: sms/wa al 3383435907 o via mail a romaelazioxte@gmail.com\nIn
 fo: www.romaelazioperte.it\n\n \n\n\n***\nBIGLIETTERIA visite guidate:\
 nTutte le nostre visite sono condotte da storici dell'arte\, archeologi e 
 architetti regolarmente iscritti nell'albo delle guide turistiche di Roma.
 \nLa tariffa include l'auricolare (vox) che permette di ascoltare le nostr
 e guide in assoluto confort\, perché permettono di distanziarci fino a 10
  metri\, soffermarci a guardare un particolare\, o fare foto\, senza perde
 re una parola.\n\nVisite guidate programmazione per Adulti comprensive di 
 vox:\n€15 intero\n\n€14 lettori di Lazio Eventi\, *NOTA BENE: per u
 sufruire della tariffa scontata specificare "letto su Lazio Eventi" \n\n
 €12 ragazzi da 18 a 25 anni\, insegnanti\, giornalisti\n\n€11 disabili
 \n\n€10 ragazzi (da 11 a 17 anni)\n\n€5 bambini (da 6 a 10 anni)\n\nGr
 atis (bambini da 0 a 5 anni)\n\nVisite guidate programmazione per Bambini 
 comprensive di vox:\n€10 a persona (sia adulti che bambini a partire da 
 4 anni).\n***Nota bene: ogni adulto può accompagnare fino a un massimo di
  3 bambini. I bambini devono sempre essere accompagnati da un adulto per m
 otivi di sicurezza.\n\nVISITE PRIVATE:\ntutte le nostre visite possono ess
 ere prenotate anche privatamente\, e condotte oltre che in Italiano anche 
 in lingua straniera.\nPer conoscere  le nostre Tariffe goo.gl/Cs1uw1\n\n
 PRENOTAZIONI\n"consigliate entro il giorno che precede la data dell'evento
 "\ncompilando il modulo prenotazioni CLICCANDO SUL LINK: bit.ly/3x7jhDj 
  \no inviando una mail a romaelazioxte@gmail.com\no scrivendo un SMS/WA 
 (se si prenota nelle 24 ore che precedono l’evento) al 3383435907.\nINDI
 CANDO:\ndata e titolo della visita\, nome e cognome di chi effettua la pre
 notazione\, numero dei partecipanti (specificando l'età di eventuali bamb
 ini)\, numero di cellulare e indirizzo mail.\n***La prenotazione è indisp
 ensabile per ricevere conferma che la visita partirà\, e soprattutto per 
 essere ricontattati in caso di variazioni.
ATTACH;FMTTYPE=image/jpeg:https://lazioeventi.com/wp-content/uploads/2026/
 01/COPERTINA-4.jpg
CATEGORIES:Arte e Cultura nel Lazio
LOCATION:Roma\, Via Leopardi\, Roma\, Roma\, Lazio\, Italia
GEO:41.8942;12.5017
X-APPLE-STRUCTURED-LOCATION;VALUE=URI;X-ADDRESS=Via Leopardi\, Roma\, Roma\
 , Lazio\, Italia;X-APPLE-RADIUS=100;X-TITLE=Roma:geo:41.8942,12.5017
END:VEVENT
BEGIN:VTIMEZONE
TZID:Europe/Rome
X-LIC-LOCATION:Europe/Rome
BEGIN:STANDARD
DTSTART:20251026T020000
TZOFFSETFROM:+0200
TZOFFSETTO:+0100
TZNAME:CET
END:STANDARD
END:VTIMEZONE
END:VCALENDAR