BEGIN:VCALENDAR
VERSION:2.0
PRODID:-//wp-events-plugin.com//7.2.3.1//EN
TZID:Europe/Rome
X-WR-TIMEZONE:Europe/Rome
BEGIN:VEVENT
UID:40454@lazioeventi.com
DTSTART;TZID=Europe/Rome;VALUE=DATE:20241221
DTEND;TZID=Europe/Rome;VALUE=DATE:20241223
DTSTAMP:20241216T202446Z
URL:https://lazioeventi.com/eventi/roma-ce-visite-guidate-anche-per-bambin
 i-del-21-e-22-dicembre-2024
SUMMARY:Roma c'è! Visite guidate (anche per bambini) del 21 e 22 dicembre 
 2024 - Roma - 21 Dicembre 24 00:00
DESCRIPTION:L'Associazione culturale Roma e Lazio x te si avvale della co
 llaborazione di storici dell'arte e archeologi regolarmente iscritti nell'
 albo delle guide turistiche di Roma.\nLe visite per bambini e ragazzi sono
  gestite da guide che sono anche operatori didattici specializzati nel lav
 orare con queste fasce d'età.\nGli eventi si svolgeranno nel rispetto del
 la normativa Anti Covid vigente: uso mascherina\; green pass dove richiest
 o\; gruppi contingentati.\n\n&nbsp\;\n\n&nbsp\;\n\nSabato 21 dicembre 2024
 \, h 16.00\n\nGiocare visitando Roma: l’arte del Mosaico spiegata ai ba
 mbini.\nLaboratorio di mosaico e visita "giocata" per bambini della Chie
 sa medievale di Santa Prassede.\nDurante la visita giocata\, i bambini avr
 anno il privilegio di imparare quest'arte costruendo il nostro piccolo\, m
 a bellissimo mosaico personale!\nGuida/operatore didattico: Martina De Gen
 naro.\nContributo associativo: €10 a persona (sia adulti che bambini a p
 artire da 4 anni) + €10 a bambino per coprire il costo del laboratorio
  (locazione\, materiali\, e accensione delle luci per illuminare i mosaici
 ).\nPrenotazioni: sms/wa al 3391284318 o al 3478467394 o via mail a romael
 azioxte@gmail.com\nPer ulteriori info bit.ly/3w8wwZH\n\n&nbsp\;\n\nSabato
  21 dicembre 2024\, h 16.00\nSotterranei di San Martino ai Monti.\nVisita 
 guidata della chiesa e dei suoi suggestivi sotterranei che verranno aperti
  "esclusivamente e su prenotazione" per il nostro gruppo.\nGuida: Floria
 na Lombardi.\nCosto: €13 nuovi iscritti\; €12 soci\; €11 disabili e 
 loro accompagnatori\; €10 ragazzi (14-17)\; €5 bambini (6-13) + bigli
 etto d'ingresso ai sotterranei: €4 a persona (gratuito 0-10 anni).\nPre
 notazioni: sms/wa al 3391284318 o al 3477671316 o via mail a romaelazioxte
 @gmail.com\nPer ulteriori info bit.ly/42QeVSu\n\n&nbsp\;\n\nDomenica 22 d
 icembre 2024\, h 10.30\nCaccia al Tesoro nei giardini segreti di Villa Bor
 ghese\nDivertente "visita giocata per bambini" a caccia di indizi per sco
 prire storia e segreti dei giardini di villa Borghese\, dove nascosti nel 
 verde vivono animali fantastici e divinità mitologiche che noi scoveremo 
 seguendo la mappa del tesoro.\nGuida/operatore didattico: Andrea Leoni.\nC
 ontributo associativo: €10 a persona (sia adulti che bambini a partire d
 a 4 anni).\nPrenotazioni: sms/wa al 3391284318 o al 3914124246 o via mail 
 a romaelazioxte@gmail.com\nPer ulteriori info bit.ly/3wzd2xe\n\n&nbsp\;\n
 \nDomenica 22 dicembre 2024\, h 11.00\nIl Cimitero del Verano: amore\, mor
 te e poesia.\nVisita guidata.\nGuida: Floriana Lombardi.\nCosto: €13 nuo
 vi iscritti\; €12 soci\; €11 disabili e loro accompagnatori\; €10 ra
 gazzi (14-17)\; €5 bambini (6-13).\nPrenotazioni: sms/wa al 3391284318\,
  o al 3477671316\, o via mail a romaelazioxte@gmail.com\nPer ulteriori inf
 o bit.ly/495j0Vh\n\n&nbsp\;\n\nDomenica 22 dicembre 2024\, h 15.00\nCacci
 a al Tesoro "fotografica" per scoprire i segreti della Basilica di San Pa
 olo\nDivertente visita giocata per bambini (massimo 15 bambini + i loro 
 accompagnatori) con un'avvincente caccia al tesoro fotografica all'insegna
  del "colore" per scoprire la storia e i segreti che si celano all'interno
  della Basilica dedicata all'apostolo Paolo\, protettore della città di R
 oma.\nGuida/operatore didattico: Andrea Leoni.\nContributo associativo: 
 €10 a persona (sia adulti che bambini a partire da 4 anni).\nPrenotazion
 i: sms/wa al 3391284318 o al 3914124246 o via mail a romaelazioxte@gmail.c
 om\nPer ulteriori info bit.ly/3ZJxIiC\n\n&nbsp\;\n\nDomenica 22 dicembre 
 2022\, h 15.30\nI Sotterranei di San Vito all'Arco di Gallieno e i segret
 i del Clivius Suburanus.\nVisita guidata alla scoperta di un angolo di Rom
 a poco noto ed affascinante sia in superficie che nei suoi sotterranei\, d
 ove ancora sono visibili tracce dell'antica Roma nei nomi e nelle pietre. 
 Visiteremo torri\, chiese e monasteri medievali\, un tratto delle Mura Ser
 viane\, e i resti ipogei di una affascinante area archeologica con vestigi
 a risalenti addirittura all'epoca regia della città.\nGuida: Floriana Lom
 bardi.\nCosto: €16 nuovi iscritti\; €15 soci\; €14 disabili e loro a
 ccompagnatori\; €13 ragazzi (14-17)\; €8 bambini (6-13).\nPrenotazioni
 : sms/wa al 3391284318\, o al 3477671316\, o via mail a romaelazioxte@gmai
 l.com\nPer ulteriori info bit.ly/4g6LSQt\n\n&nbsp\;\n\n\n***\nBIGLIETTERI
 A visite guidate:\nTutte le nostre visite sono condotte da storici dell'a
 rte\, archeologi e architetti regolarmente iscritti nell'albo delle guide 
 turistiche di Roma.\nLa tariffa include l'auricolare (vox) che permette di
  ascoltare le nostre guide in assoluto confort\, perché permettono di dis
 tanziarci fino a 10 metri\, soffermarci a guardare un particolare\, o fare
  foto\, senza perdere una parola.\n\nVisite guidate programmazione per Adu
 lti comprensive di vox:\n€13 intero\n\n€12 lettori di Lazio Eventi\, 
 *NOTA BENE: per usufruire della tariffa scontata specificare "letto su L
 azio Eventi" \n\n€11 disabili e loro accompagnatori\n\n€10 ragazzi (
 da 14 a 17 anni)\n\n€5 bambini (da 6 a 13 anni)\n\ngratis (bambini da 0 
 a 5 anni)\n\nVisite guidate programmazione per Bambini comprensive di vox:
 \n€10 a persona (sia adulti che bambini a partire da 4 anni).\n***Nota b
 ene: ogni adulto può accompagnare fino a un massimo di 3 bambini. I bambi
 ni devono sempre essere accompagnati da un adulto per motivi di sicurezza.
 \n\nVISITE PRIVATE:\ntutte le nostre visite possono essere prenotate anche
  privatamente\, e condotte oltre che in Italiano anche in lingua straniera
 .\nPer conoscere  le nostre Tariffe goo.gl/Cs1uw1\n\nPRENOTAZIONI\n"cons
 igliate entro il giorno che precede la data dell'evento"\ncompilando il mo
 dulo prenotazioni CLICCANDO SUL LINK: bit.ly/3x7jhDj  \no inviando una m
 ail a romaelazioxte@gmail.com\no scrivendo un SMS/WA (se si prenota nelle
  24 ore che precedono l’evento) al 3383435907.\nINDICANDO:\ndata e titol
 o della visita\, nome e cognome di chi effettua la prenotazione\, numero d
 ei partecipanti (specificando l'età di eventuali bambini)\, numero di cel
 lulare e indirizzo mail.\n***La prenotazione è indispensabile per ricever
 e conferma che la visita partirà\, e soprattutto per essere ricontattati 
 in caso di variazioni.
ATTACH;FMTTYPE=image/jpeg:https://lazioeventi.com/wp-content/uploads/2024/
 12/ANGELO.jpg
CATEGORIES:Arte e Cultura nel Lazio
LOCATION:Roma\, Via Leopardi\, Roma\, Roma\, Lazio\, Italia
GEO:41.8942;12.5017
X-APPLE-STRUCTURED-LOCATION;VALUE=URI;X-ADDRESS=Via Leopardi\, Roma\, Roma\
 , Lazio\, Italia;X-APPLE-RADIUS=100;X-TITLE=Roma:geo:41.8942,12.5017
END:VEVENT
BEGIN:VTIMEZONE
TZID:Europe/Rome
X-LIC-LOCATION:Europe/Rome
BEGIN:STANDARD
DTSTART:20241027T020000
TZOFFSETFROM:+0200
TZOFFSETTO:+0100
TZNAME:CET
END:STANDARD
END:VTIMEZONE
END:VCALENDAR