BEGIN:VCALENDAR
VERSION:2.0
PRODID:-//wp-events-plugin.com//7.2.3.1//EN
TZID:Europe/Rome
X-WR-TIMEZONE:Europe/Rome
BEGIN:VEVENT
UID:43560@lazioeventi.com
DTSTART;TZID=Europe/Rome;VALUE=DATE:20260124
DTEND;TZID=Europe/Rome;VALUE=DATE:20260126
DTSTAMP:20260115T144112Z
URL:https://lazioeventi.com/eventi/roma-ce-visite-guidate-anche-per-bambin
 i-del-24-e-25-gennaio-2026
SUMMARY:Roma c'è! Visite guidate (anche per bambini) del 24 e 25 gennaio 2
 026 - Roma - 24 Gennaio 26 00:00
DESCRIPTION:L'Associazione culturale Roma e Lazio x te si avvale della co
 llaborazione di storici dell'arte e archeologi regolarmente iscritti nell'
 albo delle guide turistiche di Roma.\nLe visite per bambini e ragazzi sono
  gestite da guide che sono anche operatori didattici specializzati nel lav
 orare con queste fasce d'età.\n\n&nbsp\;\n\nSabato 24 gennaio 2026\, h 15
 .00\n\nCaccia al tesoro nei giardini incantati di Villa Torlonia e della C
 asina delle Civette.\nDivertente "visita giocata per bambini" con caccia 
 al tesoro\, seguendo la mappa del Pirata alla scoperta di Villa Torlonia.\
 nGuida/operatore didattico: Andrea Leoni.\nContributo associativo: €10 a
  persona (sia adulti che bambini a partire da 4 anni).\nPrenotazioni: sms/
 wa al 3383435907 oppure al 3914124246 o via mail a romaelazioxte@gmail.com
 \nInfo: www.romaelazioperte.it\n\n&nbsp\;\n\nSabato 24 gennaio 2026\, h 1
 5.00\nI Sotterranei di Santa Cecilia in Trastevere e le Pitture del Cavall
 ini\nVisita guidata con apertura "esclusiva su prenotazione" degli affre
 schi del Cavallini nascosti nel Coro di Clausura (20 partecipanti max).\nG
 uida: Valeria Scuderi.\nCosto: €15 nuovi iscritti\; €13 soci\; €12 r
 agazzi da 18 a 25 anni\, insegnanti\, giornalisti\; €11 disabili\; €10
  ragazzi (11-17)\; €5 bambini (6-10) + ingresso ai sotterranei e al cor
 o di clausura: €6 a persona.\nPrenotazioni: sms/wa al 3383435907 o via 
 mail a romaelazioxte@gmail.com\nInfo: www.romaelazioperte.it\n\n&nbsp\;\n
 \nDomenica 25 gennaio 2026\, h 11.00\nCaccia al tesoro fra le Piazze di Ro
 ma.\nDivertente visita "giocata" per bambini con caccia agli indizi per 
 decifrare e risolvere enigmi lungo il percorso.\nGuida/operatore didattico
 : Andrea Veronica Peresano.\nContributo associativo: €10 a persona (adul
 ti e bambini a partire da 4 anni).\nPrenotazioni: sms/wa al 3383435907 opp
 ure al 3426701353 o via mail a romaelazioxte@gmail.com\nInfo: www.romaela
 zioperte.it\n\n \n\nDomenica 25 gennaio 2026\, h 15.00\nLaboratorio di Cu
 cina per Piccoli Chef: "Impariamo a fare la pizza e la focaccia"\nUn'espe
 rienza unica e divertente per i nostri piccoli amici\, che impareranno a c
 ucinare in compagnia di altri bambini\, sotto la guida esperta di un opera
 tore didattico.\nCOSTO:\n\nBambini 03-13 anni: €25. (Il costo comprende 
 una merenda a base di pizza e focaccia preparata dal nostro chef e un drin
 k a scelta).\nAdulti: consumazione obbligatoria\, spesa minima €7 - (Ape
 ritivo rinforzato costa  €12).\nPrenotazioni: sms/wa al 3383435907 o 
 via mail a romaelazioxte@gmail.com\nInfo: www.romaelazioperte.it\n\n \
 n\nDomenica 25 gennaio 2026\, h 16.00\nCaravaggio\, il pittore della luce\
 nPasseggiata storico-artistica nei luoghi in cui visse Caravaggio e che is
 pirarono la sua arte\, le cui opere vedremo esposte nelle chiese di Roma (
 San Luigi de' Francesi e Sant'Agostino in Campo Marzio).\nGuida: Valeria S
 cuderi.\nCosto: €17 nuovi iscritti\; €15 soci\; €14 ragazzi da 18 a 
 25 anni\, insegnanti\, giornalisti\; €13 disabili\; €12 ragazzi (11-17
 )\; €7 bambini (6-10).\nPrenotazioni: sms/wa 3383435907 o via mail a rom
 aelazioxte@gmail.com\nInfo: www.romaelazioperte.it\n\n \n\n\n***\nBIGLIE
 TTERIA visite guidate:\nTutte le nostre visite sono condotte da storici d
 ell'arte\, archeologi e architetti regolarmente iscritti nell'albo delle g
 uide turistiche di Roma.\nLa tariffa include l'auricolare (vox) che permet
 te di ascoltare le nostre guide in assoluto confort\, perché permettono d
 i distanziarci fino a 10 metri\, soffermarci a guardare un particolare\, o
  fare foto\, senza perdere una parola.\n\nVisite guidate programmazione pe
 r Adulti comprensive di vox:\n€15 intero\n\n€14 lettori di Lazio Event
 i\, *NOTA BENE: per usufruire della tariffa scontata specificare "letto
  su Lazio Eventi" \n\n€12 ragazzi da 18 a 25 anni\, insegnanti\, giorna
 listi\n\n€11 disabili\n\n€10 ragazzi (da 11 a 17 anni)\n\n€5 bambini
  (da 6 a 10 anni)\n\nGratis (bambini da 0 a 5 anni)\n\nVisite guidate prog
 rammazione per Bambini comprensive di vox:\n€10 a persona (sia adulti ch
 e bambini a partire da 4 anni).\n***Nota bene: ogni adulto può accompagna
 re fino a un massimo di 3 bambini. I bambini devono sempre essere accompag
 nati da un adulto per motivi di sicurezza.\n\nVISITE PRIVATE:\ntutte le no
 stre visite possono essere prenotate anche privatamente\, e condotte oltre
  che in Italiano anche in lingua straniera.\nPer conoscere  le nostre Tar
 iffe goo.gl/Cs1uw1\n\nPRENOTAZIONI\n"consigliate entro il giorno che prec
 ede la data dell'evento"\ncompilando il modulo prenotazioni CLICCANDO SUL 
 LINK: bit.ly/3x7jhDj  \no inviando una mail a romaelazioxte@gmail.com\n
 o scrivendo un SMS/WA (se si prenota nelle 24 ore che precedono l’evento
 ) al 3383435907.\nINDICANDO:\ndata e titolo della visita\, nome e cognome 
 di chi effettua la prenotazione\, numero dei partecipanti (specificando l'
 età di eventuali bambini)\, numero di cellulare e indirizzo mail.\n***La 
 prenotazione è indispensabile per ricevere conferma che la visita partir
 à\, e soprattutto per essere ricontattati in caso di variazioni.
ATTACH;FMTTYPE=image/jpeg:https://lazioeventi.com/wp-content/uploads/2026/
 01/BELLA.jpg
CATEGORIES:Arte e Cultura nel Lazio
LOCATION:Roma\, Via Leopardi\, Roma\, Roma\, Lazio\, Italia
GEO:41.8942;12.5017
X-APPLE-STRUCTURED-LOCATION;VALUE=URI;X-ADDRESS=Via Leopardi\, Roma\, Roma\
 , Lazio\, Italia;X-APPLE-RADIUS=100;X-TITLE=Roma:geo:41.8942,12.5017
END:VEVENT
BEGIN:VTIMEZONE
TZID:Europe/Rome
X-LIC-LOCATION:Europe/Rome
BEGIN:STANDARD
DTSTART:20251026T020000
TZOFFSETFROM:+0200
TZOFFSETTO:+0100
TZNAME:CET
END:STANDARD
END:VTIMEZONE
END:VCALENDAR