BEGIN:VCALENDAR
VERSION:2.0
PRODID:-//wp-events-plugin.com//7.2.3.1//EN
TZID:Europe/Rome
X-WR-TIMEZONE:Europe/Rome
BEGIN:VEVENT
UID:42451@lazioeventi.com
DTSTART;TZID=Europe/Rome;VALUE=DATE:20250927
DTEND;TZID=Europe/Rome;VALUE=DATE:20250929
DTSTAMP:20250918T145056Z
URL:https://lazioeventi.com/eventi/roma-ce-visite-guidate-anche-per-bambin
 i-del-27-e-28-settembre-2025
SUMMARY:Roma c'è! Visite guidate (anche per bambini) del 27 e 28 settembre
  2025 - Roma - 27 Settembre 25 00:00
DESCRIPTION:L'Associazione culturale Roma e Lazio x te si avvale della co
 llaborazione di storici dell'arte e archeologi regolarmente iscritti nell'
 albo delle guide turistiche di Roma.\nLe visite per bambini e ragazzi sono
  gestite da guide che sono anche operatori didattici specializzati nel lav
 orare con queste fasce d'età.\n\n&nbsp\;\n\nSabato 27 settembre 2025\, h 
 16.00\n\nArcheologi per gioco nei sotterranei di Santa Cecilia in Trasteve
 re.\nVisita "giocata" per bambini per andare alla scoperta dei resti arc
 heologici di una Domus Romana nascosta nei sotterranei di Trastevere (15 b
 ambini max + i loro accompagnatori).\nGuida/operatore didattico: Valeria S
 cuderi.\nContributo associativo: €10 a persona (sia adulti che bambini a
  partire da 4 anni) + biglietto d'ingresso ai sotterranei: gratis bambin
 i\, €4 adulti.\nPrenotazioni: sms/wa al 3383435907 o via mail a romaelaz
 ioxte@gmail.com\nPer ulteriori info bit.ly/3SLpKBU\n\n&nbsp\;\n\nSabato 2
 7 settembre 2025\, h 18.00\nRoma\, città d’acqua e pietra.\nPasseggiata
  alla scoperta delle piazze e delle fontane più belle di Roma da Piazza d
 i Spagna a Piazza Navona passando per Fontana di Trevi\, il Pantheon e mol
 to altro.\nGuida: Giordano Ghini.\nCosto: €15 nuovi iscritti\; €13 soc
 i\; €12 ragazzi da 18 a 25 anni\, insegnanti e giornalisti\; €11 disab
 ili e loro accompagnatori\; €10 ragazzi (11-17)\; €5 bambini (6-10)\; 
 gratis (0-5).\nPrenotazioni: sms/wa al 3383435907 o via mail a romaelaziox
 te@gmail.com\nPer ulteriori info bit.ly/31atMJt\n\n&nbsp\;\n\nDomenica 28
  settembre 2025\, h 11.00\nCaccia al tesoro nei giardini segreti di Villa 
 Borghese\nDivertente "visita giocata per bambini" a caccia di indizi per
  scoprire storia e segreti dei giardini di villa Borghese\, dove nascosti 
 nel verde vivono animali fantastici e divinità mitologiche che noi scover
 emo seguendo la mappa del tesoro.\nGuida/operatore didattico: Andrea Leoni
 .\nContributo associativo: €10 a persona (sia adulti che bambini a parti
 re da 4 anni).\nPrenotazioni: sms/wa al 3383435907 o al 3914124246 o via m
 ail a romaelazioxte@gmail.com\n\nPer ulteriori info bit.ly/3wzd2xe\n\n&
 nbsp\;\n\nDomenica 28 settembre 2025\, h 16.30\nLa Nascita di Roma spiegat
 a ai bambini\nDivertente "visita per bambini" resa ancor più piacevole 
 dalla narrazione delle leggende e dei personaggi legati alla fondazione di
  Roma.\nGuida/operatore didattico: Susanna e Arianna.\nContributo associat
 ivo: €10 a persona (adulti e bambini a partire da 4 anni).\nPrenotazioni
 : sms/wa al 3383435907 o via mail a romaelazioxte@gmail.com\n\nPer ulte
 riori info bit.ly/4brDqcq\n\n&nbsp\;\n\nDomenica 28 settembre 2025\, h 17
 .30\nTramonti imperiali.\n\nLuci su Ottaviano Augusto.\nPasseggiata archeo
 logica che ci porterà alla scoperta dei Monumenti simbolo collegati alla 
 figura del primo Imperatore di Roma\, seguendo la via segnata dalla Meridi
 ana d’Augusto.\nGuide: Valeria Scuderi e Andrea Leoni.\nCosto: €15 nuo
 vi iscritti\; €13 soci\; €12 ragazzi da 18 a 25 anni\, insegnanti e gi
 ornalisti\; €11 disabili e loro accompagnatori\; €10 ragazzi (11-17)\;
  €5 bambini (6-10)\; gratis (0-5).\nPrenotazioni: sms/wa al 3383435907 o
  al 3914124246\, o via mail a romaelazioxte@gmail.com\n\nPer ulteriori inf
 o bit.ly/3GauDkl\n\n&nbsp\;\n\n\n***\nBIGLIETTERIA visite guidate:\nTutt
 e le nostre visite sono condotte da storici dell'arte\, archeologi e archi
 tetti regolarmente iscritti nell'albo delle guide turistiche di Roma.\nLa 
 tariffa include l'auricolare (vox) che permette di ascoltare le nostre gui
 de in assoluto confort\, perché permettono di distanziarci fino a 10 metr
 i\, soffermarci a guardare un particolare\, o fare foto\, senza perdere un
 a parola.\n\nVisite guidate programmazione per Adulti comprensive di vox:\
 n€15 intero\n\n€14 lettori di Lazio Eventi\, *NOTA BENE: per usufru
 ire della tariffa scontata specificare "letto su Lazio Eventi" \n\n€12 
 ragazzi da 18 a 25 anni\, insegnanti\, giornalisti\n\n€11 disabili e lor
 o accompagnatori\n\n€10 ragazzi (da 11 a 17 anni)\n\n€5 bambini (da 6 
 a 10 anni)\n\nGratis (bambini da 0 a 5 anni)\n\nVisite guidate programmazi
 one per Bambini comprensive di vox:\n€10 a persona (sia adulti che bambi
 ni a partire da 4 anni).\n***Nota bene: ogni adulto può accompagnare fino
  a un massimo di 3 bambini. I bambini devono sempre essere accompagnati da
  un adulto per motivi di sicurezza.\n\nVISITE PRIVATE:\ntutte le nostre vi
 site possono essere prenotate anche privatamente\, e condotte oltre che in
  Italiano anche in lingua straniera.\nPer conoscere  le nostre Tariffe g
 oo.gl/Cs1uw1\n\nPRENOTAZIONI\n"consigliate entro il giorno che precede la 
 data dell'evento"\ncompilando il modulo prenotazioni CLICCANDO SUL LINK: 
 bit.ly/3x7jhDj  \no inviando una mail a romaelazioxte@gmail.com\no scriv
 endo un SMS/WA (se si prenota nelle 24 ore che precedono l’evento) al 33
 83435907.\nINDICANDO:\ndata e titolo della visita\, nome e cognome di chi 
 effettua la prenotazione\, numero dei partecipanti (specificando l'età di
  eventuali bambini)\, numero di cellulare e indirizzo mail.\n***La prenota
 zione è indispensabile per ricevere conferma che la visita partirà\, e s
 oprattutto per essere ricontattati in caso di variazioni.
ATTACH;FMTTYPE=image/jpeg:https://lazioeventi.com/wp-content/uploads/2025/
 09/Copertina-3-1.jpg
CATEGORIES:Arte e Cultura nel Lazio
LOCATION:Roma\, Via Leopardi\, Roma\, Roma\, Lazio\, Italia
GEO:41.8942;12.5017
X-APPLE-STRUCTURED-LOCATION;VALUE=URI;X-ADDRESS=Via Leopardi\, Roma\, Roma\
 , Lazio\, Italia;X-APPLE-RADIUS=100;X-TITLE=Roma:geo:41.8942,12.5017
END:VEVENT
BEGIN:VTIMEZONE
TZID:Europe/Rome
X-LIC-LOCATION:Europe/Rome
BEGIN:DAYLIGHT
DTSTART:20250330T030000
TZOFFSETFROM:+0100
TZOFFSETTO:+0200
TZNAME:CEST
END:DAYLIGHT
END:VTIMEZONE
END:VCALENDAR