BEGIN:VCALENDAR
VERSION:2.0
PRODID:-//wp-events-plugin.com//7.2.3.1//EN
TZID:Europe/Rome
X-WR-TIMEZONE:Europe/Rome
BEGIN:VEVENT
UID:40333@lazioeventi.com
DTSTART;TZID=Europe/Rome:20241207T000000
DTEND;TZID=Europe/Rome:20241208T000000
DTSTAMP:20241129T175310Z
URL:https://lazioeventi.com/eventi/roma-ce-visite-guidate-anche-per-bambin
 i-del-7-e-8-dicembre-2024
SUMMARY:Roma c'è! Visite guidate (anche per bambini) del 7 e 8 dicembre 20
 24 - Roma - 7 Dicembre 24 00:00
DESCRIPTION:L'Associazione culturale Roma e Lazio x te si avvale della co
 llaborazione di storici dell'arte e archeologi regolarmente iscritti nell'
 albo delle guide turistiche di Roma.\nLe visite per bambini e ragazzi sono
  gestite da guide che sono anche operatori didattici specializzati nel lav
 orare con queste fasce d'età.\nGli eventi si svolgeranno nel rispetto del
 la normativa Anti Covid vigente: uso mascherina\; green pass dove richiest
 o\; gruppi contingentati.\n\n&nbsp\;\n\n&nbsp\;\n\nSabato 7 dicembre 2024\
 , h 15.00\nLa Nascita di Roma spiegata ai bambini\nDivertente "visita per
  bambini" resa ancor più piacevole dalla narrazione delle leggende e dei
  personaggi legati alla fondazione di Roma.\nGuida/operatore didattico: An
 drea Leoni.\nContributo associativo: €10 a persona (adulti e bambini a p
 artire da 4 anni).\nPrenotazioni: sms/wa al 3391284318 o al 3914124246 o v
 ia mail a romaelazioxte@gmail.com\nPer ulteriori info bit.ly/4brDqcq\n\n&
 nbsp\;\n\nSabato 7 dicembre 2024\, h 17.30\nI sotterranei dell’Acquedott
 o Virgo ed il Percorso dell’Acqua.\nVisita guidata con "apertura a nume
 ro chiuso con prenotazione obbligatoria" da saldare in anticipo.\nAffascin
 ante itinerario che segue le condotte dell'Acquedotto Vergine da poco rest
 aurate e parzialmente aperte al pubblico\, scendendo nel Castellum Aquarum
  di Fontana di Trevi\, ed esplorando i sotterranei della Città dell'Acqua
  e del miracoloso Pozzo di Santa Maria in Via.\nGuida: Floriana Lombardi.\
 nCosto: €22 nuovi iscritti\; €20 soci\; €19 ragazzi (18-25 anni)\, d
 isabili e loro accompagnatori\; €17 ragazzi (11-17 anni)\; €12 bambini
  (6-10 anni).\nPrenotazioni: sms/wa al 3391284318 o al 3477671316 o via ma
 il a romaelazioxte@gmail.com\nPer ulteriori info bit.ly/3OMnqs4\n\n&nbsp\
 ;\n\nDomenica 8 dicembre 2024\, h 10.30\nA spasso con gli Imperatori.\nDiv
 ertente "visita per bambini" dal Campidoglio alla Valle del Colosseo\, at
 traversando i Fori Imperiali.\nGuida/operatore didattico: Martina De Genna
 ro.\nContributo associativo: €10 a persona (sia adulti che bambini a par
 tire da 4 anni).\nPrenotazioni: sms/wa al 3391284318 o al 3478467394 o via
  mail a romaelazioxte@gmail.com\nPer ulteriori info bit.ly/3KNTMjP\n\n&nb
 sp\;\n\nDomenica 8 dicembre 2024\, h 11.00\nTrastevere ed i Trasteverini.
  Vicoli e piazze nel cuore di Roma: itinerario 8\nInsolita passeggiata st
 orico-artistica per conoscere storia presente e passata del Rione Trasteve
 re e dei suoi abitanti\, i Trasteverini "signori senza quatrini".\nGuida: 
 Floriana Lombardi.\nCosto: €13 nuovi iscritti\; €12 soci\; €11 disab
 ili e loro accompagnatori\; €10 ragazzi (14-17)\; €5 bambini (6-13).\n
 Prenotazioni: sms/wa al 3391284318 o al 3477671316 o via mail a romaelazio
 xte@gmail.com\nPer ulteriori info bit.ly/4b8Hdel\n\n&nbsp\;\n\nDomenica 8
  dicembre 2024\, h 15.00\nCaccia al Tesoro nei giardini incantati di Villa
  Torlonia e della Casina delle Civette.\nDivertente "visita giocata per b
 ambini" con caccia al tesoro\, seguendo la mappa del Pirata alla scoperta 
 di Villa Torlonia.\nGuida/operatore didattico: Andrea Leoni.\nContributo a
 ssociativo: €10 a persona (sia adulti che bambini a partire da 4 anni).\
 nPrenotazioni: sms/wa al 3391284318 o al 3914124246 o via mail a romaelazi
 oxte@gmail.com\nPer ulteriori info bit.ly/3wn2Vvr\n\n&nbsp\;\n\nDomenica 
 8 dicembre 2024\, h 15.15.\nA grande richiesta. Villa Farnesina alla Lung
 ara e la Loggia di Psiche.\nVisita guidata con apertura straordinaria la s
 econda domenica del mese a numero chiuso (max 25 partecipanti).\nGuida: Va
 leria Scuderi.\nCosto: €25 nuovi iscritti\; €24 soci\; €23 over 65 a
 nni\, insegnanti\,  soci FAI\, ICOM\, Touring Club Italiano\, Biglietti d
 'ingresso ai Musei Vaticani\, Museo Nazionale Romano\, Parco Archeologico 
 del Colosseo entro 7 giorni dalla data di vidimazione\; €17 (14-17 anni)
 \, diversamente abili e loro accompagnatori\, giornalisti\, guide turistic
 he\; €12 (10-13 anni)\; €5 bambini (6-9 anni).\nPrenotazioni: sms/wa a
 l 3391284318 o al 3383435907 o via mail a romaelazioxte@gmail.com\nPer ult
 eriori info bit.ly/3wluyoN\n\n&nbsp\;\n\n\n***\nBIGLIETTERIA visite guid
 ate:\nTutte le nostre visite sono condotte da storici dell'arte\, archeolo
 gi e architetti regolarmente iscritti nell'albo delle guide turistiche di 
 Roma.\nLa tariffa include l'auricolare (vox) che permette di ascoltare le 
 nostre guide in assoluto confort\, perché permettono di distanziarci fino
  a 10 metri\, soffermarci a guardare un particolare\, o fare foto\, senza 
 perdere una parola.\n\nVisite guidate programmazione per Adulti comprensiv
 e di vox:\n€13 intero\n\n€12 lettori di Lazio Eventi\, *NOTA BENE: 
 per usufruire della tariffa scontata specificare "letto su Lazio Eventi" 
 \n\n€11 disabili e loro accompagnatori\n\n€10 ragazzi (da 14 a 17 ann
 i)\n\n€5 bambini (da 6 a 13 anni)\n\ngratis (bambini da 0 a 5 anni)\n\nV
 isite guidate programmazione per Bambini comprensive di vox:\n€10 a pers
 ona (sia adulti che bambini a partire da 4 anni).\n***Nota bene: ogni adul
 to può accompagnare fino a un massimo di 3 bambini. I bambini devono semp
 re essere accompagnati da un adulto per motivi di sicurezza.\n\nVISITE PRI
 VATE:\ntutte le nostre visite possono essere prenotate anche privatamente\
 , e condotte oltre che in Italiano anche in lingua straniera.\nPer conosce
 re  le nostre Tariffe goo.gl/Cs1uw1\n\nPRENOTAZIONI\n"consigliate entro 
 il giorno che precede la data dell'evento"\ncompilando il modulo prenotazi
 oni CLICCANDO SUL LINK: bit.ly/3x7jhDj  \no inviando una mail a romaela
 zioxte@gmail.com\no scrivendo un SMS/WA (se si prenota nelle 24 ore che pr
 ecedono l’evento) al 3383435907.\nINDICANDO:\ndata e titolo della visita
 \, nome e cognome di chi effettua la prenotazione\, numero dei partecipant
 i (specificando l'età di eventuali bambini)\, numero di cellulare e indir
 izzo mail.\n***La prenotazione è indispensabile per ricevere conferma che
  la visita partirà\, e soprattutto per essere ricontattati in caso di var
 iazioni.
ATTACH;FMTTYPE=image/jpeg:https://lazioeventi.com/wp-content/uploads/2024/
 11/C-VERITA.jpg
CATEGORIES:Arte e Cultura nel Lazio
LOCATION:Roma\, Via Leopardi\, Roma\, Roma\, Lazio\, Italia
GEO:41.8942;12.5017
X-APPLE-STRUCTURED-LOCATION;VALUE=URI;X-ADDRESS=Via Leopardi\, Roma\, Roma\
 , Lazio\, Italia;X-APPLE-RADIUS=100;X-TITLE=Roma:geo:41.8942,12.5017
END:VEVENT
BEGIN:VTIMEZONE
TZID:Europe/Rome
X-LIC-LOCATION:Europe/Rome
BEGIN:STANDARD
DTSTART:20241027T020000
TZOFFSETFROM:+0200
TZOFFSETTO:+0100
TZNAME:CET
END:STANDARD
END:VTIMEZONE
END:VCALENDAR