BEGIN:VCALENDAR
VERSION:2.0
PRODID:-//wp-events-plugin.com//7.2.3.1//EN
TZID:Europe/Rome
X-WR-TIMEZONE:Europe/Rome
BEGIN:VEVENT
UID:31882@lazioeventi.com
DTSTART;TZID=Europe/Rome:20220810T210000
DTEND;TZID=Europe/Rome:20220810T230000
DTSTAMP:20220803T123808Z
URL:https://lazioeventi.com/eventi/roma-di-notte-notte-delle-stelle-cadent
 i-al-foro-romano
SUMMARY:Roma di Notte: Notte delle Stelle Cadenti al Foro Romano - Roma - 1
 0 Agosto 22 21:00
DESCRIPTION:Quando la luna si specchia sul Foro Romano\, le sue rovine dive
 ntano uno scenario unico nella Notte delle Stelle Cadenti!\n\nL’area arc
 heologica vista dall’altura del Campidoglio diventa\, nelle sere d’est
 ate\, un’esperienza incredibile.\n\nLa passeggiata serale partirà dai p
 iedi del Campidoglio dove vedrete i resti di un’insula romana (antichi c
 ondomini d’abitazione) che arrivava sino a 5 piani d’altezza\, e poi s
 alendo alla Piazza del Campidoglio scoprirete tutti i segreti del colle pi
 ù importante di Roma\, reso ancora più affascinante\, con l’aggiunta n
 el 1500 della statua equestre di Marco Aurelio\, vero capolavoro di bronzo
  sopravvissuto sino ad oggi.\n\nCi affacceremo poi sulla terrazza prospici
 ente il Foro Romano\, sapientemente illuminato\, dove conoscerete la sua s
 toria e quella delle celebri cerimonie di trionfo che si svolgevano al suo
  interno.\n\nSi continuerà la piacevole passeggiata lungo i Fori Imperial
 i che hanno segnato il corso della storia romana\, configurandosi come una
  successione di magnifiche piazze monumentali. Termineremo sotto la Colonn
 a Traiana che con la sua altezza di 35 m resta il monumento istoriato più
  celebre dell’antichità.\n\n*(Testo originale di Roma Caput Tour\, colo
 ro che ancora una volta copieranno spudoratamente il testo descrittivo deg
 li eventi di questa pagina saranno immediatamente segnalati della violazio
 ne della proprietà intellettuale altrui agli organi competenti)*\n\nAppun
 tamento ore 21.00 ai piedi della Scalinata del Campidoglio accanto ai leon
 i egizi su Via del Teatro di Marcello. Cercare Bandiera viola Logo Roma Ca
 put Tour\nDurata della Visita Guidata 2 ore circa (si passeggia dal Campid
 oglio alla Colonna Traiana)\nCosto visita guidata € 13.00 (adulti)‚ 
 € 5.00 (bambini fino a 13 anni)\, noleggio auricolari € 2.00\nPrenotaz
 ione Obbligatoria scrivendo a info@romacaputour.it o inviando un sms allo 
 0039 333 4854287 specificando Titolo della visita\, Nome\, Cognome\, Recap
 ito telefonico\, numero di persone\, e-mail di riferimento.
ATTACH;FMTTYPE=image/jpeg:https://lazioeventi.com/wp-content/uploads/2022/
 08/13680513_1186021748131518_6804659037693462434_n.jpg
CATEGORIES:Arte e Cultura nel Lazio
LOCATION:Roma\, Via Leopardi\, Roma\, Roma\, Lazio\, Italia
GEO:41.8942;12.5017
X-APPLE-STRUCTURED-LOCATION;VALUE=URI;X-ADDRESS=Via Leopardi\, Roma\, Roma\
 , Lazio\, Italia;X-APPLE-RADIUS=100;X-TITLE=Roma:geo:41.8942,12.5017
END:VEVENT
BEGIN:VTIMEZONE
TZID:Europe/Rome
X-LIC-LOCATION:Europe/Rome
BEGIN:DAYLIGHT
DTSTART:20220327T030000
TZOFFSETFROM:+0100
TZOFFSETTO:+0200
TZNAME:CEST
END:DAYLIGHT
END:VTIMEZONE
END:VCALENDAR