BEGIN:VCALENDAR
VERSION:2.0
PRODID:-//wp-events-plugin.com//7.2.3.1//EN
TZID:Europe/Rome
X-WR-TIMEZONE:Europe/Rome
BEGIN:VEVENT
UID:27036@lazioeventi.com
DTSTART;TZID=Europe/Rome:20200716T210000
DTEND;TZID=Europe/Rome:20200716T223000
DTSTAMP:20200714T063934Z
URL:https://lazioeventi.com/eventi/roma-matria-comune
SUMMARY:Roma Matria Comune - Roma - 16 Luglio 20 21:00
DESCRIPTION:Torna in scena nel cuore dell’Appia Antica il teatro multime
 diale e multiartistico di Federica Altieri: “Roma Matria Comune” alla 
 Cartiera Latina Si riparte dall’Appia Antica: nel suggestivo contesto na
 turalistico e industriale della Cartier
ATTACH;FMTTYPE=image/jpeg:https://lazioeventi.com/wp-content/uploads/2020/
 07/roma-matria-comune.jpg
CATEGORIES:Musica, Spettacoli e Danza nel Lazio
LOCATION:Roma\, Via Leopardi\, Roma\, Roma\, Lazio\, Italia
GEO:41.8942;12.5017
X-APPLE-STRUCTURED-LOCATION;VALUE=URI;X-ADDRESS=Via Leopardi\, Roma\, Roma\
 , Lazio\, Italia;X-APPLE-RADIUS=100;X-TITLE=Roma:geo:41.8942,12.5017
END:VEVENT
BEGIN:VTIMEZONE
TZID:Europe/Rome
X-LIC-LOCATION:Europe/Rome
BEGIN:DAYLIGHT
DTSTART:20200329T030000
TZOFFSETFROM:+0100
TZOFFSETTO:+0200
TZNAME:CEST
END:DAYLIGHT
END:VTIMEZONE
END:VCALENDAR