BEGIN:VCALENDAR
VERSION:2.0
PRODID:-//wp-events-plugin.com//7.2.3.1//EN
TZID:Europe/Rome
X-WR-TIMEZONE:Europe/Rome
BEGIN:VEVENT
UID:38508@lazioeventi.com
DTSTART;TZID=Europe/Rome:20240225T101500
DTEND;TZID=Europe/Rome:20240225T123000
DTSTAMP:20240212T160206Z
URL:https://lazioeventi.com/eventi/roma-sotterranea-le-case-romane-del-cel
 io
SUMMARY:Roma Sotterranea. Le Case Romane del Celio - Roma - 25 Febbraio 24 
 10:15
DESCRIPTION:Una visita guidata assolutamente da non perdere alle Case Roman
 e del Celio\, accompagnati da un archeologo\, per scoprire insieme tutti i
  segreti nascosti in questo angolo di Roma. Sul Celio infatti\, proprio al
  di sotto della Basilica dei Santi Giovanni e Paolo\, si trovano i resti d
 i una straordinaria dimora di epoca romana\, con splendidi affreschi conse
 rvatisi perfettamente fino ai nostri giorni. Il complesso\, ampio e artico
 lato\, è ricco di storia e suggestioni: al suo interno si trovano infatti
  le antiche tracce di unione tra simbologia pagana e culto cristiano\, che
  proprio tra il III ed il IV secolo iniziò ad  essere molto diffuso a Ro
 ma. Secondo tradizione questa era infatti la sontuosa dimora dove i due sa
 nti fratelli\, Paolo e Giovanni\, furono martirizzati\, ma con la nostra v
 isita guidata scopriremo che dentro le Case Romane del Celio si cela ancor
 a molto di più! Ti aspettiamo.\n\nQuando: Domenica 25 Febbraio 2024 alle 
 ore 10.15\n\nAppuntamento in Piazza dei Santi Giovanni e Paolo\, davanti a
 lla Chiesa\n\nCosti: € 13 + biglietto di ingresso (intero €8\; ridotto
  €6\; gratuito per minori 6 anni). Prenotazione obbligatoria.\n\nInfo e 
 prenotazioni: L’Asino d’Oro Associazione Culturale | 346 5920077 | inf
 o@lasinodoro.it
ATTACH;FMTTYPE=image/jpeg:https://lazioeventi.com/wp-content/uploads/2024/
 02/case-romane-celio.jpg
CATEGORIES:Arte e Cultura nel Lazio
LOCATION:Roma\, Via Leopardi\, Roma\, Roma\, Lazio\, Italia
GEO:41.8942;12.5017
X-APPLE-STRUCTURED-LOCATION;VALUE=URI;X-ADDRESS=Via Leopardi\, Roma\, Roma\
 , Lazio\, Italia;X-APPLE-RADIUS=100;X-TITLE=Roma:geo:41.8942,12.5017
END:VEVENT
BEGIN:VTIMEZONE
TZID:Europe/Rome
X-LIC-LOCATION:Europe/Rome
BEGIN:STANDARD
DTSTART:20231029T020000
TZOFFSETFROM:+0200
TZOFFSETTO:+0100
TZNAME:CET
END:STANDARD
END:VTIMEZONE
END:VCALENDAR