BEGIN:VCALENDAR
VERSION:2.0
PRODID:-//wp-events-plugin.com//7.2.3.1//EN
TZID:Europe/Rome
X-WR-TIMEZONE:Europe/Rome
BEGIN:VEVENT
UID:34588@lazioeventi.com
DTSTART;TZID=Europe/Rome:20230318T210000
DTEND;TZID=Europe/Rome:20230318T230000
DTSTAMP:20230314T214727Z
URL:https://lazioeventi.com/eventi/romeo-e-giulietta-di-william-shakespear
 e
SUMMARY:Romeo e Giulietta di William Shakespeare  - Viterbo - 18 Marzo 23 
 21:00
DESCRIPTION:"Persistenza"\, la stagione teatrale del Teatro San Leonardo ri
 torna il 18 marzo alle ore 21\,00 con l'autore più rappresentato di tutti
  i tempi William Shakespeare e col suo capolavoro Romeo e Giulietta. L'ope
 ra nelle mani della regista Valentina Cognatti viene reinterpretata con un
 a chiave di lettura che si concentra su un unico fulcro: l’amore sacro\,
  assoluto\, purissimo dei due protagonisti.\n\nLa storia è quella celebre
  dei due amanti “nati sotto maligna stella” che consumano il loro amor
 e in brevissimo tempo fino a morirne loro stessi\, tra gli errori del caso
  e le offese dettate dall’odio che circondano come un vortice i due giov
 ani figli delle famiglie Montecchi e Capuleti. La regia intende celebrare 
 uno straordinario capolavoro con una chiave di lettura che\, seppur modern
 a\, ne rispetti la natura e la bellezza originaria: la storia di Verona\, 
 l’odio delle famiglie rivali\, le schermaglie per le strade...\nLo spett
 acolo non rinuncia alla potenza comunicativa di immagini e parole\, tra si
 mbolismi evocativi e coreografie vibranti\, ma allo stesso tempo riflette 
 sul valore universale dell’amore: eterno sentimento che sfugge a ogni ba
 nalizzazione\, l’amore muove i protagonisti\, li spinge\, li fa girare\,
  è forza motrice dell’intero spettacolo\, è messaggio sempre attuale\,
  al di fuori da stereotipi ed etichette. \nLa stessa Cognatti scrive nelle
  sue note di regia: L’amore e la morte sconvolgono le vite dei giovani f
 igli di Montecchi e Capuleti\, in una corsa irrefrenabile verso il proprio
  destino. La storia ha un forte impatto tragico e il finale è noto\, ma m
 olti dimenticano che i protagonisti non sono eroi della tragedia greca\, m
 a giovanissimi figli e figlie che non conoscono la morte né il dolore\, m
 a ridono e scherzano\, forti della loro gioventù: quando il sangue irromp
 e nella loro vita non c’è esaltazione della tragedia\, ma un vuoto scon
 volto senza spiegazioni e l’eterea bellezza dell’opera torna bruscamen
 te alla realtà. Per questo\, la scelta della regia di affidare le parti d
 ei giovani Capuleti e Montecchi a attori giovani e restituire all’opera 
 un contatto tangibile e istintivo con la nostra quotidianità. \nLa scenog
 rafia è costituita da una struttura mobile di legno\, capace di trasforma
 rsi in relazione alle diverse ambientazioni. Nella sua essenzialità\, rie
 sce a farsi riproduzione simbolica della città e nella sua continua rotaz
 ione\, ad opera dei personaggi che la muovono\, mostra i loro spostamenti 
 tra le strade di Verona.\n\nPer maggiori informazioni contattare:\nSimone 
 Precoma (Direttore Artistico Stagione Teatrale 2022/2023)\n3922899035
ATTACH;FMTTYPE=image/jpeg:https://lazioeventi.com/wp-content/uploads/2023/
 03/romeo-giuletta.jpg
CATEGORIES:Musica, Spettacoli e Danza nel Lazio
LOCATION:Viterbo\, Comune\, Viterbo\, Viterbo\, Lazio\, Italia
GEO:42.417;12.1051
X-APPLE-STRUCTURED-LOCATION;VALUE=URI;X-ADDRESS=Comune\, Viterbo\, Viterbo\
 , Lazio\, Italia;X-APPLE-RADIUS=100;X-TITLE=Viterbo:geo:42.417,12.1051
END:VEVENT
BEGIN:VTIMEZONE
TZID:Europe/Rome
X-LIC-LOCATION:Europe/Rome
BEGIN:STANDARD
DTSTART:20221030T020000
TZOFFSETFROM:+0200
TZOFFSETTO:+0100
TZNAME:CET
END:STANDARD
END:VTIMEZONE
END:VCALENDAR