BEGIN:VCALENDAR
VERSION:2.0
PRODID:-//wp-events-plugin.com//7.2.3.1//EN
TZID:Europe/Rome
X-WR-TIMEZONE:Europe/Rome
BEGIN:VEVENT
UID:43578@lazioeventi.com
DTSTART;TZID=Europe/Rome:20260207T170000
DTEND;TZID=Europe/Rome:20260214T190000
DTSTAMP:20260118T233723Z
URL:https://lazioeventi.com/eventi/rosso-meraviglia-energia-e-vitalita
SUMMARY:ROSSO MERAVIGLIA\, energia e vitalità - Roma - 7 Febbraio 26 17:00
DESCRIPTION:Sabato 7 febbraio 2026 alle ore 17:00\, in via Gaetano Casati 2
 7 verrà inaugurato l’evento artistico ROSSO MERAVIGLIA – Energia &amp
 \; Vitalità che speriamo trasmetta e lasci al Visitatore un’energica vi
 talità nel cuore.\n\nPer questo evento si è pensato al rosso non come pa
 ssione\, desiderio e pericolo\, ma travolgente simbolo di forza\, di calor
 e e di coraggio\, sempre presenti nella bella e propositiva esplorazione a
 rtistica. Anche Pablo Picasso\, utilizzando i suoi amati colori\, espresse
  egregiamente la forza dirompente della creatività nella ricerca del bell
 o e delle cose positive.\nQuando non ho più blu\, metto del rosso\nPablo 
 Picasso\nArtisti partecipanti:\n\nAlfonsi Francesca – Avitto Maria Stefa
 nia - Ariosto Antonella – Bandinelli Bernardo - Bartolini Tiziana – Bo
 ratta Mauro - Bracaglia Paola – Fiore Tiziana – Carbone Calogero – L
 oreti Roberto - Lunghi Maria Grazia – Monaldi Gloria – Mutti Amelia - 
 Palmarocchi Laura – Partis Barbara – Pisani Mirta - Porrega Mauro – 
 Rega Luisa - Rubini Mauro – Simonetti Eugenia – Tagliati Stefano – T
 ancredi Giovanna- Tarquini Alessandra - Volpicella Patrizia – Zanarella 
 Doriano - Zanarella Michela – Zaytseva Tatyana.\n\nLa mostra potrà esse
 re visitata dal 18 al 25 ottobre dalle ore 17 alle ore 19 (festivi esclusi
 ) nella sede di Via Gaetano Casati 27 - Roma\n\nINFORMAZIONI GENERALI\n\nD
 ove:\nSpazio I.De.A.\nVia Gaetano Casati\, 27 – Roma\n\nInaugurazione:\n
 Sabato 7 febbraio 2026 - ore 17\n\nQuando:\nDal 7 l 14 febbraio 2026\nTutt
 i i giorni dalle ore 17 alle ore 19\n\nIngresso libero
ATTACH;FMTTYPE=image/jpeg:https://lazioeventi.com/wp-content/uploads/2026/
 01/CARDINALE-TORMENTO_bartolini.jpg
CATEGORIES:Arte e Cultura nel Lazio
LOCATION:Roma\, Via Leopardi\, Roma\, Roma\, Lazio\, Italia
GEO:41.8942;12.5017
X-APPLE-STRUCTURED-LOCATION;VALUE=URI;X-ADDRESS=Via Leopardi\, Roma\, Roma\
 , Lazio\, Italia;X-APPLE-RADIUS=100;X-TITLE=Roma:geo:41.8942,12.5017
END:VEVENT
BEGIN:VTIMEZONE
TZID:Europe/Rome
X-LIC-LOCATION:Europe/Rome
BEGIN:STANDARD
DTSTART:20251026T020000
TZOFFSETFROM:+0200
TZOFFSETTO:+0100
TZNAME:CET
END:STANDARD
END:VTIMEZONE
END:VCALENDAR