BEGIN:VCALENDAR
VERSION:2.0
PRODID:-//wp-events-plugin.com//7.2.3.1//EN
TZID:Europe/Rome
X-WR-TIMEZONE:Europe/Rome
BEGIN:VEVENT
UID:43912@lazioeventi.com
DTSTART;TZID=Europe/Rome:20260307T160000
DTEND;TZID=Europe/Rome:20260320T200000
DTSTAMP:20260303T183819Z
URL:https://lazioeventi.com/eventi/rotte-contemporanee
SUMMARY:Rotte contemporanee - Roma - 7 Marzo 26 16:00
DESCRIPTION:Rotte contemporanee\n\nGalleria Ess&amp\;rrE – Porto Turistic
 o di Roma\n7–20 marzo 2026\n\nA ridosso delle imbarcazioni\, dove il mar
 e incontra le architetture dell’approdo e la linea dell’orizzonte si f
 a pensiero\, la mostra Rotte contemporanee prende forma negli spazi della 
 Galleria Ess&amp\;rrE\, al Porto Turistico di Roma\, in un territorio che 
 è\, per vocazione e storia\, luogo di passaggio\, scambio e stratificazio
 ne culturale.\n\nQui il contemporaneo non si limita a occupare uno spazio 
 espositivo: lo attraversa. Lo fa dialogando con il paesaggio marittimo\, c
 on la prossimità degli scavi di Ostia Antica e con la presenza di Tor San
  Michele. In questo contesto\, sospeso tra acqua e terra\, tra archeologia
  e infrastruttura\, tra partenza e approdo\, le opere si configurano come 
 segnali\, boe simboliche che orientano lo sguardo. Ogni artista traccia un
 a propria rotta\, un sistema di coordinate intime e collettive\, dove mate
 ria\, segno e luce diventano strumenti di navigazione critica. Esporre in 
 un porto significa accettare la dimensione del transito. Il pubblico stess
 o diventa viaggiatore. La vicinanza con Ostia Antica e con la Torre San Mi
 chele rafforza questa tensione tra permanenza e movimento. Se gli scavi ra
 ccontano rotte commerciali e civiltà stratificate\, le opere in mostra in
 terrogano le rotte invisibili del presente: quelle digitali\, emotive\, so
 ciali. Il dialogo tra antichità e contemporaneità non è nostalgico né 
 celebrativo\, ma critico: invita a riflettere su come ogni epoca costruisc
 a i propri porti\, reali o simbolici.\n\nIn esposizione opere di: Elio Att
 e\, Rita Bertani\, Silvia Brigenti\, Etty Bruni\, Luisella Caffieri\, Tere
 sa Cannova\, Cristian Ciprari\, CoLui (Luigi Colombo)\, Riccardo di Cosmo\
 , Nicoletta Furlan\, Aleardo Koverech\, Elisabetta Martinez\, Barbara Mont
 i\, Anna Notarantonio\, Patrizia Pandolfi\, Daniela Pedrocco\, M.Adriana P
 rosdocimo\, Tiziana Romanelli\, Gilberto Sartori\, Stefania Scarafia\, Sar
 a Stavla\, Marco Zanella\, Andrea Zuppa.\n\nInaugurazione Sabato 7 marzo o
 re 16:00 con brindisi alla presenza di alcuni autori di prestigiose opere.
 \n\nInfo: +39 388 6378032 - +39 329 4681684 – Porto turistico di Roma 
 – Lungomare Duca degli Abruzzi\, 84 – loc. 840-841\nwww.accainarte.it 
 – galleriaesserre@gmail.com\nRiprese e interviste a cura di Antonello Na
 zarini di ZTL TV\nMain Sponsor: MEROS SYSTEM INTEGRATOR\nSponsor tecnico: 
 Agostinelli Store\nParcheggio interno gratuito
ATTACH;FMTTYPE=image/jpeg:https://lazioeventi.com/wp-content/uploads/2026/
 03/Locandina-Rotte.jpg
CATEGORIES:Arte e Cultura nel Lazio
LOCATION:Roma\, Via Leopardi\, Roma\, Roma\, Lazio\, Italia
GEO:41.8942;12.5017
X-APPLE-STRUCTURED-LOCATION;VALUE=URI;X-ADDRESS=Via Leopardi\, Roma\, Roma\
 , Lazio\, Italia;X-APPLE-RADIUS=100;X-TITLE=Roma:geo:41.8942,12.5017
END:VEVENT
BEGIN:VTIMEZONE
TZID:Europe/Rome
X-LIC-LOCATION:Europe/Rome
BEGIN:STANDARD
DTSTART:20251026T020000
TZOFFSETFROM:+0200
TZOFFSETTO:+0100
TZNAME:CET
END:STANDARD
END:VTIMEZONE
END:VCALENDAR