BEGIN:VCALENDAR
VERSION:2.0
PRODID:-//wp-events-plugin.com//7.2.3.1//EN
TZID:Europe/Rome
X-WR-TIMEZONE:Europe/Rome
BEGIN:VEVENT
UID:33819@lazioeventi.com
DTSTART;TZID=Europe/Rome;VALUE=DATE:20230121
DTEND;TZID=Europe/Rome;VALUE=DATE:20230123
DTSTAMP:20230116T141133Z
URL:https://lazioeventi.com/eventi/s-antonio-abate-2
SUMMARY:S. Antonio Abate - Torrita Tiberina - 21 Gennaio 23 00:00
DESCRIPTION:Un fine settimana insieme all'insegna della tradizione e dei fe
 steggiamenti in onore di S. Antonio Abate\, ci scalderemo condividendo lo 
 stesso grande fuoco. \nNon mancate
ATTACH;FMTTYPE=image/jpeg:https://lazioeventi.com/wp-content/uploads/2023/
 01/antonio-abate-torrita.jpg
CATEGORIES:Sagre, Gastronomia e Tradizioni nel Lazio
LOCATION:Torrita Tiberina\, Comune\, Torrita Tiberina\, Roma\, Lazio\, Ital
 ia
GEO:42.2368;12.6182
X-APPLE-STRUCTURED-LOCATION;VALUE=URI;X-ADDRESS=Comune\, Torrita Tiberina\,
  Roma\, Lazio\, Italia;X-APPLE-RADIUS=100;X-TITLE=Torrita Tiberina:geo:42.
 2368,12.6182
END:VEVENT
BEGIN:VTIMEZONE
TZID:Europe/Rome
X-LIC-LOCATION:Europe/Rome
BEGIN:STANDARD
DTSTART:20221030T020000
TZOFFSETFROM:+0200
TZOFFSETTO:+0100
TZNAME:CET
END:STANDARD
END:VTIMEZONE
END:VCALENDAR