BEGIN:VCALENDAR
VERSION:2.0
PRODID:-//wp-events-plugin.com//7.2.3.1//EN
TZID:Europe/Rome
X-WR-TIMEZONE:Europe/Rome
BEGIN:VEVENT
UID:43966@lazioeventi.com
DTSTART;TZID=Europe/Rome:20260510T100000
DTEND;TZID=Europe/Rome:20260510T180000
DTSTAMP:20260309T153414Z
URL:https://lazioeventi.com/eventi/sagra-degli-gnocchi-con-il-sugo-di-cast
 rato
SUMMARY:Sagra degli gnocchi con il sugo di castrato - Nerola - 10 Maggio 26
  10:00
DESCRIPTION:UNA DOMENICA DI MAGGIO" - SAGRA DEGLI GNOCCHI AL CASTRATODOMEN
 ICA 10 MAGGIO 2026 - DALLE ORE 11:00NEROLA (ROMA) \nSapori Nerolesi vi as
 pettano in questa domenica di primavera da trascorrere insieme alla famigl
 ia. Piatto protagonista i gnocchi con il sugo di castrato\, gnocchi casare
 cci ed un sugo da leccarsi i baffi! Inoltre carne di castrato\, bruschette
  con olio extra vergine d'oliva delle colline di Nerola e le famose salsic
 ce artigianali del macellaio del paese\, cotte sulla brace e servite in un
  panino con cicoria ripassata.Mercatino dedicato all'artigianato ed ai pro
 dotti tipici del territorio\, con hobbisti che realizzano bijoux e lavori 
 ad uncinetto\, piccole aziende agricole produttrici di miele\, formaggio\,
  dolci ed il famoso olio extra vergine Sabina DOP.Passeggiata nel bellissi
 mo borgo medievale\, con il maestoso Castello Orsini. Sempre all'interno d
 el borgo antico sarà inoltre possibile godere della magnifica veduta che 
 offre "la terrazza di Nerola"\, un bellissimo affaccio sulla vallata nerol
 ese\, con oliveti\, frutteti\, alberi in fiore e la tipica vegetazione del
 la nostra terra Sabina.Non mancheranno\, inoltre\, la musica dal vivo ed i
  gonfiabili per bambini.\nPROGRAMMA DI MASSIMA:\nORE 11:00 - Apertura merc
 atino\, percorso al centro storico\, terrazza panoramica\;ORE 12:00 - Aper
 tura stand gastronomici - musica dal vivo - gonfiabili per bambini\;\nORE 
 18:00 – Conclusione della manifestazione\;\nCOSTI DEI MENU: Menu complet
 o €18 - Menu senza castrato €15 - Menu no carne (vegetariano) € 15\;
 \nSERVIZI: Parcheggio gratuito\, servizio navetta gratuito\, servizio pago
  bancomat\, mercatino dell' artigianato\, musica dal vivo\, bellissimo cen
 tro storico da visitare\, terrazza panoramica\, giochi per bambini\, balli
  di gruppo.\n"Una domenica di Maggio” ricca di attrazioni ed adatta a tu
 tte le età che coinvolge l'intera famiglia. VENITE A NEROLA\, VI ASPETTIA
 MO!\nPer info consultare la pagina facebook “Pro Loco Nerola” oppure c
 ontattare il numero 377.0970541\;\nN.B. in caso di maltempo sarà rinviata
  alla domenica successiva. \nCOME RAGGIUNGERCI:Nerola si trova circa a me
 tà strada tra Roma e Rieti\, all’interno della via Salaria.\n. Da Roma 
 è possibile prendere l’A1 Firenze-Roma\, uscire a Fiano Romano e proseg
 uire per circa 20km sulla Salaria in direzione Rieti\, ad altezza Borgo Qu
 inzio prendere l’uscita per Nerola\, proseguire sulla Via Salaria Vecchi
 a in direzione Acquaviva e quindi Nerola.\n. Da Rieti percorrere via Salar
 ia in direzione Roma e svoltare a destra all’uscita per Nerola all’alt
 ezza di Corese Terra – Borgo Quinzio e proseguire quindi sulla Via Salar
 ia Vecchia in direzione Acquaviva e quindi Nerola. 
ATTACH;FMTTYPE=image/jpeg:https://lazioeventi.com/wp-content/uploads/2026/
 03/Volantino-Gnocchi-al-castrato.jpg
CATEGORIES:Sagre, Gastronomia e Tradizioni nel Lazio
LOCATION:Nerola\, Comune\, Nerola\, Roma\, Lazio\, Italia
GEO:42.1616;12.7868
X-APPLE-STRUCTURED-LOCATION;VALUE=URI;X-ADDRESS=Comune\, Nerola\, Roma\, La
 zio\, Italia;X-APPLE-RADIUS=100;X-TITLE=Nerola:geo:42.1616,12.7868
END:VEVENT
BEGIN:VTIMEZONE
TZID:Europe/Rome
X-LIC-LOCATION:Europe/Rome
BEGIN:DAYLIGHT
DTSTART:20260329T030000
TZOFFSETFROM:+0100
TZOFFSETTO:+0200
TZNAME:CEST
END:DAYLIGHT
END:VTIMEZONE
END:VCALENDAR