BEGIN:VCALENDAR
VERSION:2.0
PRODID:-//wp-events-plugin.com//7.2.3.1//EN
TZID:Europe/Rome
X-WR-TIMEZONE:Europe/Rome
BEGIN:VEVENT
UID:24803@lazioeventi.com
DTSTART:20230813T183000Z
DTEND:20230813T224500Z
DTSTAMP:20230809T210236Z
URL:https://lazioeventi.com/eventi/sagra-del-cabernet
SUMMARY:Sagra del Cabernet - Gallinaro - 13 Agosto 23 19:30
DESCRIPTION:L’appuntamento con la sagra del Cabernet è ormai una data fi
 ssa nel panorama delle iniziative che vedono come protagonista la realtà 
 vitivinicola laziale.\n\nL’intento è sempre quello di valorizzare il pr
 odotto offrendo al mercato qualità e innovazione non dimenticando le altr
 e produzioni tipiche della zona come l’olio\, i formaggi e i piatti tipi
 ci della tradizione della Val di Comino.\n\nLa sagra\, oltre al vino DOC C
 abernet di Atina\, offre ai visitatori spettacoli tradizionali con gruppi 
 folk.\n\nL’apertura delle cantine e degli stand gastronomici è prevista
  per le 19\,30\, con chiusura alle 23\,30.\n\nSeguiranno intrattenimenti m
 usicali e danzanti.
ATTACH;FMTTYPE=image/jpeg:https://lazioeventi.com/wp-content/uploads/2019/
 07/cabernet-gallinaro.jpg
CATEGORIES:Sagre, Gastronomia e Tradizioni nel Lazio
LOCATION:Gallinaro\, Comune \, Gallinaro\, Frosinone\, Lazio\, Italia
GEO:41.6572;13.7986
X-APPLE-STRUCTURED-LOCATION;VALUE=URI;X-ADDRESS=Comune \, Gallinaro\, Frosi
 none\, Lazio\, Italia;X-APPLE-RADIUS=100;X-TITLE=Gallinaro:geo:41.6572,13.
 7986
END:VEVENT
END:VCALENDAR