BEGIN:VCALENDAR
VERSION:2.0
PRODID:-//wp-events-plugin.com//7.2.3.1//EN
TZID:Europe/Rome
X-WR-TIMEZONE:Europe/Rome
BEGIN:VEVENT
UID:31250@lazioeventi.com
DTSTART;TZID=Europe/Rome;VALUE=DATE:20220708
DTEND;TZID=Europe/Rome;VALUE=DATE:20220711
DTSTAMP:20220608T050336Z
URL:https://lazioeventi.com/eventi/sagra-del-cinghiale-e-sentieri-dellallu
 me
SUMMARY:Sagra del cinghiale e sentieri dell'allume - Allumiere - 8 Luglio 2
 2 00:00
DESCRIPTION:L'estate è alle porte e come ogni anno torna la "Sagra del Cin
 ghiale e dei Sentieri dell'Allume".\n\nTre giornate all'insegna di musica\
 , intrattenimento\, cultura e con la possibilita di prenotare escursioni g
 uidate presso la faggeta e l'Eremo della Trinita \,il tutto condito dai pi
 atti prelibati cucinati dalle nostre rinomate cuoche.\n\nVi aspettiamo num
 erosi ad Allumiere dall'8 al 10 luglio presso il piazzale Cesare Moroni.\n
 \nNon mancate!!
ATTACH;FMTTYPE=image/jpeg:https://lazioeventi.com/wp-content/uploads/2022/
 06/Screenshot_20220607-184212_Office-1.jpg
CATEGORIES:Sagre, Gastronomia e Tradizioni nel Lazio
LOCATION:Allumiere\, Comune\, Allumiere\, Roma\, Lazio\, Italia
GEO:42.1563;11.9021
X-APPLE-STRUCTURED-LOCATION;VALUE=URI;X-ADDRESS=Comune\, Allumiere\, Roma\,
  Lazio\, Italia;X-APPLE-RADIUS=100;X-TITLE=Allumiere:geo:42.1563,11.9021
END:VEVENT
BEGIN:VTIMEZONE
TZID:Europe/Rome
X-LIC-LOCATION:Europe/Rome
BEGIN:DAYLIGHT
DTSTART:20220327T030000
TZOFFSETFROM:+0100
TZOFFSETTO:+0200
TZNAME:CEST
END:DAYLIGHT
END:VTIMEZONE
END:VCALENDAR