BEGIN:VCALENDAR
VERSION:2.0
PRODID:-//wp-events-plugin.com//7.2.3.1//EN
TZID:Europe/Rome
X-WR-TIMEZONE:Europe/Rome
BEGIN:VEVENT
UID:42611@lazioeventi.com
DTSTART;TZID=Europe/Rome:20251005T110000
DTEND;TZID=Europe/Rome:20251005T180000
DTSTAMP:20250930T110415Z
URL:https://lazioeventi.com/eventi/sagra-del-formaggio-supino
SUMMARY:Sagra del Formaggio - Supino - 5 Ottobre 25 11:00
DESCRIPTION:Supino: Loc. Ortelle (La Cona)\, 5 Ottobre – Sagra del Formag
 gio\n\nTradizione\, gusto e musica popolare: il sapore della festa!\n\nIl 
 5 ottobre\, Ortelle (località La Cona) si trasforma nella capitale del gu
 sto con la tanto attesa Sagra del Formaggio: una giornata ricca di sapori 
 autentici\, tradizione e divertimento per tutte le età.\n\nSi parte alle 
 ore 11:00 con l’irresistibile Gara di lancio del formaggio\, organizzata
  dall’ASD Collelavena – I Ciclopi del Formaggio. Una sfida goliardica 
 che unisce forza\, tecnica e tanto spirito di squadra\, perfetta per scald
 are l’atmosfera.\n\nAlle 12:30 si aprono gli stand gastronomici\, con un
  percorso di degustazione che celebra l’abbinamento perfetto: Miele & Fo
 rmaggi. Il menù include piatti della tradizione come:\n- Pasta e fagioli\
 n- Panini farciti con formaggio (o\, per chi preferisce\, prosciutto)\n- D
 olci tipici locali accompagnati da un profumato vin brulé\n\nUn’occasio
 ne per assaporare i prodotti genuini del territorio\, in un’atmosfera ru
 stica e conviviale.\n\nIl pomeriggio si anima alle ore 14:00 con il concer
 to de “I Trillanti Trio”\, ensemble di musica popolare che porta in sc
 ena il calore e il ritmo delle tradizioni. L’evento rientra nel progetto
  "Supino Expo '25"\, promosso dal Comune di Supino in collaborazione con S
 upino in Vetrina e con il gruppo folk Nui Simo du Supino.\n\nUna giornata 
 da vivere con la famiglia\, tra musica\, buon cibo e cultura popolare.\nLa
  Sagra del Formaggio vi aspetta: non mancate!
ATTACH;FMTTYPE=image/jpeg:https://lazioeventi.com/wp-content/uploads/2025/
 09/PHOTO-2025-09-28-21-10-55.jpg
CATEGORIES:Sagre, Gastronomia e Tradizioni nel Lazio
LOCATION:Supino\, Via del Calvone\, Supino\, Frosinone\, Lazio\, Italia
GEO:41.6119;13.2316
X-APPLE-STRUCTURED-LOCATION;VALUE=URI;X-ADDRESS=Via del Calvone\, Supino\, 
 Frosinone\, Lazio\, Italia;X-APPLE-RADIUS=100;X-TITLE=Supino:geo:41.6119,1
 3.2316
END:VEVENT
BEGIN:VTIMEZONE
TZID:Europe/Rome
X-LIC-LOCATION:Europe/Rome
BEGIN:DAYLIGHT
DTSTART:20250330T030000
TZOFFSETFROM:+0100
TZOFFSETTO:+0200
TZNAME:CEST
END:DAYLIGHT
END:VTIMEZONE
END:VCALENDAR