BEGIN:VCALENDAR
VERSION:2.0
PRODID:-//wp-events-plugin.com//7.2.3.1//EN
TZID:Europe/Rome
X-WR-TIMEZONE:Europe/Rome
BEGIN:VEVENT
UID:42702@lazioeventi.com
DTSTART:20251018T090000Z
DTEND:20251019T190000Z
DTSTAMP:20251010T124544Z
URL:https://lazioeventi.com/eventi/sagra-del-fungo-porcino-2-2025-10-18
SUMMARY:Sagra della Castagna e del Fungo Porcino - Viterbo - 18 Ottobre 25 
 10:00
DESCRIPTION:San Martino al Cimino celebra i protagonisti dell’autunno con
  il ritorno della  Castagna e del Fungo Porcino.\nDue imperdibili weekend 
  con il trionfo dei colori e dei sapori di stagione in una cornice dal fas
 cino straordinario: il suggestivo borgo medievale alle pendici del Monte C
 imino.\n\nTantissime le iniziative in programma\, sia folcloristiche che c
 ulturali\, con un’attenzione particolare per i bambini e la riscoperta d
 elle antiche tradizioni.\nIn cartellone visite guidate\, dimostrazioni di 
 falconeria\, esibizioni dei balestrieri\, rievocazioni storiche\, giochi p
 opolari ed esibizioni di artisti di strada.\n \nDa non perdere le immancab
 ili degustazioni di caldarroste e vin brulè.\n\nParticolarmente interessa
 nte\, dal punto di vista enogastronomico\, i  menù curati dallo stand del
 la Proloco che servirà specialità a base di polenta funghi e castagne e 
 dallo stand Il Fritto delle mamme\, in piazza Mariano Burratti.\nInoltre i
  rinomati ristoranti di San Martino\, in occasione della sagra\, proporran
 no piatti a base di funghi porcini e castagne ad un prezzo convenzionato.\
 n\nLa sagra della Castagna e del Fungo Porcino\, alla trentasettesima ediz
 ione\, è organizzata dalla proloco guidata da Elisa Turchetti e si confer
 ma come uno dei momenti più importanti per la diffusione e valorizzazione
  dei due prodotti principe dell’economia locale\, di cui questo territor
 io è\, da sempre\, zona di produzione privilegiata. \nSolo a San Martino\
 , infatti\, in virtù della posizione geografica elevata\, è possibile tr
 ovare presenti i prelibati marroni di qualità superiore.\nUn evento\, qui
 ndi\, assolutamente da segnare in agenda.\n\nPer info: sanmartinoproloco@g
 mail.com \nFacebook – ProLocoSanMartinoAlCimino\n\nSabato 18 Ottobre\nOr
 e 11.00 - Apertura della sagra\, dei bracieri\, mercatini\, parco divertim
 enti per bambini e giostra equina 'Il mondo di Gina'\nOre 11.30 - Benedizi
 one da parte di Don Fabrizio\nOre 12.00 - Apertura stand gastronomico Prol
 oco\nOre 14.00 - Apertura Giochi di Legno 'Legno Mania' - Piazza Nazionale
 \nOre 14.00 - Esibizione compagnia Arcieri Tuscia - Piazza dell’Oratorio
 \nOre 15.00 - Laboratorio 'Ludarte' di Flavia Caruso (info e prenotazioni 
 3274475803) - Piazza del Duomo\nOre 16.00 - Apertura e visita al complesso
  abbaziale cistercense (info e prenotazioni 3475358259 - 3393412598) - Don
 azione solidale a favore della Caritas parrocchiale\nOre 16.00 - Laborator
 i di Ceramica 'Bottega d’arte' di Daniela Lai - Piazza del Duomo\nOre 16
 .00 - Esposizione itinerante del Gufo Europeo 'Floki'\nOre 16.00 - Spettac
 olo 'Il Mondo Incantato' con mangia fuoco e trampolieri - Piazza del Duomo
 \nOre 17.00 - Esibizione itinerante degli 'Stornellatori di Roma' del Maes
 tro Fabrizio Masci\nOre 18.00 - Spettacolo 'Il Mondo Incantato' con mangia
  fuoco e trampolieri - Piazza del Duomo\nOre 19.00 - Apertura Stand Gastro
 nomico Proloco\nOre 19.00 - Esibizione durante la cena degli 'Stornellator
 i di Roma' del Maestro Fabrizio Masci\n\nDomenica 19 Ottobre\nOre 10.00 - 
 Apertura della sagra\, dei bracieri\, mercatini\, parco divertimenti per b
 ambini e giostra equina 'Il mondo di Gina'\nOre 11.00 - Esposizione Falchi
  'Urbevetus Falconis' - Piazza del Duomo\nOre 11.00 - Laboratorio 'Ludarte
 ' di Flavia Caruso (info e prenotazioni 3274475803) - Piazza del Duomo\nOr
 e 11.30 - 'Nati per Leggere' lettura per bambini - Piazza del Duomo\nOre 1
 1.30 - Conferenza 'I boschi di castagno tra cambiamenti climatici e nuove 
 filiere produttive\, opportunità della ricerca scientifica' a cura del Pr
 of. Riccardo Valentini (UNITUS) - Piazza Nazionale\nOre 12.00 - Apertura s
 tand gastronomico Proloco\nOre 14.00 - Apertura giochi di Legno 'Legno Man
 ia' - Piazza Nazionale\nOre 14.00 - Esibizione compagnia Arcieri Tuscia - 
 Piazza dell’Oratorio\nOre 15.30 - Spettacolo di Falconeria 'Urbevetus Fa
 lconis' - Piazza del Duomo\nOre 16.30 - Esibizione Sbandieratrici e Musici
  di Viterbo. Sfilata dei cortei storici 'La corte di Donna Olimpia' di San
  Martino al Cimino e 'Mercatini del 600' di Bassano Romano.\nOre 17.30 - E
 sibizione itinerante dei 'Lestofunky street band'\nOre 19.00 - Apertura St
 and Gastronomico Proloco\n\nSabato 25 Ottobre\nOre 11.00 - Apertura della 
 sagra\, dei bracieri\, mercatini\, parco divertimenti per bambini e giostr
 a equina 'Il mondo di Gina'\nOre 12.00 - Apertura stand gastronomico Prolo
 co\nOre 14.00 - Apertura giochi di Legno 'Legno Mania' - Piazza Nazionale\
 nOre 14.00 - Esibizione compagnia Arcieri Tuscia - Piazza dell’Oratorio\
 nOre 15.00 - Laboratorio 'Ludarte' di Flavia Caruso (info e prenotazioni 3
 274475803) - Piazza del Duomo\nOre 15.30 - Torneo di Burraco presso Centro
  Polivalente Donna Olimpia\, via Luigi Cadorna (info e prenotazioni Bruno 
 3494288619\, Elio 3494435787)\nOre 16.00 - Apertura e visita al complesso 
 abbaziale cistercense (info e prenotazioni 3475358259 - 3393412598) - Dona
 zione solidale a favore della Caritas parrocchiale\nOre 16.00 - Spettacolo
  'Il Mondo Incantato' con mangia fuoco e trampolieri - Piazza del Duomo\nO
 re 17.00 - Esposizione itinerante del Gufo Europeo 'Floki'\nOre 17.00 - Es
 ibizione itinerante degli 'Stornellatori di Roma' del Maestro Fabrizio Mas
 ci\nOre 18.00 - Spettacolo 'Il Mondo Incantato' con mangia fuoco e trampol
 ieri - Piazza del Duomo\nOre 19.00 - Apertura Stand Gastronomico Proloco\n
 Ore 19.00 - Esibizione durante la cena degli 'Stornellatori di Roma' del M
 aestro Fabrizio Masci\n\nDomenica 26 Ottobre\nOre 10.00 - Apertura della s
 agra\, dei bracieri\, mercatini\, parco divertimenti per bambini e giostra
  equina 'Il mondo di Gina'\nOre 11.00 - Esposizione Falchi 'Urbevetus Falc
 onis' - Piazza del Duomo\nOre 11.00 - Laboratorio 'Ludarte' di Flavia Caru
 so (info e prenotazioni 3274475803) - Piazza del Duomo\nOre 11.30 - 'Nati 
 Per Leggere' lettura per bambini - Piazza del Duomo\nOre 12.00 - Apertura 
 stand gastronomico Proloco\nOre 14.00 - Apertura giochi di Legno 'Legno Ma
 nia' - Piazza Nazionale\nOre 14.00 - Esibizione compagnia Arcieri Tuscia -
  Piazza dell’Oratorio\nOre 15.30 - Spettacolo di Falconeria 'Urbevetus F
 alconis' - Piazza del Duomo\nOre 16.30 - Esibizione Sbandieratrici e Music
 i di Viterbo. Sfilata dei cortei storici 'La corte di Donna Olimpia' di Sa
 n Martino al Cimino e 'Mercatini del 600' di Bassano Romano.\nOre 17.30 - 
 Performance di Marionetta a Filo - Vladimir Llad. 'Il pittore più piccolo
  del mondo' di Valentina Baldazzi\nOre 19.00 - Apertura stand gastronomico
  Proloco
ATTACH;FMTTYPE=image/jpeg:https://lazioeventi.com/wp-content/uploads/2019/
 09/sagra-fungo-san-martino-cimino.jpg
CATEGORIES:Sagre, Gastronomia e Tradizioni nel Lazio
LOCATION:Viterbo\, Comune\, Viterbo\, Viterbo\, Lazio\, Italia
GEO:42.417;12.1051
X-APPLE-STRUCTURED-LOCATION;VALUE=URI;X-ADDRESS=Comune\, Viterbo\, Viterbo\
 , Lazio\, Italia;X-APPLE-RADIUS=100;X-TITLE=Viterbo:geo:42.417,12.1051
END:VEVENT
END:VCALENDAR