BEGIN:VCALENDAR
VERSION:2.0
PRODID:-//wp-events-plugin.com//7.2.3.1//EN
TZID:Europe/Rome
X-WR-TIMEZONE:Europe/Rome
BEGIN:VEVENT
UID:32528@lazioeventi.com
DTSTART:20231028T090000Z
DTEND:20231029T200000Z
DTSTAMP:20230918T221842Z
URL:https://lazioeventi.com/eventi/sagra-del-fungo-porcino-martino-cimino
SUMMARY:Sagra del Fungo Porcino - Viterbo - 28 Ottobre 23 10:00
DESCRIPTION:Autunno\, tempo di castagne e di funghi porcini\, trionfo di co
 lori\, odori e sapori.\n\nIl connubio tra i due protagonisti di questa sta
 gione si celebra a San Martino al Cimino\, deliziosa località nei pressi 
 di Viterbo.\n\nNel caratteristico borgo medievale torna\, per due fine set
 timana consecutivi la sagra della Castagna e del Fungo Porcino .\n\nIn una
  cornice dal fascino straordinario tantissime saranno le iniziative in pro
 gramma\, sia folcloristiche che culturali\, con un’attenzione particolar
 e per i bambini e la riscoperta delle antiche tradizioni.\n\nObiettivo pri
 ncipale della Pro Loco che organizza l’evento è infatti di unire\, all
 ’aspetto puramente folcloristico quello di promozione sociale e di valor
 izzazione delle realtà culturali\, storiche e turistiche di San Martino a
 l Cimino.\n\nDurante la manifestazione sarà aperto\, eccezionalmente\, lo
  straordinario Palazzo Doria Pamphilj ed il cartellone degli eventi proseg
 uirà con dimostrazioni di falconeria\, esibizioni di balestrieri\, rievoc
 azioni storiche\, giochi popolari ed artisti di strada.\n\nDa non perdere 
 le immancabili degustazioni di caldarroste e vin brulè che affiancheranno
  i deliziosi piatti a base di funghi e castagne\, serviti nello stand dell
 a proloco e nei rinomati ristoranti del borgo che\, in occasione della sag
 ra\, proporranno menù ad un prezzo convenzionato.\n\nDue week end quindi 
 assolutamente da non perdere\, visto che solo a San Martino\, in virtù de
 lla posizione geografica elevata\, è possibile trovare presenti i preliba
 ti marroni di qualità superiore.
ATTACH;FMTTYPE=image/jpeg:https://lazioeventi.com/wp-content/uploads/2022/
 09/castagna-porcino-martino-cimino.jpg
CATEGORIES:Sagre, Gastronomia e Tradizioni nel Lazio
LOCATION:Viterbo\, Comune\, Viterbo\, Viterbo\, Lazio\, Italia
GEO:42.417;12.1051
X-APPLE-STRUCTURED-LOCATION;VALUE=URI;X-ADDRESS=Comune\, Viterbo\, Viterbo\
 , Lazio\, Italia;X-APPLE-RADIUS=100;X-TITLE=Viterbo:geo:42.417,12.1051
END:VEVENT
END:VCALENDAR