BEGIN:VCALENDAR
VERSION:2.0
PRODID:-//wp-events-plugin.com//7.2.3.1//EN
TZID:Europe/Rome
X-WR-TIMEZONE:Europe/Rome
BEGIN:VEVENT
UID:32333@lazioeventi.com
DTSTART:20250501T110000Z
DTEND:20250501T170000Z
DTSTAMP:20250425T135515Z
URL:https://lazioeventi.com/eventi/sagra-del-fungo-porcino-oriolo-romano
SUMMARY:Sagra del Fungo Porcino - Oriolo Romano - 1 Maggio 25 12:00
DESCRIPTION:Il Fungo Porcino con il suo profumo è al centro del nostro eve
 nto gastronomico.\nNella splendida cornice di Piazza Umberto I°\, con lo 
 sfondo del suggestivo Palazzo Altieri si svolge la nuova edizione della Sa
 gra del Fungo Porcino di Oriolo Romano\, dove sentirete profumi ricchi\, u
 nici\, fatti di aromi particolari\; Incontrerete la genuinità e l'unicit
 à dei nostri prodotti tipici e potrete palpare una qualità di vita legat
 a al volgere lento delle stagioni.\n\n\nNel corso della Sagra del Fungo Po
 rcino ritroverete i sapori genuini dell'olio\, del vino delle carni\, dei 
 formaggi\, dei dolci\, della pasta fatta in casa e soprattutto dei funghi 
 porcini.\nSarete protagonisti di serate di festa allietate da musica\, spe
 ttacoli di strada e soprattutto ottimo cibo. Vi aspettiamo!\n\n\nL'intratt
 enimento è organizzato dai Genitori in Azione\, Ass Federico ed Ilaria Ge
 ntili e Ass. Carnevale Oriolese! Per non lasciare nessuno "a pancia vuota"
  è molto gradita la prenotazione!!!
ATTACH;FMTTYPE=image/jpeg:https://lazioeventi.com/wp-content/uploads/2019/
 09/sagra-fungo-porcino-oriolo-romano.jpg
CATEGORIES:Sagre, Gastronomia e Tradizioni nel Lazio
LOCATION:Oriolo Romano\, Comune di Oriolo Romano\, Oriolo Romano\, Viterbo\
 , Lazio\, Italia
GEO:42.1589;12.1382
X-APPLE-STRUCTURED-LOCATION;VALUE=URI;X-ADDRESS=Comune di Oriolo Romano\, O
 riolo Romano\, Viterbo\, Lazio\, Italia;X-APPLE-RADIUS=100;X-TITLE=Oriolo 
 Romano:geo:42.1589,12.1382
END:VEVENT
END:VCALENDAR