BEGIN:VCALENDAR
VERSION:2.0
PRODID:-//wp-events-plugin.com//7.2.3.1//EN
TZID:Europe/Rome
X-WR-TIMEZONE:Europe/Rome
BEGIN:VEVENT
UID:18968@lazioeventi.com
DTSTART;VALUE=DATE:20241024
DTEND;VALUE=DATE:20241028
DTSTAMP:20241019T060116Z
URL:https://lazioeventi.com/eventi/sagra-del-marrone-segnino
SUMMARY:Sagra del Marrone Segnino - Segni - 24 Ottobre 24 00:00
DESCRIPTION:Segni vi aspetta per la Sagra del Marrone.\n\nMusica\, arte\, t
 radizione e buona cucina! Non mancate!\n\nIl Marrone Segnino è una parti
 colare varietà di castagna caratterizzata da dimensioni lievemente maggio
 ri rispetto alle castagne tradizionali e dal gusto più gradevole ed accen
 tuato.\n\nLa raccolta del tipico marrone locale costituisce un momento imp
 ortante della vita economica\, sociale e culturale della comunità. Da qui
 \, una grande festa nel suggestivo scenario dell’antica cittadina d’ar
 te alle porte della capitale.\n\nUn nutrito carnet di appuntamenti storici
 \, culturali e gastronomici per il piacere dei numerosi e fedelissimi visi
 tatori.\n\nDurante i giorni della sagra sarà possibile degustare ed acqui
 stare il marrone segnino e la tipica gastronomia locale\, grazie alle nume
 rose "fraschette" appositamente aperte nelle viuzze del centro storico.\n\
 n[gallery columns="4" link="file" ids="179423\,179424\,179425\,179426"]
ATTACH;FMTTYPE=image/jpeg:https://lazioeventi.com/wp-content/uploads/2022/
 10/marrone-segnino.jpg
CATEGORIES:Sagre, Gastronomia e Tradizioni nel Lazio
LOCATION:Segni\, Comune\, Segni\, Roma\, Lazio\, Italia
GEO:41.6917;13.0227
X-APPLE-STRUCTURED-LOCATION;VALUE=URI;X-ADDRESS=Comune\, Segni\, Roma\, Laz
 io\, Italia;X-APPLE-RADIUS=100;X-TITLE=Segni:geo:41.6917,13.0227
END:VEVENT
END:VCALENDAR