BEGIN:VCALENDAR
VERSION:2.0
PRODID:-//wp-events-plugin.com//7.2.3.1//EN
TZID:Europe/Rome
X-WR-TIMEZONE:Europe/Rome
BEGIN:VEVENT
UID:9180@lazioeventi.com
DTSTART:20250615T120000Z
DTEND:20250615T163000Z
DTSTAMP:20250601T210615Z
URL:https://lazioeventi.com/eventi/sagra-del-raviolo-tipico-cameratano
SUMMARY:Sagra del Raviolo Tipico Cameratano - Camerata Nuova - 15 Giugno 25
  13:00
DESCRIPTION:Sagra del Raviolo Cameratano – Camerata Nuova (RM)\n\nTorna u
 no degli appuntamenti più gustosi dell’estate!\nVieni a scoprire i *rav
 ioli tipici cameratani*\, preparati secondo la tradizione!\n\n*Menù compl
 eto:*\n- Ravioli cameratani\n- Secondo\n- Contorno\n- Acqua\, vino e pane.
 \n\n*Musica dal vivo* e *stand gastronomici* per una giornata all’insegn
 a del gusto e del divertimento!\n\n15 Giugno 2025\nDalle ore 13:00\nPiazza
  Roma\n\nCome arrivare:\nDa Roma → A24 L’Aquila → Uscita *Carsoli-Or
 icola* → Camerata Nuova\n\nInfo: 338 478 6230 – Francesco Fulgenzi\nca
 meratanuova.proloco@gmail.com
ATTACH;FMTTYPE=image/jpeg:https://lazioeventi.com/wp-content/uploads/2023/
 05/sagra-raviolo-cameratano.jpg
CATEGORIES:Sagre, Gastronomia e Tradizioni nel Lazio
LOCATION:Camerata Nuova\, Comune di Camerata Nuova\, Camerata Nuova\, Roma\
 , Lazio\, Italia
GEO:42.019;13.1081
X-APPLE-STRUCTURED-LOCATION;VALUE=URI;X-ADDRESS=Comune di Camerata Nuova\, 
 Camerata Nuova\, Roma\, Lazio\, Italia;X-APPLE-RADIUS=100;X-TITLE=Camerata
  Nuova:geo:42.019,13.1081
END:VEVENT
END:VCALENDAR