BEGIN:VCALENDAR
VERSION:2.0
PRODID:-//wp-events-plugin.com//7.2.3.1//EN
TZID:Europe/Rome
X-WR-TIMEZONE:Europe/Rome
BEGIN:VEVENT
UID:32600@lazioeventi.com
DTSTART;TZID=Europe/Rome;VALUE=DATE:20221014
DTEND;TZID=Europe/Rome;VALUE=DATE:20221017
DTSTAMP:20221005T185457Z
URL:https://lazioeventi.com/eventi/sagra-della-caldarrosta-2022-10-14
SUMMARY:Sagra della Caldarrosta - Alatri - 14 Ottobre 22 00:00
DESCRIPTION:Sagra della Caldarrosta.\nTutte le sere troverete delle fantast
 iche caldarroste e squisiti primi piatti preparati dalle nostre donne.\n\n
 7 Ottobre: Gara di Briscola.\n8 Ottobre: Serata accompagnata da "I Trillan
 ti".\n9 Ottobre: Giochi popolari e la presa del porcellino. Serata accompa
 gnata da "Roberta e Luciano".\n\n14 Ottobre: Serata accompagnata da "Duo V
 alcomusic"\n15 Ottobre: Serata accompagnata da "Marco e Samantha"\n16 Otto
 bre: Serata accompagnata da "Davide Neccia band".
ATTACH;FMTTYPE=image/jpeg:https://lazioeventi.com/wp-content/uploads/2022/
 10/caldarrosta-alatri.jpg
CATEGORIES:Musica, Spettacoli e Danza nel Lazio,Sagre, Gastronomia e
 Tradizioni nel Lazio
LOCATION:Alatri\, Comune\, Alatri\, Frosinone\, Lazio\, Italia
GEO:41.7265;13.3421
X-APPLE-STRUCTURED-LOCATION;VALUE=URI;X-ADDRESS=Comune\, Alatri\, Frosinone
 \, Lazio\, Italia;X-APPLE-RADIUS=100;X-TITLE=Alatri:geo:41.7265,13.3421
END:VEVENT
BEGIN:VTIMEZONE
TZID:Europe/Rome
X-LIC-LOCATION:Europe/Rome
BEGIN:DAYLIGHT
DTSTART:20220327T030000
TZOFFSETFROM:+0100
TZOFFSETTO:+0200
TZNAME:CEST
END:DAYLIGHT
END:VTIMEZONE
END:VCALENDAR