BEGIN:VCALENDAR
VERSION:2.0
PRODID:-//wp-events-plugin.com//7.2.3.1//EN
TZID:Europe/Rome
X-WR-TIMEZONE:Europe/Rome
BEGIN:VEVENT
UID:37378@lazioeventi.com
DTSTART;TZID=Europe/Rome;VALUE=DATE:20231014
DTEND;TZID=Europe/Rome;VALUE=DATE:20231016
DTSTAMP:20231007T153748Z
URL:https://lazioeventi.com/eventi/sagra-della-castagna-di-roccagiovine
SUMMARY:Sagra della castagna di Roccagiovine - Roccagiovine - 14 Ottobre 23
  00:00
DESCRIPTION:Sagra della castagna di Roccagiovine\n\nIl programma\nsabato 14
  ottobre\nore 12:00 5° mercato dei prodotti derivati dal castagno\n• Or
 e 12:30 apertura stand gastronomici e cucina\n• Ore 14:00 distribuzione 
 caldarroste\nore 15:00 conferenza di cosmologia nella chiesa di s. Nicola 
 di bari\, a cura\nDell’ing. Salvatore iacono\, dal titolo “in principi
 o…origine ed evoluzione dell’universo”\n\nDomenica 15 ottobre\ni° e
 stemporanea di pittura “il borgo di roccagiovine e i suoi colori\,\nDipi
 ngere nel centro storico” - a cura dell’artista gino meddi\n\n• Ore 
 10:00 5° mercato dei prodotti derivati dal castagno\n• Ore 12:00 la cas
 tagna nel contesto della dieta mediterranea\nA cura del prof. Giuseppe ran
 do\nDir. Medico-dietologo az. Osp. San giovanni addolorata – roma\nRespo
 nsabile della uosd di nutrizione clinica\nPresidente della sezione lazio d
 ell'associazione italiana di dietetica e nutrizione clinica (a.d.i.).\n\n
 • Ore 12:00 street band smilf\n• Ore 12:00 inizio rappresentazioni\, i
 n onore della dea vacuna\, del gruppo di\nRicostruzione storica “ix legi
 o hispana”\,  con legionari\,  senatori\, auguri e pontefici in tenuta
  del i°sec. D.c.\n• Ore 12:30 apertura stand gastronomici e cucina loca
 le\n• Ore 12:30 benedizione religiosa delle castagne\n• Ore 12:30 dist
 ribuzione caldarroste\n• Ore 15:00 rappresentazione storica con auspici 
 e\nSupplica  alla dea vacuna per il buon raccolto delle castagne\, messa 
 in opera dal gruppo di ricostruzione storica “legio ix hispana” al cas
 tello or  sini (il tempio alla dea)\n• Ore 15:20 corteo storico del gru
 ppo “legio ix hispana”\nDal tempio alla piazza vacuna\n• Ore 15:30 t
 aglio del nastro della castagna d’oro da parte delle\nAutorita’ e del 
 sindaco di roccagiovine\, con picchetto d’onore della ix legio hispana\n
 • Ore 16:00 esibizione musicale del gruppo “erre sei”\n• Ore 16:30
  scuola di legionari per grandi e piccini\, con\nAddestramento all’uso d
 el gladio\, tramite\nIl rudis in legno\, presso il campo polifunzionale in
  p.le dampierre\nA cura della ix legio hispana\nSabato e domenica\, dalle 
 ore 09:00\nMostra di pittura e fotografia “paesi del parco”\, degustaz
 ioni e attrazioni nei vicoli e nelle piazzole del centro storico\, cavalli
  del maneggio per passeggiate nei boschi per grandi e piccini\n\nIl progra
 mma potrebbe subire variazioni non dipendenti dalla volontà degli organiz
 zatori.
ATTACH;FMTTYPE=image/jpeg:https://lazioeventi.com/wp-content/uploads/2023/
 10/COMPLETO-PER-MANIFESTI.jpg
CATEGORIES:Sagre, Gastronomia e Tradizioni nel Lazio
LOCATION:Roccagiovine\, Comune di Roccagiovine\, Roccagiovine\, Roma\, Lazi
 o\, Italia
GEO:42.0501;12.8987
X-APPLE-STRUCTURED-LOCATION;VALUE=URI;X-ADDRESS=Comune di Roccagiovine\, Ro
 ccagiovine\, Roma\, Lazio\, Italia;X-APPLE-RADIUS=100;X-TITLE=Roccagiovine
 :geo:42.0501,12.8987
END:VEVENT
BEGIN:VTIMEZONE
TZID:Europe/Rome
X-LIC-LOCATION:Europe/Rome
BEGIN:DAYLIGHT
DTSTART:20230326T030000
TZOFFSETFROM:+0100
TZOFFSETTO:+0200
TZNAME:CEST
END:DAYLIGHT
END:VTIMEZONE
END:VCALENDAR