BEGIN:VCALENDAR
VERSION:2.0
PRODID:-//wp-events-plugin.com//7.2.3.1//EN
TZID:Europe/Rome
X-WR-TIMEZONE:Europe/Rome
BEGIN:VEVENT
UID:32287@lazioeventi.com
DTSTART;TZID=Europe/Rome;VALUE=DATE:20220930
DTEND;TZID=Europe/Rome;VALUE=DATE:20221003
DTSTAMP:20220928T142457Z
URL:https://lazioeventi.com/eventi/sagra-della-patata-vallepietra
SUMMARY:Sagra della Patata - Vallepietra - 30 Settembre 22 00:00
DESCRIPTION:Tradizionale festa della patata a Vallepietra.\n\nQuesto è il 
 programma di tre giorni della XIV edizione della Sagra della Patata di Val
 lepietra.\n\nVi aspettiamo numerosi per festeggiare e mangiare insieme.\n\
 nPiazza San Cristoforo è la nuova piazzetta sotto la torre\n\n
ATTACH;FMTTYPE=image/jpeg:https://lazioeventi.com/wp-content/uploads/2022/
 09/sagra-patata-vallepiertra.jpg
CATEGORIES:Sagre, Gastronomia e Tradizioni nel Lazio
LOCATION:Vallepietra\, Comune\, Vallepietra\, Roma\, Lazio\, Italia
GEO:41.9269;13.2309
X-APPLE-STRUCTURED-LOCATION;VALUE=URI;X-ADDRESS=Comune\, Vallepietra\, Roma
 \, Lazio\, Italia;X-APPLE-RADIUS=100;X-TITLE=Vallepietra:geo:41.9269,13.23
 09
END:VEVENT
BEGIN:VTIMEZONE
TZID:Europe/Rome
X-LIC-LOCATION:Europe/Rome
BEGIN:DAYLIGHT
DTSTART:20220327T030000
TZOFFSETFROM:+0100
TZOFFSETTO:+0200
TZNAME:CEST
END:DAYLIGHT
END:VTIMEZONE
END:VCALENDAR