BEGIN:VCALENDAR
VERSION:2.0
PRODID:-//wp-events-plugin.com//7.2.3.1//EN
TZID:Europe/Rome
X-WR-TIMEZONE:Europe/Rome
BEGIN:VEVENT
UID:38971@lazioeventi.com
DTSTART;TZID=Europe/Rome:20240421T110000
DTEND;TZID=Europe/Rome:20240421T230000
DTSTAMP:20240415T081057Z
URL:https://lazioeventi.com/eventi/sagra-della-pecora
SUMMARY:Sagra della Pecora - Frasso Sabino - 21 Aprile 24 11:00
DESCRIPTION:La Pro Loco di Frasso Sabino organizza  la prima edizione dell
 a Sagra della Pecora\, che si terrà domenica 21 aprile presso l'Area Merc
 ato di Osteria Nuova.\n\nDalle 12 fino a sera\, sarà possibile degustare 
 un'ampia varietà di ricette a base di pecora\, che sapranno esaltare il g
 usto unico di questa prelibatezza.\n\nDagli immancabili gnocchi al castrat
 o\, agli arrosticini fino alla pecora lessa\, ce n'è davvero per tutti i 
 gusti.\n\nNon mancheranno birra e patatine per accompagnare i piatti princ
 ipali.\n\nTante le attività in programma. Per i bambini prove di mini rug
 by e altri sport presso l'adiacente campo sportivo grazie alla collaborazi
 one della polisportiva di Frasso Sabino.\n\nPer gli adulti visite guidate 
 alla Grotta dei Massacci\, tra i monumenti più importanti  della Sabina\
 , ma anche musica e DJ set dal pomeriggio per ballare e divertirsi fino a 
 tarda serata.\n\nUn appuntamento da non perdere per trascorrere una giorna
 ta all'insegna del buon cibo\, del divertimento e della tradizione.\n\nVi 
 aspettiamo numerosi!\n\nPer maggiori dettagli sul programma seguire le pag
 ine social della Pro Loco di Frasso Sabino (Facebook e Instagram)
ATTACH;FMTTYPE=image/jpeg:https://lazioeventi.com/wp-content/uploads/2024/
 04/IMG-20240325-WA0016.jpg
CATEGORIES:Sagre, Gastronomia e Tradizioni nel Lazio
LOCATION:Frasso Sabino\, Comune di Frasso Sabino\, Frasso Sabino\, Rieti\, 
 Lazio\, Italia
GEO:42.2297;12.8054
X-APPLE-STRUCTURED-LOCATION;VALUE=URI;X-ADDRESS=Comune di Frasso Sabino\, F
 rasso Sabino\, Rieti\, Lazio\, Italia;X-APPLE-RADIUS=100;X-TITLE=Frasso Sa
 bino:geo:42.2297,12.8054
END:VEVENT
BEGIN:VTIMEZONE
TZID:Europe/Rome
X-LIC-LOCATION:Europe/Rome
BEGIN:DAYLIGHT
DTSTART:20240331T030000
TZOFFSETFROM:+0100
TZOFFSETTO:+0200
TZNAME:CEST
END:DAYLIGHT
END:VTIMEZONE
END:VCALENDAR