BEGIN:VCALENDAR
VERSION:2.0
PRODID:-//wp-events-plugin.com//7.2.3.1//EN
TZID:Europe/Rome
X-WR-TIMEZONE:Europe/Rome
BEGIN:VEVENT
UID:32908@lazioeventi.com
DTSTART;TZID=Europe/Rome:20221112T170000
DTEND;TZID=Europe/Rome:20221113T220000
DTSTAMP:20221103T113436Z
URL:https://lazioeventi.com/eventi/sagra-della-polenta-lunghezza
SUMMARY:Sagra della Polenta - Roma - 12 Novembre 22 17:00
DESCRIPTION:Rinnoviamo l'appuntamento anche per quest'anno alla "Sagra dell
 a Polenta" 12 e 13 novembre 2022\, il sabato solo a cena mentre la domenic
 a pranzo e cena. Troverete la polenta classica al sugo con salsiccia oppur
 e alla gricia sempre con salsiccia\, il tutto accompagnato da un buon bicc
 hiere di vino e pane.\nNaturalmente la polenta\, come vuole la tradizione\
 , verrà servita sul tipico piatto di legno (scifa) che resterà a voi com
 e dono da parte dell'Associazione. Inoltre troverete panini assortiti\, pa
 tatine fritte\, caldarroste e ciambelline al vino fatto dalle sapienti man
 i delle donne dell'Associazione.\nInsomma una giornata in allegria\, amici
 zia e voglia di stare insieme.\nVi aspettiamo.
ATTACH;FMTTYPE=image/jpeg:https://lazioeventi.com/wp-content/uploads/2022/
 11/POLENTA-2022-WORD-A4-1-ridimensionata.jpg
CATEGORIES:Sagre, Gastronomia e Tradizioni nel Lazio
LOCATION:Roma\, Via Leopardi\, Roma\, Roma\, Lazio\, Italia
GEO:41.8942;12.5017
X-APPLE-STRUCTURED-LOCATION;VALUE=URI;X-ADDRESS=Via Leopardi\, Roma\, Roma\
 , Lazio\, Italia;X-APPLE-RADIUS=100;X-TITLE=Roma:geo:41.8942,12.5017
END:VEVENT
BEGIN:VTIMEZONE
TZID:Europe/Rome
X-LIC-LOCATION:Europe/Rome
BEGIN:STANDARD
DTSTART:20221030T020000
TZOFFSETFROM:+0200
TZOFFSETTO:+0100
TZNAME:CET
END:STANDARD
END:VTIMEZONE
END:VCALENDAR