BEGIN:VCALENDAR
VERSION:2.0
PRODID:-//wp-events-plugin.com//7.2.3.1//EN
TZID:Europe/Rome
X-WR-TIMEZONE:Europe/Rome
BEGIN:VEVENT
UID:7091@lazioeventi.com
DTSTART:20260221T113000Z
DTEND:20260222T163000Z
DTSTAMP:20260207T183537Z
URL:https://lazioeventi.com/eventi/sagra-della-polenta-rencocciata
SUMMARY:Sagra della Polenta "Rencocciata" - Licenza - 21 Febbraio 26 12:30
DESCRIPTION:La famosa e tradizionale Sagra della Polenta riporta all'atte
 nzione della cronaca la "Rencocciata"\, che si svolge a Licenza\, un pi
 ccolo paese a soli cinquanta chilometri da Roma\, di antica tradizione con
 tadina\, immerso nel verde del Parco Regionale Naturale dei Monti Lucreti
 li.\n\nIl paesaggio circostante è talmente gradevole che fu scelto dal po
 eta Orazio per riposarsi dalle fatiche cittadine. Un tempo Licenza era fam
 osa per la sua pastorizia e la produzione di olio d’oliva.\n\nIn una gio
 rnata di divertimento\, di visite alle bellezze storiche (il borgo antico\
 , il Castello Orsini\, il Museo Oraziano )\, archeologiche (i ruderi della
  Villa del poeta latino Orazio) e naturali (escursioni nel Parco) la Ass.n
 e Pro Loco\, allestisce stand gastronomici con la distribuzione di Polenta
  (dura) ripassata alla griglia "rencocciata" da mangiare a mò di pane\, c
 on le più svariate pietanze.\n\nMusica\, balli\, giochi per una bellissim
 a giornata! La popolazione di Licenza\, orgogliosa della tradizione\, cont
 inua a conservare queste particolari procedure tant' è che l'ultima domen
 ica di febbraio il paese si rianima con la "Sagra della Polenta Rencocciat
 a": una giornata interamente dedicata al ricordo delle tradizioni\, in cui
  si assapora la genuinità e semplicità della tipica polenta.\n\nLicenza 
 offre motivi di svago con lunge passeggiate non solo tra le viuzze del pae
 se ma anche in tutto il territorio del Parco dei Monti Lucretili\, di ritr
 ovo spirituale nelle due chiese recentemente restaurate\, quali la chiesa 
 della SS.ma Concezione\, definita comunemente Chiesa Nuova dalla popolazio
 ne e la chiesa della Beata Vergine Immacolata\, definita invece chiesa vec
 chia\, e infine anche motivi culturali con visite archeologiche e monument
 ali presso la Villa d'Orazio\, il Ninfo degli Orsini definito dall’ illu
 stre poeta Quinto Orazio Flacco Fons Bandusiae\, il museo oraziano e il pa
 lazzo Baronale degli Orsini.
ATTACH;FMTTYPE=image/jpeg:https://lazioeventi.com/wp-content/uploads/2019/
 12/polenta.jpg
CATEGORIES:Sagre, Gastronomia e Tradizioni nel Lazio
LOCATION:Licenza\, Comune\, Licenza\, Roma\, Lazio\, Italia
GEO:42.0742;12.9018
X-APPLE-STRUCTURED-LOCATION;VALUE=URI;X-ADDRESS=Comune\, Licenza\, Roma\, L
 azio\, Italia;X-APPLE-RADIUS=100;X-TITLE=Licenza:geo:42.0742,12.9018
END:VEVENT
END:VCALENDAR