BEGIN:VCALENDAR
VERSION:2.0
PRODID:-//wp-events-plugin.com//7.2.3.1//EN
TZID:Europe/Rome
X-WR-TIMEZONE:Europe/Rome
BEGIN:VEVENT
UID:29308@lazioeventi.com
DTSTART:20231119T090000Z
DTEND:20231119T140000Z
DTSTAMP:20231115T104130Z
URL:https://lazioeventi.com/eventi/sagra-della-polenta-rocca-massima
SUMMARY:Sagra della Polenta - Rocca Massima - 19 Novembre 23 10:00
DESCRIPTION:Rocca Massima (LT): in montagna\, con la giusta temperatura\, v
 i aspettiamo per la Sagra della polenta.\n\nOltre a passare una splendida 
 giornata potrete scoprire le bellezze del paese e godere della sua splendi
 da atmosfera.\n\nRocca Massima un paese incastonato nel cuore dei Monti Lu
 pini.\n\nDurante la manifestazione\, potrete assaporare il folklore e i pr
 odotti tipici locali inimitabili\n\nDomenica 19 novembre a partire dalla m
 attina si terranno diverse attività e ovviamente la distribuzione della p
 olenta.\nDalle 10.00 si potrà curiosare tra gli stand del mercatino espos
 itivo fino alle ore 13.00 quando sarà distribuita la polenta con spuntatu
 re e salsiccia o con le verdure.\nNel pomeriggio le vie del paese saranno 
 animate da musiche e canti dei Menestrelli
ATTACH;FMTTYPE=image/jpeg:https://lazioeventi.com/wp-content/uploads/2022/
 11/polenta-roccamassima.jpg
CATEGORIES:Sagre, Gastronomia e Tradizioni nel Lazio
LOCATION:Rocca Massima\, Comune di Rocca Massima\, Rocca Massima\, Latina\,
  Lazio\, Italia
GEO:41.6783;12.9199
X-APPLE-STRUCTURED-LOCATION;VALUE=URI;X-ADDRESS=Comune di Rocca Massima\, R
 occa Massima\, Latina\, Lazio\, Italia;X-APPLE-RADIUS=100;X-TITLE=Rocca Ma
 ssima:geo:41.6783,12.9199
END:VEVENT
END:VCALENDAR