BEGIN:VCALENDAR
VERSION:2.0
PRODID:-//wp-events-plugin.com//7.2.3.1//EN
TZID:Europe/Rome
X-WR-TIMEZONE:Europe/Rome
BEGIN:VEVENT
UID:31122@lazioeventi.com
DTSTART;TZID=Europe/Rome:20230611T100000
DTEND;TZID=Europe/Rome:20230611T150000
DTSTAMP:20230606T052717Z
URL:https://lazioeventi.com/eventi/sagra-della-ricotta
SUMMARY:Sagra della Ricotta - Capranica Prenestina - 11 Giugno 23 10:00
DESCRIPTION:La Sagra della Ricotta di pecora a Guadagnolo\, pittoresco cent
 ro a 1218 metri sulla vetta del monte omonimo\, un’ora di macchina da Ro
 ma\, permette di trascorrere una domenica fuori porta all’insegna dei sa
 pori genuini e delle prelibatezze laziali. \n\nLa ricotta di pecora\, lavo
 rata dai pastori del paese secondo le antiche tradizioni\, si può degusta
 re e acquistare per tutto il giorno nelle vie del paese vestite a festa pe
 r l’occasione. Sui banchi siero di ricotta e pane\, ricotta fresca\, cac
 iottine di ricotta di pecora o di capra dal sapore inconfondibile\, grazie
  ai vasti e verdi pascoli di cui gode qui la pastorizia.\n\nChi ama i form
 aggi avrà modo di gustare e acquistare la ricotta fresca direttamente dov
 e prodotta\, e magari seguire le fasi della lavorazione per scoprire come 
 viene realizzata.
ATTACH;FMTTYPE=image/jpeg:https://lazioeventi.com/wp-content/uploads/2022/
 05/sagra-ricotta-guadagnolo-1.jpg
CATEGORIES:Sagre, Gastronomia e Tradizioni nel Lazio
LOCATION:Capranica Prenestina\, Comune\, Capranica Prenestina\, Roma\, Lazi
 o\, Italia
GEO:41.8624;12.9523
X-APPLE-STRUCTURED-LOCATION;VALUE=URI;X-ADDRESS=Comune\, Capranica Prenesti
 na\, Roma\, Lazio\, Italia;X-APPLE-RADIUS=100;X-TITLE=Capranica Prenestina
 :geo:41.8624,12.9523
END:VEVENT
BEGIN:VTIMEZONE
TZID:Europe/Rome
X-LIC-LOCATION:Europe/Rome
BEGIN:DAYLIGHT
DTSTART:20230326T030000
TZOFFSETFROM:+0100
TZOFFSETTO:+0200
TZNAME:CEST
END:DAYLIGHT
END:VTIMEZONE
END:VCALENDAR