BEGIN:VCALENDAR
VERSION:2.0
PRODID:-//wp-events-plugin.com//7.2.3.1//EN
TZID:Europe/Rome
X-WR-TIMEZONE:Europe/Rome
BEGIN:VEVENT
UID:8196@lazioeventi.com
DTSTART:20230425T093000Z
DTEND:20230425T163000Z
DTSTAMP:20230408T111901Z
URL:https://lazioeventi.com/eventi/sagra-dellasparago-selvatico-2
SUMMARY:Sagra dell'Asparago Selvatico - Montopoli di Sabina - 25 Aprile 23 
 10:30
DESCRIPTION:Inizio degustazione dalle ore 12:30 somministrazione fino ad es
 aurimento pasti menù gastronomico dedicato all’asparago da degustare s
 otto idonee strutture coperte somministrazione anche in caso di maltempo d
 urante la giornata (ingresso libero) v
ATTACH;FMTTYPE=image/jpeg:https://lazioeventi.com/wp-content/uploads/2019/
 03/asparago-montopoli.jpg
CATEGORIES:Sagre, Gastronomia e Tradizioni nel Lazio
LOCATION:Montopoli di Sabina\, Comune\, Montopoli di Sabina\, Rieti\, Lazio
 \, Italia
GEO:42.2448;12.6918
X-APPLE-STRUCTURED-LOCATION;VALUE=URI;X-ADDRESS=Comune\, Montopoli di Sabin
 a\, Rieti\, Lazio\, Italia;X-APPLE-RADIUS=100;X-TITLE=Montopoli di Sabina:
 geo:42.2448,12.6918
END:VEVENT
END:VCALENDAR